BEGIN:VCALENDAR
VERSION:2.0
PRODID:-//Miejski Ośrodek Kultury w Szczecinie - ECPv6.15.20//NONSGML v1.0//EN
CALSCALE:GREGORIAN
METHOD:PUBLISH
X-WR-CALNAME:Miejski Ośrodek Kultury w Szczecinie
X-ORIGINAL-URL:https://mok.szczecin.pl
X-WR-CALDESC:Wydarzenia dla Miejski Ośrodek Kultury w Szczecinie
REFRESH-INTERVAL;VALUE=DURATION:PT1H
X-Robots-Tag:noindex
X-PUBLISHED-TTL:PT1H
BEGIN:VTIMEZONE
TZID:Europe/Warsaw
BEGIN:DAYLIGHT
TZOFFSETFROM:+0100
TZOFFSETTO:+0200
TZNAME:CEST
DTSTART:20250330T010000
END:DAYLIGHT
BEGIN:STANDARD
TZOFFSETFROM:+0200
TZOFFSETTO:+0100
TZNAME:CET
DTSTART:20251026T010000
END:STANDARD
BEGIN:DAYLIGHT
TZOFFSETFROM:+0100
TZOFFSETTO:+0200
TZNAME:CEST
DTSTART:20260329T010000
END:DAYLIGHT
BEGIN:STANDARD
TZOFFSETFROM:+0200
TZOFFSETTO:+0100
TZNAME:CET
DTSTART:20261025T010000
END:STANDARD
BEGIN:DAYLIGHT
TZOFFSETFROM:+0100
TZOFFSETTO:+0200
TZNAME:CEST
DTSTART:20270328T010000
END:DAYLIGHT
BEGIN:STANDARD
TZOFFSETFROM:+0200
TZOFFSETTO:+0100
TZNAME:CET
DTSTART:20271031T010000
END:STANDARD
END:VTIMEZONE
BEGIN:VEVENT
DTSTART;TZID=Europe/Warsaw:20260202T170000
DTEND;TZID=Europe/Warsaw:20260202T190000
DTSTAMP:20260421T121951
CREATED:20260123T091041Z
LAST-MODIFIED:20260123T093429Z
UID:3022-1770051600-1770058800@mok.szczecin.pl
SUMMARY:Temat na warsztacie |  Sgraffito na ciemnych glinach
DESCRIPTION:Zapraszamy na tematyczne zajęcia ceramiczne\, podczas których wszyscy uczestnicy realizują jeden\, wyznaczony przez instruktora temat. \nZajęcia prowadzone są krok po kroku\, z dokładnym instruktażem\, dzięki czemu zarówno osoby początkujące\, jak i bardziej zaawansowane mogą swobodnie pracować i rozwijać swoje umiejętności. \nWarsztaty przeznaczone są dla młodzieży 15+ i osób dorosłych. \nKoszt: 120 zł. \nZapisy prowadzi sekretariat MOK:\nzadzwoń: 91 46 91 639\nlub napisz: sekretariat@mok.szczecin.pl \nPodczas pierwszych zajęć będziemy tworzyć różnokolorowe sgraffito na ciemnych glinach\, wykorzystując gotowe szablony. Istnieje również możliwość realizacji własnego projektu – w takim przypadku prosimy o zabranie ze sobą uproszczonego\, linearnego rysunku w formacie A4. \nZajęcia mają charakter jednorazowy – na jednych zajęciach wykonujemy prace zgodnie z wybranym tematem. Termin odbioru gotowych prac zostanie ustalony z prowadzącym podczas spotkania. \nWarsztaty poprowadzi Małgorzata Krzakowska.
URL:https://mok.szczecin.pl/wydarzenie/temat-na-warsztacie-sgraffito-na-ciemnych-glinach/
LOCATION:Miejski Ośrodek Kultury\, ul. Goleniowska 67\, Szczecin\, 70-847
CATEGORIES:Wydarzenia
ATTACH;FMTTYPE=image/jpeg:https://mok.szczecin.pl/wp-content/uploads/2026/01/IMG_20250728_195923-1-scaled.jpg
END:VEVENT
END:VCALENDAR