BEGIN:VCALENDAR
VERSION:2.0
PRODID:-//Miejski Ośrodek Kultury w Szczecinie - ECPv6.15.20//NONSGML v1.0//EN
CALSCALE:GREGORIAN
METHOD:PUBLISH
X-WR-CALNAME:Miejski Ośrodek Kultury w Szczecinie
X-ORIGINAL-URL:https://mok.szczecin.pl
X-WR-CALDESC:Wydarzenia dla Miejski Ośrodek Kultury w Szczecinie
REFRESH-INTERVAL;VALUE=DURATION:PT1H
X-Robots-Tag:noindex
X-PUBLISHED-TTL:PT1H
BEGIN:VTIMEZONE
TZID:Europe/Warsaw
BEGIN:DAYLIGHT
TZOFFSETFROM:+0100
TZOFFSETTO:+0200
TZNAME:CEST
DTSTART:20250330T010000
END:DAYLIGHT
BEGIN:STANDARD
TZOFFSETFROM:+0200
TZOFFSETTO:+0100
TZNAME:CET
DTSTART:20251026T010000
END:STANDARD
BEGIN:DAYLIGHT
TZOFFSETFROM:+0100
TZOFFSETTO:+0200
TZNAME:CEST
DTSTART:20260329T010000
END:DAYLIGHT
BEGIN:STANDARD
TZOFFSETFROM:+0200
TZOFFSETTO:+0100
TZNAME:CET
DTSTART:20261025T010000
END:STANDARD
BEGIN:DAYLIGHT
TZOFFSETFROM:+0100
TZOFFSETTO:+0200
TZNAME:CEST
DTSTART:20270328T010000
END:DAYLIGHT
BEGIN:STANDARD
TZOFFSETFROM:+0200
TZOFFSETTO:+0100
TZNAME:CET
DTSTART:20271031T010000
END:STANDARD
END:VTIMEZONE
BEGIN:VEVENT
DTSTART;TZID=Europe/Warsaw:20260317T173000
DTEND;TZID=Europe/Warsaw:20260317T193000
DTSTAMP:20260420T105128
CREATED:20260219T140751Z
LAST-MODIFIED:20260219T140953Z
UID:3247-1773768600-1773775800@mok.szczecin.pl
SUMMARY:Sztuka spokoju | Makramowa siatka na zakupy
DESCRIPTION:Chcesz stworzyć coś pięknego własnymi rękami i poczuć wiosenną energię w domu? Dołącz do naszych warsztatów makramy dla początkujących!\nWe wtorek\, 17 marca odbędą się zajęcia rękodzielnicze z Malwiną Kołtuniak – twórczynią i animatorką kultury. \nBilety w cenie 50 zł – do nabycia na portalu kicket.pl \nPodczas spotkania nauczysz się prostych węzłów płaskich\, które pozwolą Ci stworzyć stylową makramową siatkę – idealną na zakupy\, do ogrodu czy jako dekorację wnętrza.\nNie potrzebujesz żadnego doświadczenia – podczas spotkania krok po kroku dowiesz się wszystkiego\, co powinnaś wiedzieć\, żeby samodzielnie upleść swoją pierwszą siatkę. \nCo zyskasz:\n– praktyczne umiejętności węzłów płaskich\n– własnoręcznie wykonaną\, funkcjonalną siatkę\n– relaks i twórczą zabawę w wiosennym klimacie \nJeśli szukasz momentu wytchnienia w ciągu intensywnego tygodnia i lubisz działania manualne – to spotkanie jest dla Ciebie! Przyjdź\, złap wiosnę w swoje ręce i stwórz coś wyjątkowego! \n  \nfot. Katarzyna Bazylińska
URL:https://mok.szczecin.pl/wydarzenie/sztuka-spokoju-makramowa-siatka-na-zakupy/
LOCATION:Klub Delta\, ul. Racławicka 10\, Szczecin\, 70-811\, Poland
CATEGORIES:Wydarzenia
ATTACH;FMTTYPE=image/jpeg:https://mok.szczecin.pl/wp-content/uploads/2026/02/motki_fot.kb_-scaled-e1771510045960.jpg
END:VEVENT
END:VCALENDAR