BEGIN:VCALENDAR
VERSION:2.0
PRODID:-//Miejski Ośrodek Kultury w Szczecinie - ECPv6.15.20//NONSGML v1.0//EN
CALSCALE:GREGORIAN
METHOD:PUBLISH
X-WR-CALNAME:Miejski Ośrodek Kultury w Szczecinie
X-ORIGINAL-URL:https://mok.szczecin.pl
X-WR-CALDESC:Wydarzenia dla Miejski Ośrodek Kultury w Szczecinie
REFRESH-INTERVAL;VALUE=DURATION:PT1H
X-Robots-Tag:noindex
X-PUBLISHED-TTL:PT1H
BEGIN:VTIMEZONE
TZID:Europe/Warsaw
BEGIN:DAYLIGHT
TZOFFSETFROM:+0100
TZOFFSETTO:+0200
TZNAME:CEST
DTSTART:20250330T010000
END:DAYLIGHT
BEGIN:STANDARD
TZOFFSETFROM:+0200
TZOFFSETTO:+0100
TZNAME:CET
DTSTART:20251026T010000
END:STANDARD
BEGIN:DAYLIGHT
TZOFFSETFROM:+0100
TZOFFSETTO:+0200
TZNAME:CEST
DTSTART:20260329T010000
END:DAYLIGHT
BEGIN:STANDARD
TZOFFSETFROM:+0200
TZOFFSETTO:+0100
TZNAME:CET
DTSTART:20261025T010000
END:STANDARD
BEGIN:DAYLIGHT
TZOFFSETFROM:+0100
TZOFFSETTO:+0200
TZNAME:CEST
DTSTART:20270328T010000
END:DAYLIGHT
BEGIN:STANDARD
TZOFFSETFROM:+0200
TZOFFSETTO:+0100
TZNAME:CET
DTSTART:20271031T010000
END:STANDARD
END:VTIMEZONE
BEGIN:VEVENT
DTSTART;TZID=Europe/Warsaw:20260419T160000
DTEND;TZID=Europe/Warsaw:20260419T180000
DTSTAMP:20260421T104540
CREATED:20260330T142349Z
LAST-MODIFIED:20260330T184307Z
UID:3955-1776614400-1776621600@mok.szczecin.pl
SUMMARY:Śniadanie u Tiffany'ego | Kulturalni w rozrywce - młodzieżowe spotkania filmowe
DESCRIPTION:Kulturalni w rozrywce to projekt społeczny\, realizowany przez młodzież dla młodzieży.\nSą to cykliczne spotkania filmowe\, na których wyświetlane będą klasyki kina. \nProjekt tworzony jest z myślą o młodzieży\, jednak mile widziani są wszyscy zainteresowani.  \nProjekt Kulturalni w rozrywce w założeniach ma dać młodym ludziom okazję do spotkań i poznawania nowych osób\, a także do spędzania czasu wolnego w wartościowy sposób. \nNajbliższy seans filmowy: Śniadanie u Tiffany’ego odbędzie się w Klubie Delta w niedzielę 19 kwietnia o godz. 16.00. \nWstęp na seans jest bezpłatny.\nSeanse realizowane są w ramach projektu społecznego „Zwolnieni z teorii”.
URL:https://mok.szczecin.pl/wydarzenie/sniadanie-u-tiffanyego-kulturalni-w-rozrywce-mlodziezowe-spotkania-filmowe/
LOCATION:Klub Delta\, ul. Racławicka 10\, Szczecin\, 70-811\, Poland
CATEGORIES:Wydarzenia
ATTACH;FMTTYPE=image/jpeg:https://mok.szczecin.pl/wp-content/uploads/2026/03/snaidanie-5-1200x675-1.jpg
END:VEVENT
END:VCALENDAR