BEGIN:VCALENDAR
VERSION:2.0
PRODID:-//Miejski Ośrodek Kultury w Szczecinie - ECPv6.15.20//NONSGML v1.0//EN
CALSCALE:GREGORIAN
METHOD:PUBLISH
X-WR-CALNAME:Miejski Ośrodek Kultury w Szczecinie
X-ORIGINAL-URL:https://mok.szczecin.pl
X-WR-CALDESC:Wydarzenia dla Miejski Ośrodek Kultury w Szczecinie
REFRESH-INTERVAL;VALUE=DURATION:PT1H
X-Robots-Tag:noindex
X-PUBLISHED-TTL:PT1H
BEGIN:VTIMEZONE
TZID:Europe/Warsaw
BEGIN:DAYLIGHT
TZOFFSETFROM:+0100
TZOFFSETTO:+0200
TZNAME:CEST
DTSTART:20240331T010000
END:DAYLIGHT
BEGIN:STANDARD
TZOFFSETFROM:+0200
TZOFFSETTO:+0100
TZNAME:CET
DTSTART:20241027T010000
END:STANDARD
BEGIN:DAYLIGHT
TZOFFSETFROM:+0100
TZOFFSETTO:+0200
TZNAME:CEST
DTSTART:20250330T010000
END:DAYLIGHT
BEGIN:STANDARD
TZOFFSETFROM:+0200
TZOFFSETTO:+0100
TZNAME:CET
DTSTART:20251026T010000
END:STANDARD
BEGIN:DAYLIGHT
TZOFFSETFROM:+0100
TZOFFSETTO:+0200
TZNAME:CEST
DTSTART:20260329T010000
END:DAYLIGHT
BEGIN:STANDARD
TZOFFSETFROM:+0200
TZOFFSETTO:+0100
TZNAME:CET
DTSTART:20261025T010000
END:STANDARD
END:VTIMEZONE
BEGIN:VEVENT
DTSTART;TZID=Europe/Warsaw:20251212T180000
DTEND;TZID=Europe/Warsaw:20251212T180000
DTSTAMP:20260421T184612
CREATED:20251207T115525Z
LAST-MODIFIED:20251207T115525Z
UID:2520-1765562400-1765562400@mok.szczecin.pl
SUMMARY:Mikrofestiwal Sztuki i Słowa - wystawa
DESCRIPTION:Wystawa wieńcząca Mikrofestiwal Sztuki i Słowa\, organizowany przez Fundację Możesz. W trakcie wystawy zaprezentowane zostaną prace\, powstałe podczas warsztatów\, odbywających się w dniach 8-11 grudnia w siedzibie Fundacji. \nMikrofestiwal Sztuki i Słowa to wydarzenie\, w którym każdy może tworzyć\, wyrażać siebie i spotkać innych mieszkańców.\nMotywem festiwalu jest wolność tworzenia czyli swoboda w wyrażaniu swoich myśli\, emocji i historii.\nMikrofestiwal jest dla wszystkich mieszkańców Szczecina\, a zwłaszcza Prawobrzeża. Dla dorosłych\, młodzieży (od 16 roku życia) i rodzin. Dla osób\, które lubią sztukę i dla tych\, które dopiero chcą jej spróbować. Dla osób aktywnych kulturalnie i dla tych\, które mają ograniczony dostęp do wydarzeń artystycznych. To przestrzeń dla osób z niepełnosprawnościami\, seniorów i osoby zagrożone wykluczeniem społecznym. \nWięcej informacji o Mikrofestiwalu\, w tym formularz zapisów na warsztaty\, znajdziecie na stronie internetowej Fundacji Możesz. \nProjekt „Na Marginesie – Mikrofestiwal sztuki i słowa” jest realizowany przez Fundację MOŻESZ oraz jest współfinansowany ze środków z budżetu Miasta Szczecin.
URL:https://mok.szczecin.pl/wydarzenie/mikrofestiwal-sztuki-i-slowa-wystawa/
LOCATION:Klub Delta\, ul. Racławicka 10\, Szczecin\, 70-811\, Poland
CATEGORIES:Wydarzenia
ATTACH;FMTTYPE=image/png:https://mok.szczecin.pl/wp-content/uploads/2025/12/mikrofestiwal.png
ORGANIZER;CN="Fundacja Mo%C5%BCesz":MAILTO:recepcja@fundacjamozesz.org
END:VEVENT
END:VCALENDAR