BEGIN:VCALENDAR
VERSION:2.0
PRODID:-//Miejski Ośrodek Kultury w Szczecinie - ECPv6.15.20//NONSGML v1.0//EN
CALSCALE:GREGORIAN
METHOD:PUBLISH
X-WR-CALNAME:Miejski Ośrodek Kultury w Szczecinie
X-ORIGINAL-URL:https://mok.szczecin.pl
X-WR-CALDESC:Wydarzenia dla Miejski Ośrodek Kultury w Szczecinie
REFRESH-INTERVAL;VALUE=DURATION:PT1H
X-Robots-Tag:noindex
X-PUBLISHED-TTL:PT1H
BEGIN:VTIMEZONE
TZID:Europe/Warsaw
BEGIN:DAYLIGHT
TZOFFSETFROM:+0100
TZOFFSETTO:+0200
TZNAME:CEST
DTSTART:20250330T010000
END:DAYLIGHT
BEGIN:STANDARD
TZOFFSETFROM:+0200
TZOFFSETTO:+0100
TZNAME:CET
DTSTART:20251026T010000
END:STANDARD
BEGIN:DAYLIGHT
TZOFFSETFROM:+0100
TZOFFSETTO:+0200
TZNAME:CEST
DTSTART:20260329T010000
END:DAYLIGHT
BEGIN:STANDARD
TZOFFSETFROM:+0200
TZOFFSETTO:+0100
TZNAME:CET
DTSTART:20261025T010000
END:STANDARD
BEGIN:DAYLIGHT
TZOFFSETFROM:+0100
TZOFFSETTO:+0200
TZNAME:CEST
DTSTART:20270328T010000
END:DAYLIGHT
BEGIN:STANDARD
TZOFFSETFROM:+0200
TZOFFSETTO:+0100
TZNAME:CET
DTSTART:20271031T010000
END:STANDARD
END:VTIMEZONE
BEGIN:VEVENT
DTSTART;TZID=Europe/Warsaw:20260323T180000
DTEND;TZID=Europe/Warsaw:20260323T180000
DTSTAMP:20260421T121557
CREATED:20260311T122216Z
LAST-MODIFIED:20260312T074044Z
UID:3468-1774288800-1774288800@mok.szczecin.pl
SUMMARY:Koncert Orkiestry Perkusyjnej Gamelan
DESCRIPTION:Zapraszamy na wyjątkowy koncert jedynej w Polsce Orkiestry Perkusyjnej Gamelan działającej w Polskim Stowarzyszeniu na rzecz Osób z Niepełnosprawnością Intelektualną Koło w Szczecinie. \nWyjątkowość tej orkiestry tworzą jej muzycy – osoby z niepełnosprawnością intelektualną\, które z ogromną pasją i zaangażowaniem dzielą się swoją muzyką z publicznością.\nTo niezwykłe spotkanie z dźwiękami instrumentów perkusyjnych\, pełne rytmu\, energii i pozytywnych emocji. \nZapraszamy wszystkich\, którzy chcą spędzić klimatyczny wieczór z muzyką i przeżyć coś naprawdę wyjątkowego!\nWstęp wolny. \nDziałanie współfinansowane ze środków PFRON.
URL:https://mok.szczecin.pl/wydarzenie/koncert-orkiestry-perkusyjnej-gamelan/
LOCATION:Klub Delta\, ul. Racławicka 10\, Szczecin\, 70-811\, Poland
ATTACH;FMTTYPE=image/jpeg:https://mok.szczecin.pl/wp-content/uploads/2026/03/TEST-26-4.Movie_Migawka-e1773231711718.jpg
END:VEVENT
END:VCALENDAR