BEGIN:VCALENDAR
VERSION:2.0
PRODID:-//Miejski Ośrodek Kultury w Szczecinie - ECPv6.15.20//NONSGML v1.0//EN
CALSCALE:GREGORIAN
METHOD:PUBLISH
X-WR-CALNAME:Miejski Ośrodek Kultury w Szczecinie
X-ORIGINAL-URL:https://mok.szczecin.pl
X-WR-CALDESC:Wydarzenia dla Miejski Ośrodek Kultury w Szczecinie
REFRESH-INTERVAL;VALUE=DURATION:PT1H
X-Robots-Tag:noindex
X-PUBLISHED-TTL:PT1H
BEGIN:VTIMEZONE
TZID:Europe/Warsaw
BEGIN:DAYLIGHT
TZOFFSETFROM:+0100
TZOFFSETTO:+0200
TZNAME:CEST
DTSTART:20250330T010000
END:DAYLIGHT
BEGIN:STANDARD
TZOFFSETFROM:+0200
TZOFFSETTO:+0100
TZNAME:CET
DTSTART:20251026T010000
END:STANDARD
BEGIN:DAYLIGHT
TZOFFSETFROM:+0100
TZOFFSETTO:+0200
TZNAME:CEST
DTSTART:20260329T010000
END:DAYLIGHT
BEGIN:STANDARD
TZOFFSETFROM:+0200
TZOFFSETTO:+0100
TZNAME:CET
DTSTART:20261025T010000
END:STANDARD
BEGIN:DAYLIGHT
TZOFFSETFROM:+0100
TZOFFSETTO:+0200
TZNAME:CEST
DTSTART:20270328T010000
END:DAYLIGHT
BEGIN:STANDARD
TZOFFSETFROM:+0200
TZOFFSETTO:+0100
TZNAME:CET
DTSTART:20271031T010000
END:STANDARD
END:VTIMEZONE
BEGIN:VEVENT
DTSTART;TZID=Europe/Warsaw:20260521T173000
DTEND;TZID=Europe/Warsaw:20260521T200000
DTSTAMP:20260422T151944
CREATED:20260422T093045Z
LAST-MODIFIED:20260422T093045Z
UID:4365-1779384600-1779393600@mok.szczecin.pl
SUMMARY:Kobieta i mężczyzna | Kino w Klubie Delta
DESCRIPTION:Kobieta i mężczyzna (Un homme et une femme\, Francja 1966\, 102’) \nREŻYSERIA: Claude Lelouch \nOBSADA: Anouk Aimée\, Jean-Louis Trintignant \nNa chwilę przed zakończeniem 79. Międzynarodowego Festiwalu Filmowego w Cannes\, powracamy do pamiętnej produkcji\, która triumfowała na tym festiwalu 60 lat temu. \nFilm Claude’a Leloucha „Kobieta i mężczyzna” opowiada historię młodej wdowy\, Anne – asystentki reżysera oraz kierowcy samochodu wyścigowego\, Jean-Louisa. Jej mąż\, kaskader filmowy\, zginął na planie podczas kręcenia filmu. Jego żona popełniła samobójstwo\, gdy on sam po wypadku samochodowym znalazł się w fatalnym stanie na ostrym dyżurze. Oboje wpadają na siebie w szkole w Deauville. Kolejny przypadek sprawia\, że Anne spóźnia się na pociąg do domu i wraca do Paryża wspólnie z Jean-Louisem. Ich zainteresowanie sobą nawzajem jest natychmiastowe. Niedawne wydarzenia nie pozwalają jednak Anne na oddanie się uczuciu do innego mężczyzny – miłość do zmarłego męża jest wciąż żywa\, a ból po stracie podsycany poczuciem winy. Po pierwszej wspólnej nocy Anne zaczynają trawić wyrzuty sumienia\, postanawia skończyć relację z Jean-Louisem. Film Claude’a Leloucha jest w niezwykły sposób opowiedziany obrazem – barwne sekwencje przeplatają się z czarno-białymi ujęciami\, niektóre sceny toną w ciepłym odcieniu sepii. Reżyser często rezygnuje ze zbędnych słów\, preferuje narrację z offu. Specyficznego\, melancholijnego charakteru dodaje produkcji ścieżka dźwiękowa Francisa Lai. Film został nagrodzony m.in Złotą Palmą na MFF w Cannes oraz Oscarem dla Najlepszego Filmu Nieanglojęzycznego w 1966 roku. \nPrzed filmami tradycyjne wprowadzenia Krzysztofa Spóra – dziennikarza filmowego\, które przybliżą miejsce tych produkcji w 130-letniej historii kina.
URL:https://mok.szczecin.pl/wydarzenie/kobieta-i-mezczyzna-kino-w-klubie-delta/
LOCATION:Klub Delta\, ul. Racławicka 10\, Szczecin\, 70-811\, Poland
CATEGORIES:Wydarzenia
ATTACH;FMTTYPE=image/png:https://mok.szczecin.pl/wp-content/uploads/2026/04/A_MAN_AND_A_WOMAN_slideshow_1.png
END:VEVENT
END:VCALENDAR