BEGIN:VCALENDAR
VERSION:2.0
PRODID:-//Miejski Ośrodek Kultury w Szczecinie - ECPv6.15.20//NONSGML v1.0//EN
CALSCALE:GREGORIAN
METHOD:PUBLISH
X-WR-CALNAME:Miejski Ośrodek Kultury w Szczecinie
X-ORIGINAL-URL:https://mok.szczecin.pl
X-WR-CALDESC:Wydarzenia dla Miejski Ośrodek Kultury w Szczecinie
REFRESH-INTERVAL;VALUE=DURATION:PT1H
X-Robots-Tag:noindex
X-PUBLISHED-TTL:PT1H
BEGIN:VTIMEZONE
TZID:Europe/Warsaw
BEGIN:DAYLIGHT
TZOFFSETFROM:+0100
TZOFFSETTO:+0200
TZNAME:CEST
DTSTART:20250330T010000
END:DAYLIGHT
BEGIN:STANDARD
TZOFFSETFROM:+0200
TZOFFSETTO:+0100
TZNAME:CET
DTSTART:20251026T010000
END:STANDARD
BEGIN:DAYLIGHT
TZOFFSETFROM:+0100
TZOFFSETTO:+0200
TZNAME:CEST
DTSTART:20260329T010000
END:DAYLIGHT
BEGIN:STANDARD
TZOFFSETFROM:+0200
TZOFFSETTO:+0100
TZNAME:CET
DTSTART:20261025T010000
END:STANDARD
BEGIN:DAYLIGHT
TZOFFSETFROM:+0100
TZOFFSETTO:+0200
TZNAME:CEST
DTSTART:20270328T010000
END:DAYLIGHT
BEGIN:STANDARD
TZOFFSETFROM:+0200
TZOFFSETTO:+0100
TZNAME:CET
DTSTART:20271031T010000
END:STANDARD
END:VTIMEZONE
BEGIN:VEVENT
DTSTART;TZID=Europe/Warsaw:20260425T120000
DTEND;TZID=Europe/Warsaw:20260425T150000
DTSTAMP:20260421T181158
CREATED:20260421T125331Z
LAST-MODIFIED:20260421T125331Z
UID:4350-1777118400-1777129200@mok.szczecin.pl
SUMMARY:Klub szachowy
DESCRIPTION:Zapraszamy na pierwsze spotkanie Klubu szachowego\, które odbędzie się 25 kwietnia (sobota) w Café Przyjaźń w godzinach 12:00-15:00. \nWażne informacje: \n\nzapraszamy osoby w każdym wieku/bez ograniczeń wiekowych\nz umiejętnościami i znajomością zasad gry w szachy\nmożna przynieść swoje szachy\nbędą też szachy dostępne na miejscu\nspotkania będą odbywały się nieodpłatnie\n\nSzachiści z Dąbia i okolic\, do zobaczenia!
URL:https://mok.szczecin.pl/wydarzenie/klub-szachowy/
LOCATION:Klub Delta\, ul. Racławicka 10\, Szczecin\, 70-811\, Poland
CATEGORIES:Wydarzenia
ATTACH;FMTTYPE=image/jpeg:https://mok.szczecin.pl/wp-content/uploads/2026/04/ha11ok-chess-1215079-1-scaled-e1776775310267.jpg
END:VEVENT
END:VCALENDAR