BEGIN:VCALENDAR
VERSION:2.0
PRODID:-//Miejski Ośrodek Kultury w Szczecinie - ECPv6.15.20//NONSGML v1.0//EN
CALSCALE:GREGORIAN
METHOD:PUBLISH
X-WR-CALNAME:Miejski Ośrodek Kultury w Szczecinie
X-ORIGINAL-URL:https://mok.szczecin.pl
X-WR-CALDESC:Wydarzenia dla Miejski Ośrodek Kultury w Szczecinie
REFRESH-INTERVAL;VALUE=DURATION:PT1H
X-Robots-Tag:noindex
X-PUBLISHED-TTL:PT1H
BEGIN:VTIMEZONE
TZID:Europe/Warsaw
BEGIN:DAYLIGHT
TZOFFSETFROM:+0100
TZOFFSETTO:+0200
TZNAME:CEST
DTSTART:20250330T010000
END:DAYLIGHT
BEGIN:STANDARD
TZOFFSETFROM:+0200
TZOFFSETTO:+0100
TZNAME:CET
DTSTART:20251026T010000
END:STANDARD
BEGIN:DAYLIGHT
TZOFFSETFROM:+0100
TZOFFSETTO:+0200
TZNAME:CEST
DTSTART:20260329T010000
END:DAYLIGHT
BEGIN:STANDARD
TZOFFSETFROM:+0200
TZOFFSETTO:+0100
TZNAME:CET
DTSTART:20261025T010000
END:STANDARD
BEGIN:DAYLIGHT
TZOFFSETFROM:+0100
TZOFFSETTO:+0200
TZNAME:CEST
DTSTART:20270328T010000
END:DAYLIGHT
BEGIN:STANDARD
TZOFFSETFROM:+0200
TZOFFSETTO:+0100
TZNAME:CET
DTSTART:20271031T010000
END:STANDARD
END:VTIMEZONE
BEGIN:VEVENT
DTSTART;TZID=Europe/Warsaw:20260409T173000
DTEND;TZID=Europe/Warsaw:20260409T193000
DTSTAMP:20260421T121948
CREATED:20260324T141346Z
LAST-MODIFIED:20260325T113536Z
UID:3590-1775755800-1775763000@mok.szczecin.pl
SUMMARY:Czekolada | Przegląd filmowy Kinokawiarnia Przyjaźń
DESCRIPTION:Przegląd filmowy Kinokawiarnia Przyjaźń to okazja do obejrzenia filmów w klubokawiarnianej atmosferze – przy filiżance kawy i kawałku pysznego ciasta. \nW czwartek 9 kwietnia o godz. 17:30 w Klubie Delta pokażemy film „Czekolada” (reż. Lasse Hallström). \nBilety w cenie 𝟏𝟓 𝐳ł/𝟏𝟎 𝐳ł – do kupienia na stronie internetowej MOK oraz przed seansem.\nCZEKOLADA (Chocolat\, USA/Wielka Brytania 2000\, 121’)\nREŻYSERIA: Lasse Hallström\nOBSADA: Juliette Binoche\, Johnny Depp\, Carrie-Anne Moss\, Lena Olin\, Judi Dench\, Alfred Molina \nFilm Czekolada oparty jest na powieści Joanne Harris o tym samym tytule. Opowiada on historię młodej matki\, Vianne Rocher (Juliette Binoche)\, która podróżuje po świecie\, sprzedając czekoladę. W 1959 roku przybywa do francuskiego miasteczka Lansquenet-sous-Tannes z sześcioletnią córką (Anouk) i otwiera Maya\, małą czekoladziarnię. Czekolada Vianne szybko zaczyna zmieniać życie mieszkańców. Nie podoba się to burmistrzowi\, którego rażą mocno liberalne poglądy Vianne – poprzysięga on sobie\, że zamknie sklep i wypędzi ją z miasteczka! Ale okazuje się to trudniejsze niż sądził – wewnętrzne ciepło sprzedawczyni i jej wspaniałe słodycze\, przysparzają jej w miasteczku sporo sojuszników… \nPrzed filmami tradycyjne wprowadzenia Krzysztofa Spóra – dziennikarza filmowego\, które przybliżą miejsce tych produkcji w 130-letniej historii kina.
URL:https://mok.szczecin.pl/wydarzenie/czekolada-przeglad-filmowy-kinokawiarnia-przyjazn/
LOCATION:Klub Delta\, ul. Racławicka 10\, Szczecin\, 70-811\, Poland
CATEGORIES:Wydarzenia
ATTACH;FMTTYPE=image/jpeg:https://mok.szczecin.pl/wp-content/uploads/2026/03/czeko-film-600x344-1-e1774008492114.jpg
END:VEVENT
END:VCALENDAR