BEGIN:VCALENDAR
VERSION:2.0
PRODID:-//Miejski Ośrodek Kultury w Szczecinie - ECPv6.15.20//NONSGML v1.0//EN
CALSCALE:GREGORIAN
METHOD:PUBLISH
X-WR-CALNAME:Miejski Ośrodek Kultury w Szczecinie
X-ORIGINAL-URL:https://mok.szczecin.pl
X-WR-CALDESC:Wydarzenia dla Miejski Ośrodek Kultury w Szczecinie
REFRESH-INTERVAL;VALUE=DURATION:PT1H
X-Robots-Tag:noindex
X-PUBLISHED-TTL:PT1H
BEGIN:VTIMEZONE
TZID:Europe/Warsaw
BEGIN:DAYLIGHT
TZOFFSETFROM:+0100
TZOFFSETTO:+0200
TZNAME:CEST
DTSTART:20240331T010000
END:DAYLIGHT
BEGIN:STANDARD
TZOFFSETFROM:+0200
TZOFFSETTO:+0100
TZNAME:CET
DTSTART:20241027T010000
END:STANDARD
BEGIN:DAYLIGHT
TZOFFSETFROM:+0100
TZOFFSETTO:+0200
TZNAME:CEST
DTSTART:20250330T010000
END:DAYLIGHT
BEGIN:STANDARD
TZOFFSETFROM:+0200
TZOFFSETTO:+0100
TZNAME:CET
DTSTART:20251026T010000
END:STANDARD
BEGIN:DAYLIGHT
TZOFFSETFROM:+0100
TZOFFSETTO:+0200
TZNAME:CEST
DTSTART:20260329T010000
END:DAYLIGHT
BEGIN:STANDARD
TZOFFSETFROM:+0200
TZOFFSETTO:+0100
TZNAME:CET
DTSTART:20261025T010000
END:STANDARD
END:VTIMEZONE
BEGIN:VEVENT
DTSTART;TZID=Europe/Warsaw:20251116T100000
DTEND;TZID=Europe/Warsaw:20251116T140000
DTSTAMP:20260421T171645
CREATED:20251115T152517Z
LAST-MODIFIED:20251121T200938Z
UID:10000006-1763287200-1763301600@mok.szczecin.pl
SUMMARY:Będzie Grane! Warsztaty dla młodzieży i dorosłych
DESCRIPTION:Zapraszamy na bezpłatne warsztaty improwizacji „Będzie grane!” Obiecujemy zero scenariusza\, 100% zabawy!\nWarsztaty improwizacji teatralnej to dynamiczne i angażujące spotkania\, które łączą elementy teatru\, spontanicznej zabawy i rozwoju osobistego. \nDla kogo?\nWarsztaty są otwarte dla wszystkich – zarówno dla osób\, które nigdy nie miały styczności z teatrem\, jak i tych\, które chcą pogłębić swoje umiejętności improwizacyjne.\nZapraszamy młodzież i dorosłych! \n23.11.2025 o godz. 17:00 odbędzie się pokaz finałowy warsztatów\, ale w innej lokalizacji: Klub Delta\, ul. Racławicka 10. \nLiczba uczestników: 10-20 osób \nWarsztaty są otwarte i bezpłatne\, ale obowiązują zapisy\, które prosimy kierować: biuro@klubdelta.pl \nUWAGA: Najlepiej byłoby\, żeby wszystkie zapisane osoby uczestniczyły we wszystkich dniach warsztatowych. Jeśli jednak udział w którymś z nich byłby problemem\, prosimy o taką informację. Udział w pokazie powarsztatowym jest OBOWIĄZKOWY! \nCo Cię czeka podczas warsztatów?\nPodczas zajęć uczestnicy wezmą udział w ćwiczeniach rozwijających kreatywność\, refleks oraz umiejętność swobodnego wyrażania siebie.\nPoprzez różnorodne gry improwizacyjne nauczą się budowania scenek bez scenariusza\, reagowania na nieoczekiwane sytuacje oraz współpracy w grupie. Nie zabraknie elementów ruchowych\, pracy z głosem i emocjami\, a wszystko to w atmosferze pełnej śmiechu i pozytywnej energii.\nWarsztaty pomogą przełamać tremę\, zwiększyć pewność siebie oraz otworzyć się na nowe doświadczenia. Na zakończenie uczestnicy będą mieli okazję sprawdzić swoje umiejętności w pokazie składającym się z krótkich scenek improwizowanych\, inspirowanych podpowiedziami od publiczności. To cykl spotkań dla każdego\, kto chce rozwinąć swoją spontaniczność\, dobrze się bawić i odkryć w sobie aktorską odwagę! \nPrzebieg zajęć:\n🔹 Krótkie ćwiczenia rozgrzewkowe (ruch\, ekspresja\, szybkie skojarzenia)\n🔹 Ćwiczenia improwizacyjne – budowanie scenek w duetach i grupach\n🔹 Gry teatralne rozwijające spontaniczność i kreatywność\n🔹 Finałowe wystąpienie – krótkie scenki na podstawie inspiracji od publiczności\nTo spotkania pełne śmiechu\, dobrej energii i twórczego rozwoju! \nCzego się nauczysz?\nJak reagować na zmieniające się sytuacje w sposób naturalny i twórczy\nJak budować historie „tu i teraz”\, nie mając gotowego scenariusza\nJak przełamać tremę i mówić swobodnie przed innymi\nJak współpracować z grupą i tworzyć scenki na bazie pomysłów innych osób \nKorzyści:\n1. Rozwój umiejętności interpersonalnych i społecznych\n✅ Lepsza komunikacja – Uczestnicy uczą się aktywnego słuchania\, wyrażania myśli i reagowania na innych.\n✅ Budowanie pewności siebie – Przełamywanie tremy\, swobodniejsze wypowiadanie się w grupie.\n✅ Praca w zespole – Warsztaty rozwijają umiejętność współdziałania i wspólnego tworzenia scen. \n2. Rozwój kreatywności i spontaniczności\n✅ Myślenie poza schematami – Improwizacja uczy szybkiego znajdowania niestandardowych rozwiązań.\n✅ Zabawa wyobraźnią – Tworzenie scenek z minimalnymi rekwizytami\, rozwijanie narracji.\n✅ Elastyczność myślenia – Szybkie reagowanie na zmieniające się warunki. \n3. Wsparcie zdrowia psychicznego i emocjonalnego\n✅ Redukcja stresu i napięcia – Śmiech i swobodne działanie pomagają się odprężyć.\n✅ Budowanie samoakceptacji – Improwizacja uczy\, że błędy są częścią procesu i nie trzeba się ich bać.\n✅ Rozwijanie inteligencji emocjonalnej – Lepsze rozumienie własnych emocji i empatia wobec innych. \n4. Aktywizacja społeczności lokalnej\n✅ Integracja mieszkańców – Warsztaty mogą stać się okazją do poznania nowych osób i budowania lokalnych relacji.\n✅ Włączenie różnych grup wiekowych – Improwizacja świetnie łączy młodzież i dorosłych.\n✅ Ożywienie oferty kulturalnej ośrodka – Może stać się zalążkiem nowych\ninicjatyw teatralnych\, a nawet lokalnej grupy impro. \n5. Możliwości praktycznego wykorzystania umiejętności\n✅ Lepsza prezentacja publiczna – Przydatne dla uczniów\, nauczycieli\, przedsiębiorców\, urzędników.\n✅ Radzenie sobie w trudnych sytuacjach – Szybkie myślenie pomaga np. w rozmowach o pracę czy negocjacjach.\n✅ Nowe pasje i rozwój zawodowy – Może zachęcić do dalszego rozwoju w aktorstwie\, sztuce czy wystąpieniach publicznych. \nProwadząca:\nAgnieszka Górska – improwizatorka\, konferansjerka\, aktorka – amatorka\, na co dzień event manager w instytucji kultury oraz organizatorka spektakli improwizowanych\, prekursorka sztuki improwizacji w Szczecinie.\nTytan pracy\, zawodowa organizatorka czasu swojego i innych\, ogarniacz nad ogarniacze. Założycielka grupy improwizacyjnej „Pod Pretekstem”\, grupy działającej przez 7 lat! Ma za sobą ponad 100 występów „bez przygotowania”. Prowadząca warsztaty improwizacji dla takich firm jak Ikea\, ale również dla osadzonych w zakładzie karnym. Uczęszczała na zajęcia do instruktorów z Polski\, Włoch czy Francji. Występuje na scenie zamiast scenariusza mając do dyspozycji niekiedy tylko jedną sugestię publiczności. \nDziałanie odbywa się w ramach projektu „Od kultury do przyjaźni”. Dofinansowano ze środków Gminy Miasto Szczecin.
URL:https://mok.szczecin.pl/wydarzenie/bedzie-grane-warsztaty-dla-mlodziezy-i-doroslych/
LOCATION:Miejski Ośrodek Kultury\, ul. Goleniowska 67\, Szczecin\, 70-847
CATEGORIES:Warsztaty
ATTACH;FMTTYPE=image/jpeg:https://mok.szczecin.pl/wp-content/uploads/2025/11/557597267_10232144872380849_1646534074001070786_n.jpg
ORGANIZER;CN="Miejski O%C5%9Brodek Kultury w Szczecinie":MAILTO:sekretariat@mok.szczecin.pl
END:VEVENT
BEGIN:VEVENT
DTSTART;TZID=Europe/Warsaw:20251122T100000
DTEND;TZID=Europe/Warsaw:20251122T140000
DTSTAMP:20260421T171645
CREATED:20251115T153542Z
LAST-MODIFIED:20251121T201013Z
UID:10000007-1763805600-1763820000@mok.szczecin.pl
SUMMARY:Będzie Grane! Warsztaty dla młodzieży i dorosłych
DESCRIPTION:Zapraszamy na bezpłatne warsztaty improwizacji „Będzie grane!” Obiecujemy zero scenariusza\, 100% zabawy!\nWarsztaty improwizacji teatralnej to dynamiczne i angażujące spotkania\, które łączą elementy teatru\, spontanicznej zabawy i rozwoju osobistego. \nDla kogo?\nWarsztaty są otwarte dla wszystkich – zarówno dla osób\, które nigdy nie miały styczności z teatrem\, jak i tych\, które chcą pogłębić swoje umiejętności improwizacyjne.\nZapraszamy młodzież i dorosłych! \n23.11.2025 o godz. 17:00 odbędzie się pokaz finałowy warsztatów\, ale w innej lokalizacji: Klub Delta\, ul. Racławicka 10. \nLiczba uczestników: 10-20 osób \nWarsztaty są otwarte i bezpłatne\, ale obowiązują zapisy\, które prosimy kierować: biuro@klubdelta.pl \nUWAGA: Najlepiej byłoby\, żeby wszystkie zapisane osoby uczestniczyły we wszystkich dniach warsztatowych. Jeśli jednak udział w którymś z nich byłby problemem\, prosimy o taką informację. Udział w pokazie powarsztatowym jest OBOWIĄZKOWY! \nCo Cię czeka podczas warsztatów?\nPodczas zajęć uczestnicy wezmą udział w ćwiczeniach rozwijających kreatywność\, refleks oraz umiejętność swobodnego wyrażania siebie.\nPoprzez różnorodne gry improwizacyjne nauczą się budowania scenek bez scenariusza\, reagowania na nieoczekiwane sytuacje oraz współpracy w grupie. Nie zabraknie elementów ruchowych\, pracy z głosem i emocjami\, a wszystko to w atmosferze pełnej śmiechu i pozytywnej energii.\nWarsztaty pomogą przełamać tremę\, zwiększyć pewność siebie oraz otworzyć się na nowe doświadczenia. Na zakończenie uczestnicy będą mieli okazję sprawdzić swoje umiejętności w pokazie składającym się z krótkich scenek improwizowanych\, inspirowanych podpowiedziami od publiczności. To cykl spotkań dla każdego\, kto chce rozwinąć swoją spontaniczność\, dobrze się bawić i odkryć w sobie aktorską odwagę! \nPrzebieg zajęć:\n🔹 Krótkie ćwiczenia rozgrzewkowe (ruch\, ekspresja\, szybkie skojarzenia)\n🔹 Ćwiczenia improwizacyjne – budowanie scenek w duetach i grupach\n🔹 Gry teatralne rozwijające spontaniczność i kreatywność\n🔹 Finałowe wystąpienie – krótkie scenki na podstawie inspiracji od publiczności\nTo spotkania pełne śmiechu\, dobrej energii i twórczego rozwoju! \nCzego się nauczysz?\nJak reagować na zmieniające się sytuacje w sposób naturalny i twórczy\nJak budować historie „tu i teraz”\, nie mając gotowego scenariusza\nJak przełamać tremę i mówić swobodnie przed innymi\nJak współpracować z grupą i tworzyć scenki na bazie pomysłów innych osób \nKorzyści:\n1. Rozwój umiejętności interpersonalnych i społecznych\n✅ Lepsza komunikacja – Uczestnicy uczą się aktywnego słuchania\, wyrażania myśli i reagowania na innych.\n✅ Budowanie pewności siebie – Przełamywanie tremy\, swobodniejsze wypowiadanie się w grupie.\n✅ Praca w zespole – Warsztaty rozwijają umiejętność współdziałania i wspólnego tworzenia scen. \n2. Rozwój kreatywności i spontaniczności\n✅ Myślenie poza schematami – Improwizacja uczy szybkiego znajdowania niestandardowych rozwiązań.\n✅ Zabawa wyobraźnią – Tworzenie scenek z minimalnymi rekwizytami\, rozwijanie narracji.\n✅ Elastyczność myślenia – Szybkie reagowanie na zmieniające się warunki. \n3. Wsparcie zdrowia psychicznego i emocjonalnego\n✅ Redukcja stresu i napięcia – Śmiech i swobodne działanie pomagają się odprężyć.\n✅ Budowanie samoakceptacji – Improwizacja uczy\, że błędy są częścią procesu i nie trzeba się ich bać.\n✅ Rozwijanie inteligencji emocjonalnej – Lepsze rozumienie własnych emocji i empatia wobec innych. \n4. Aktywizacja społeczności lokalnej\n✅ Integracja mieszkańców – Warsztaty mogą stać się okazją do poznania nowych osób i budowania lokalnych relacji.\n✅ Włączenie różnych grup wiekowych – Improwizacja świetnie łączy młodzież i dorosłych.\n✅ Ożywienie oferty kulturalnej ośrodka – Może stać się zalążkiem nowych\ninicjatyw teatralnych\, a nawet lokalnej grupy impro. \n5. Możliwości praktycznego wykorzystania umiejętności\n✅ Lepsza prezentacja publiczna – Przydatne dla uczniów\, nauczycieli\, przedsiębiorców\, urzędników.\n✅ Radzenie sobie w trudnych sytuacjach – Szybkie myślenie pomaga np. w rozmowach o pracę czy negocjacjach.\n✅ Nowe pasje i rozwój zawodowy – Może zachęcić do dalszego rozwoju w aktorstwie\, sztuce czy wystąpieniach publicznych. \nProwadząca:\nAgnieszka Górska – improwizatorka\, konferansjerka\, aktorka – amatorka\, na co dzień event manager w instytucji kultury oraz organizatorka spektakli improwizowanych\, prekursorka sztuki improwizacji w Szczecinie.\nTytan pracy\, zawodowa organizatorka czasu swojego i innych\, ogarniacz nad ogarniacze. Założycielka grupy improwizacyjnej „Pod Pretekstem”\, grupy działającej przez 7 lat! Ma za sobą ponad 100 występów „bez przygotowania”. Prowadząca warsztaty improwizacji dla takich firm jak Ikea\, ale również dla osadzonych w zakładzie karnym. Uczęszczała na zajęcia do instruktorów z Polski\, Włoch czy Francji. Występuje na scenie zamiast scenariusza mając do dyspozycji niekiedy tylko jedną sugestię publiczności. \nDziałanie odbywa się w ramach projektu „Od kultury do przyjaźni”. Dofinansowano ze środków Gminy Miasto Szczecin.
URL:https://mok.szczecin.pl/wydarzenie/bedzie-grane-warsztaty-dla-mlodziezy-i-doroslych-2/
LOCATION:Miejski Ośrodek Kultury\, ul. Goleniowska 67\, Szczecin\, 70-847
CATEGORIES:Wydarzenia
ATTACH;FMTTYPE=image/jpeg:https://mok.szczecin.pl/wp-content/uploads/2025/11/557597267_10232144872380849_1646534074001070786_n.jpg
ORGANIZER;CN="Miejski O%C5%9Brodek Kultury w Szczecinie":MAILTO:sekretariat@mok.szczecin.pl
END:VEVENT
BEGIN:VEVENT
DTSTART;TZID=Europe/Warsaw:20251122T180000
DTEND;TZID=Europe/Warsaw:20251122T180000
DTSTAMP:20260421T171645
CREATED:20251121T153119Z
LAST-MODIFIED:20251121T201231Z
UID:10000009-1763834400-1763834400@mok.szczecin.pl
SUMMARY:Szczecin od podwórka – tożsamość miasta | film i spotkanie z Anną Koc
DESCRIPTION:Jak wygląda Szczecin\, gdy spojrzymy na niego od podwórka – przez historie jego mieszkańców\, lokalnych pasjonatów i strażników pamięci dawnych dzielnic? Podczas spotkania z Anną Koc – dokumentalistką i autorką filmów o mieście i jego historii – obejrzymy jej najnowszy film „Nowa Synagoga w Szczecinie”\, a także wybrane fragmenty wcześniejszych realizacji.Po projekcji porozmawiamy o tym\, jak opowiadać o miejscach\, które zniknęły z mapy\, ale wciąż istnieją w ludzkiej pamięci\, i o ludziach\, którzy tę pamięć pielęgnują. Wydarzenie to nie tylko spotkanie z filmem\, lecz także okazja do rozmowy o tożsamości Szczecina – miasta\, które wciąż na nowo odkrywa siebie. \nAnna Maria Koc – architektka\, scenografka i graficzka\, urodzona w Szczecinie. Absolwentka Liceum Plastycznego w Szczecinie oraz uczelni artystycznych w Poznaniu. Pracowała w dziedzinie architektury\, urbanistyki i projektowania wnętrz\, a od 2011 roku związana jest z przemysłem stoczniowym\, realizując międzynarodowe projekty w Skandynawii\, Włoszech\, Niemczech i Azji. Z pasji do grafiki 3D tworzy modele i animacje nieistniejących zabytków Szczecina\, przywracając pamięć o jego dawnym krajobrazie. Jest członkinią zarządu Stowarzyszenia Denkmal Pomorze\, które ratuje lokalne zabytki\, oraz autorką licznych inicjatyw popularyzujących historię miasta. Aktywna w szczecińskim środowisku kulturalnym – śpiewa w Chórze Concertino przy Książnicy Pomorskiej\, prowadzi grupy poświęcone dzielnicom Niemierzyn i Osów\, współtworzy portale historyczne i wystawy. \nSpotkanie poprowadzi Krzysztof Spór – dziennikarz filmowy\, publicysta i bloger\, członek polskiej komisji oscarowej.\n\nWstęp wolny! \nWydarzenie odbywa się w ramach projektu „80 lat kultury na obrzeżach”. Dofinansowano ze środków Gminy Miasto Szczecin.
URL:https://mok.szczecin.pl/wydarzenie/szczecin-od-podworka-tozsamosc-miasta-film-i-spotkanie-z-anna-koc/
LOCATION:Klub Delta\, ul. Racławicka 10\, Szczecin\, 70-811\, Poland
CATEGORIES:Wydarzenia
ATTACH;FMTTYPE=image/jpeg:https://mok.szczecin.pl/wp-content/uploads/2025/11/540458462_1520926292401969_2812287576069559367_n-e1763746885623.jpg
END:VEVENT
BEGIN:VEVENT
DTSTART;TZID=Europe/Warsaw:20251123T170000
DTEND;TZID=Europe/Warsaw:20251123T170000
DTSTAMP:20260421T171645
CREATED:20251121T175440Z
LAST-MODIFIED:20251121T201048Z
UID:10000010-1763917200-1763917200@mok.szczecin.pl
SUMMARY:Będzie Grane! Pokaz finałowy po warsztatach improwizacji teatralnej
DESCRIPTION:Zapraszamy na finałowy pokaz powarsztatowy\, który będzie zwieńczeniem zajęć prowadzonych przez Agnieszkę Górską. Przez trzy dni zajęć uczestnicy mieli możliwość nabywania i pogłębiania nowych umiejętności teatralno-improwizacyjnych.\nWarsztaty improwizacji teatralnej „Będzie Grane!” były dynamicznymi i angażującymi spotkaniami\, łączącymi elementy teatru\, spontanicznej zabawy i rozwoju osobistego.\n\nPokaz finałowy to krótkie scenki odegrane przez uczestników warsztatów na podstawie inspiracji od publiczności. To będzie prawdziwy test ich możliwości improwizacyjnych. \nPokaz ma charakter otwarty – wstęp wolny! \nWydarzenie odbywa się w ramach projektu „Od kultury do przyjaźni”. Dofinansowano ze środków Gminy Miasto Szczecin.
URL:https://mok.szczecin.pl/wydarzenie/2321/
LOCATION:Klub Delta\, ul. Racławicka 10\, Szczecin\, 70-811\, Poland
CATEGORIES:Wydarzenia
ATTACH;FMTTYPE=image/jpeg:https://mok.szczecin.pl/wp-content/uploads/2025/11/DSC00855-scaled-e1763747667869.jpg
ORGANIZER;CN="Miejski O%C5%9Brodek Kultury w Szczecinie":MAILTO:sekretariat@mok.szczecin.pl
END:VEVENT
BEGIN:VEVENT
DTSTART;TZID=Europe/Warsaw:20251124T180000
DTEND;TZID=Europe/Warsaw:20251124T180000
DTSTAMP:20260421T171645
CREATED:20251121T180713Z
LAST-MODIFIED:20251121T195533Z
UID:10000011-1764007200-1764007200@mok.szczecin.pl
SUMMARY:Wieczór poetycki - Ogólnopolski Konkurs Poetycki „Refleksy”
DESCRIPTION:Zapraszamy na spotkanie z poezją laureatów Ogólnopolskiego Konkursu Poetyckiego „Refleksy” organizowanego przez Dom Kultury „Klub Skolwin” który od lat odkrywa nowe literackie głosy i wrażliwość twórców z całej Polski. Wstęp wolny! \nCzeka nas wieczór pełen słowa\, muzyki i emocji. Podczas wydarzenia usłyszymy utwory nagrodzone w poprzedniej edycji konkursu – w interpretacji Krystyny Maksymowicz\, aktorki szczecińskich scen teatralnych. Towarzyszyć im będą refleksyjne komentarze literackie autorstwa prof. Piotra Michałowskiego. Spotkanie poprowadzi Marek Maj. Całość dopełni muzyka na żywo\, tworząca nastrój sprzyjający zadumie i poetyckim refleksjom. \nTo wyjątkowa okazja\, by w kameralnej przestrzeni Klubu Delta spotkać się z poezją\, która dotyka\, inspiruje i skłania do zatrzymania się na chwilę.\nPodczas wieczoru poetyckiego będzie można również obejrzeć wystawę fotografii „Szczecin – kadry drugie”\, prezentującą wyjątkowe ujęcia miasta widziane oczami jego mieszkańców. \nWydarzenie odbywa się w ramach projektu „80 lat kultury na obrzeżach”. Dofinansowano ze środków Gminy Miasto Szczecin.
URL:https://mok.szczecin.pl/wydarzenie/2327/
LOCATION:Klub Delta\, ul. Racławicka 10\, Szczecin\, 70-811\, Poland
CATEGORIES:Wydarzenia
ATTACH;FMTTYPE=image/jpeg:https://mok.szczecin.pl/wp-content/uploads/2025/11/1000010301-e1763748401110.jpg
ORGANIZER;CN="Miejski O%C5%9Brodek Kultury w Szczecinie":MAILTO:sekretariat@mok.szczecin.pl
END:VEVENT
BEGIN:VEVENT
DTSTART;TZID=Europe/Warsaw:20251125T173000
DTEND;TZID=Europe/Warsaw:20251125T173000
DTSTAMP:20260421T171645
CREATED:20251121T183012Z
LAST-MODIFIED:20260219T141801Z
UID:10000012-1764091800-1764091800@mok.szczecin.pl
SUMMARY:Sztuka spokoju | Jesienna melodia – makramowe liście w rytmie natury [wyprzedane]
DESCRIPTION:Wyobraź sobie spokojne jesienne popołudnie – siedzisz z kubkiem ciepłego napoju\, w gronie przyjaznych Ci osób\, masz czas na oddech i… tworzenie. Nic Cię nie goni\, nikt nie ocenia – możesz pracować w swoim tempie\, zdając się na własną kreatywność. \nPodoba Ci się ta wizja? W takim razie zapraszamy na nowy cykl warsztatów w Miejskim Ośrodku Kultury w Szczecinie – Sztuka spokoju.  To cotygodniowe warsztaty twórcze dla dorosłych\, podczas których będą się odbywać zajęcia malarskie i rękodzielnicze. \n\n\nZajęcia z rękodzieła poprowadzi Malwina Kołtuniak – twórczyni i animatorka kultury.Zajęcia malarskie poprowadzi twórczyni zajmująca się ceramiką i malarstwem\, właścicielka Pracowni Ręka i dzieło Łucja Paczkowska. \n\nJeśli szukasz momentu wytchnienia w ciągu intensywnego tygodnia i lubisz działania manualne – to te spotkania są dla Ciebie!\n\nZapewniamy:\n\n2-godzinny warsztat prowadzony przez doświadczone twórczynie\nmateriały do pracy (każda osoba zabiera do domu to\, co stworzyła)\nkameralną i przyjazną atmosferę\nkawę i ciasto\n\nSpotkania odbywają w każdy wtorek od 21 października do 16 grudnia (poza 11 listopada). \nDziałanie odbywa się w ramach projektu „Od kultury do przyjaźni”. Dofinansowano ze środków Gminy Miasto Szczecin.
URL:https://mok.szczecin.pl/wydarzenie/sztuka-spokoju-jesienna-melodia-makramowe-liscie-w-rytmie-natury/
LOCATION:Klub Delta\, ul. Racławicka 10\, Szczecin\, 70-811\, Poland
CATEGORIES:Wydarzenia
ATTACH;FMTTYPE=image/png:https://mok.szczecin.pl/wp-content/uploads/2025/11/sztuka_spokoju-e1763749721229.png
ORGANIZER;CN="Miejski O%C5%9Brodek Kultury w Szczecinie":MAILTO:sekretariat@mok.szczecin.pl
END:VEVENT
BEGIN:VEVENT
DTSTART;TZID=Europe/Warsaw:20251126T183000
DTEND;TZID=Europe/Warsaw:20251126T183000
DTSTAMP:20260421T171645
CREATED:20251121T190249Z
LAST-MODIFIED:20251121T200050Z
UID:10000013-1764181800-1764181800@mok.szczecin.pl
SUMMARY:Ukojenie w ruchu - zajęcia z elementami jogi i pilatesu [wyprzedane]
DESCRIPTION:Zanurz się w łagodnym stanie\, gdzie ciało i umysł odnajdują ukojenie w płynnym ruchu. Subtelne rozciąganie z elementami jogi\, pilatesu i elementami tanecznymi to sposób na regenerację po dniu pełnym bodźców.Zajęcia dla wszystkich\, którzy szukają przestrzeni\, oddechu i kontaktu z własnym rytmem. Praktyka skierowana do każdego\, prowadzona w harmonii z oddechem – bez presji\, tylko obecność i spokój.\n\nZapraszamy osoby w każdym wieku 16+\, poszukujące ukojenia\, ruchu i możliwości integracji z sąsiadami. \nProwadząca: Alicja Sieracka \nDo zabrania ze sobą \n\nwygodny strój – dobrze mieć ze sobą skarpetki antypoślizgowe\nmata\nchęć do ćwiczeń\n\n  \nDziałanie odbywa się w ramach projektu „Od kultury do przyjaźni”. Dofinansowano ze środków Gminy Miasto Szczecin.
URL:https://mok.szczecin.pl/wydarzenie/ukojenie-w-ruchu-zajecia-z-elementami-jogi-i-pilatesu/
LOCATION:Klub Delta\, ul. Racławicka 10\, Szczecin\, 70-811\, Poland
CATEGORIES:Wydarzenia
ATTACH;FMTTYPE=image/jpeg:https://mok.szczecin.pl/wp-content/uploads/2025/11/DSCF2026-scaled-e1763751590226.jpg
ORGANIZER;CN="Miejski O%C5%9Brodek Kultury w Szczecinie":MAILTO:sekretariat@mok.szczecin.pl
END:VEVENT
BEGIN:VEVENT
DTSTART;TZID=Europe/Warsaw:20251127T173000
DTEND;TZID=Europe/Warsaw:20251127T173000
DTSTAMP:20260421T171645
CREATED:20251121T192857Z
LAST-MODIFIED:20251124T111415Z
UID:10000019-1764264600-1764264600@mok.szczecin.pl
SUMMARY:Annie Hall | Kino w Klubie Delta
DESCRIPTION:Zapraszamy na kolejny seans w ramach cyklu Kino w Klubie Delta. Tym razem wspólnie obejrzymy film „Annie Hall”.\nBilety w cenie 15 zł (normalne) / 10 zł (ulgowe) – dostępne przed seansem w Klubie Delta. \nANNIE HALL (Annie Hall\, USA 1977\, 93’)REŻYSERIA: Woody AllenOBSADA: Woody Allen\, Diane Keaton\, Tony Roberts \nHistoria burzliwej relacji neurotycznego\, nowojorskiego komika Alvy Singera (Woody Allen) i jego równie neurotycznej dziewczyny Annie Hall (Diane Keaton). Film rozpoczyna się w momencie\, gdy para postanawia się rozstać. Alvy poprzez retrospektywy\, podróż w głąb siebie\, analizuje swoje życie\, związki z kobietami\, relacje z Annie\, a nawet własne dzieciństwo. \nOdtwórczyni głównej roli\, Diane Keaton\, zmarła 11 października 2025 r. Ta bardzo ceniona i popularna aktorka\, zagrała m.in. w trzech częściach „Ojca chrzestnego” i wielu innych znaczących filmach. Diane Keaton była też reżyserką i producentką. Za rolę w filmie „Annie Hall” nagrodzona Oscarem. To jej osobie dedykujemy i poświęcamy seans filmu w Klubie Delta.\nSeanse filmowe w Klubie Delta poprzedza spotkanie z Krzysztofem Spórem – dziennikarzem filmowym\, który wprowadza w temat prezentowanego filmu\, specjalnie na tę okoliczność przygotowaną prelekcją.
URL:https://mok.szczecin.pl/wydarzenie/annie-hall-kino-w-klubie-delta/
LOCATION:Klub Delta\, ul. Racławicka 10\, Szczecin\, 70-811\, Poland
CATEGORIES:Wydarzenia
ATTACH;FMTTYPE=image/png:https://mok.szczecin.pl/wp-content/uploads/2025/11/annie-hall-2.png
ORGANIZER;CN="Miejski O%C5%9Brodek Kultury w Szczecinie":MAILTO:sekretariat@mok.szczecin.pl
END:VEVENT
BEGIN:VEVENT
DTSTART;TZID=Europe/Warsaw:20251128T093000
DTEND;TZID=Europe/Warsaw:20251128T114500
DTSTAMP:20260421T171645
CREATED:20251121T152641Z
LAST-MODIFIED:20251121T185519Z
UID:10000008-1764322200-1764330300@mok.szczecin.pl
SUMMARY:Atelier filmowe 60 plus - warsztaty twórcze
DESCRIPTION:Cykl czterech warsztatów filmowych dla seniorek i seniorów. Podczas spotkań poznamy podstawy języka filmu\, spojrzymy na kino oczami twórcy i zrealizujemy krótką scenę filmową.\nProwadząca: Anna Wiśniewska – twórczyni filmowa\, animatorka kultury\, wiceprezes Stowarzyszenia Kamera\, dyrektorka Festiwalu Filmowego Senior Movie.\n\nterminy spotkań:\n14.11.2025. godz. 9.30-11.45\n21.11.2025 godz. 9.30-11.45\n28.11.2025 godz. 9.30-11.45\nplus jedno spotkanie plan zdjęciowy do ustalenia.\nZapisy: biuro@klubelta.pl\n\nProjekt realizowany w ramach programu „Partnerstwo dla kultury” prowadzonego przez Gminę Miasto Szczecin.
URL:https://mok.szczecin.pl/wydarzenie/atelier-filmowe-60-plus-warsztaty-tworcze/
LOCATION:Klub Delta\, ul. Racławicka 10\, Szczecin\, 70-811\, Poland
CATEGORIES:Wydarzenia
ATTACH;FMTTYPE=image/jpeg:https://mok.szczecin.pl/wp-content/uploads/2025/11/572108596_1246155114205117_2861449555835210674_n-e1763746571821.jpg
END:VEVENT
BEGIN:VEVENT
DTSTART;TZID=Europe/Warsaw:20251129T180000
DTEND;TZID=Europe/Warsaw:20251129T180000
DTSTAMP:20260421T171645
CREATED:20251121T204128Z
LAST-MODIFIED:20251126T203440Z
UID:10000022-1764439200-1764439200@mok.szczecin.pl
SUMMARY:Andrzejki w Delcie | Eva Sand
DESCRIPTION:Zapraszamy na andrzejkową potańcówkę w Delcie z muzyką na żywo! Zaśpiewa i poprowadzi zabawy andrzejkowe znakomita szczecińska wokalista Eva Sand. Jeśli jeszcze nie znacie tej artystki o porywającej energii i mocnym głosie\, to nasza zabawa będzie znakomitą okazją do nadrobienia zaległości. Wstęp wolny! \nSzykujcie wygodne buty\, bo nie zabraknie okazji do tańca. Usłyszymy największe przeboje takich artystów jak Krystyna Prońko\, Anna Jantar\, Eugeniusz Bodo\, Karin Stanek czy Maryla Rodowicz. \nWystąpią:\nEva Sand – prowadzenie\, wokal\nRadosław Winczewski – instrumenty klawiszowe \n  \n\nEva Sand do charyzmatyczna wokalistka i songwriterka wspierana przez Marszałka Województwa Zachodniopomorskiego. W tym roku z partnerstwem Pomorza Zachodniego wydała debiutancką płytę. Album zasłynął z singla „Morza”- który szeroko odbił się w województwie. Występowała u boku takich artystów jak Marek Dyjak\, Michał Grobelny\, Kasia Buja-Kazuba\, Olek Różanek czy Grzegorz Wilk. \n\nRadosław Winczewski – pianista\, perkusista\, konferansjer. Ponad 20 lat na szczecińskiej scenie muzycznej. Współpracował min z Teatrem Polskim\, Teatrem Lalek Pleciuga\, SAA\, wieloma szczecińskimi zespołami i wokalistami. Ostatnimi czasy perkusista Keitha Tynes’a z zespołu The Platters. \nWydarzenie odbywa się w ramach projektu „80 lat kultury na obrzeżach”. Dofinansowano ze środków Gminy Miasto Szczecin. \n 
URL:https://mok.szczecin.pl/wydarzenie/andrzejki-w-delcie-eva-sand/
LOCATION:Klub Delta\, ul. Racławicka 10\, Szczecin\, 70-811\, Poland
CATEGORIES:Wydarzenia
ATTACH;FMTTYPE=image/jpeg:https://mok.szczecin.pl/wp-content/uploads/2025/11/DSC_4051.jpeg
ORGANIZER;CN="Miejski O%C5%9Brodek Kultury w Szczecinie":MAILTO:sekretariat@mok.szczecin.pl
END:VEVENT
BEGIN:VEVENT
DTSTART;TZID=Europe/Warsaw:20251130T180000
DTEND;TZID=Europe/Warsaw:20251130T180000
DTSTAMP:20260421T171645
CREATED:20251126T134233Z
LAST-MODIFIED:20251126T134607Z
UID:10000026-1764525600-1764525600@mok.szczecin.pl
SUMMARY:Respect-Earth-Faith - koncert muzyki soulowej
DESCRIPTION:Wspólnie z Zachodniopomorskim Stowarzyszeniem Jazzowym zapraszamy na koncert w ramach cyklu „Jazz na rogatkach”. Wstęp wolny! \nRespect-Earth-Faith to koncert muzyki soulowej\, pełen głębi i silnego przekazu radości i miłości do życia i poszanowania go. 18. młodych niezwykle utalentowanych wokalistów jazzowych z Akademii Sztuki w Szczecinie zaprezentuje własne interpretacje najpiękniejszych utworów muzyki soulowej \, z repertuaru wybitnych przedstawicieli tego gatunku (Roberta Flack\, Aretha Franklin\, Chaka Khan\, Tina Turner\, Stevie Wonder\, Michael Jackson). W tę niepowtarzalną czasoprzestrzeń pełną pasji\, nasyconych rytmów\, brzmień\, harmonii\, melodii oraz wspólnej radości muzykowania zabierze nas Jazzowy Zespół Wokalny Akademii Sztuki pod kierownictwem artystycznym Jolanty Szczepaniak. \n\n\n\nWokaliści: Julia Bury\, Nailah Vitha\, Marta Dudek\, Weronika Lalik\, Bernadeta Cieślicka\, Julia Jurksztowicz\, Sara Frymus\, Oliwia Maciejuniec\, Olimpia Mościcka\, Wiktoria Lalik\, Maria Rocławska\, Dorota Szajduk\, Oliwia Stanisławska\, Yelyzaveta Veremchuk\, Paulina Partyka\, Rafi Lubera\, Szymon Sarniak\, Eugene Walczokoraz zespół instrumentalny w składzie:Wiktor Szostak – pianoWojciech Gunia – kontrabas\, gitara basowa;Krzysztof Klukowski – perkusjaJulia Jurksztowicz – fletMarcel Kruszyński – skrzypce \nWydarzenie współfinansowane ze środków Miasta Szczecin\, w ramach programu „Partnerstwo dla kultury”. \n\nOrganizator: Zachodniopomorskie Stowarzyszenie JazzoweWspółorganizator: Miejski Ośrodek Kultury w Szczecinie
URL:https://mok.szczecin.pl/wydarzenie/respect-earth-faith-koncert-muzyki-soulowej/
LOCATION:Klub Delta\, ul. Racławicka 10\, Szczecin\, 70-811\, Poland
CATEGORIES:Wydarzenia
ATTACH;FMTTYPE=image/jpeg:https://mok.szczecin.pl/wp-content/uploads/2025/11/1000053369-e1764164520779.jpg
ORGANIZER;CN="Miejski O%C5%9Brodek Kultury w Szczecinie":MAILTO:sekretariat@mok.szczecin.pl
END:VEVENT
END:VCALENDAR