BEGIN:VCALENDAR
VERSION:2.0
PRODID:-//Miejski Ośrodek Kultury w Szczecinie - ECPv6.15.20//NONSGML v1.0//EN
CALSCALE:GREGORIAN
METHOD:PUBLISH
X-ORIGINAL-URL:https://mok.szczecin.pl
X-WR-CALDESC:Wydarzenia dla Miejski Ośrodek Kultury w Szczecinie
REFRESH-INTERVAL;VALUE=DURATION:PT1H
X-Robots-Tag:noindex
X-PUBLISHED-TTL:PT1H
BEGIN:VTIMEZONE
TZID:Europe/Warsaw
BEGIN:DAYLIGHT
TZOFFSETFROM:+0100
TZOFFSETTO:+0200
TZNAME:CEST
DTSTART:20250330T010000
END:DAYLIGHT
BEGIN:STANDARD
TZOFFSETFROM:+0200
TZOFFSETTO:+0100
TZNAME:CET
DTSTART:20251026T010000
END:STANDARD
BEGIN:DAYLIGHT
TZOFFSETFROM:+0100
TZOFFSETTO:+0200
TZNAME:CEST
DTSTART:20260329T010000
END:DAYLIGHT
BEGIN:STANDARD
TZOFFSETFROM:+0200
TZOFFSETTO:+0100
TZNAME:CET
DTSTART:20261025T010000
END:STANDARD
BEGIN:DAYLIGHT
TZOFFSETFROM:+0100
TZOFFSETTO:+0200
TZNAME:CEST
DTSTART:20270328T010000
END:DAYLIGHT
BEGIN:STANDARD
TZOFFSETFROM:+0200
TZOFFSETTO:+0100
TZNAME:CET
DTSTART:20271031T010000
END:STANDARD
END:VTIMEZONE
BEGIN:VEVENT
DTSTART;TZID=Europe/Warsaw:20260428T150000
DTEND;TZID=Europe/Warsaw:20260428T170000
DTSTAMP:20260421T132520
CREATED:20260414T130637Z
LAST-MODIFIED:20260414T130637Z
UID:10000302-1777388400-1777395600@mok.szczecin.pl
SUMMARY:Sztuka spokoju | Linoryt: roślinne motywy krok po kroku
DESCRIPTION:Chcesz stworzyć coś pięknego własnymi rękami i poczuć wiosenną energię roślin? Dołącz do naszych warsztatów linorytu!\nWe wtorek\, 28 kwietnia odbędzie się spotkanie z Zuzanną Kostyk – twórczynią i animatorką kultury. \nWarsztaty przeznaczone są dla osób dorosłych. Pracujemy w kameralnej grupie.\nBilety w cenie 50 zł do kupienia na stronie internetowej MOK. \nLinoryt to technika graficzna polegająca na ręcznym wycinaniu wzoru w linoleum i odbijaniu go na papierze\, co pozwala tworzyć wyraziste\, autorskie grafiki. Praca z roślinnymi motywami będzie sprzyjać wyciszeniu\, uważności i oderwaniu się od codziennego pośpiechu.\nNie potrzebujesz żadnego doświadczenia – podczas spotkania krok po kroku dowiesz się wszystkiego\, co powinnaś wiedzieć\, żeby samodzielnie stworzyć obrazek metodą linorytu. \nCo zyskasz:\n– praktyczne umiejętności wycinania wzoru dłutem w matrycy z linoleum\n– własnoręcznie wykonany obrazek\, który zabierzesz ze sobą do domu\n– relaks i twórczą zabawę w wiosennym klimacie \nJeśli szukasz momentu wytchnienia w ciągu intensywnego tygodnia i lubisz działania manualne – to spotkanie jest dla Ciebie!
URL:https://mok.szczecin.pl/wydarzenie/sztuka-spokoju-linoryt-roslinne-motywy-krok-po-kroku-2/
LOCATION:Klub Delta\, ul. Racławicka 10\, Szczecin\, 70-811\, Poland
CATEGORIES:Wydarzenia
ATTACH;FMTTYPE=image/jpeg:https://mok.szczecin.pl/wp-content/uploads/2026/03/1000058197-e1774362688216.jpg
END:VEVENT
BEGIN:VEVENT
DTSTART;TZID=Europe/Warsaw:20260428T173000
DTEND;TZID=Europe/Warsaw:20260428T193000
DTSTAMP:20260421T132520
CREATED:20260324T143137Z
LAST-MODIFIED:20260331T100752Z
UID:10000265-1777397400-1777404600@mok.szczecin.pl
SUMMARY:Sztuka spokoju | Linoryt: roślinne motywy krok po kroku
DESCRIPTION:Chcesz stworzyć coś pięknego własnymi rękami i poczuć wiosenną energię roślin? Dołącz do naszych warsztatów linorytu!\nWe wtorek\, 28 kwietnia odbędzie się spotkanie z Zuzanną Kostyk – twórczynią i animatorką kultury. \nWarsztaty przeznaczone są dla osób dorosłych. Pracujemy w kameralnej grupie.\nBilety w cenie 50 zł do kupienia na stronie internetowej MOK. \nLinoryt to technika graficzna polegająca na ręcznym wycinaniu wzoru w linoleum i odbijaniu go na papierze\, co pozwala tworzyć wyraziste\, autorskie grafiki. Praca z roślinnymi motywami będzie sprzyjać wyciszeniu\, uważności i oderwaniu się od codziennego pośpiechu.\nNie potrzebujesz żadnego doświadczenia – podczas spotkania krok po kroku dowiesz się wszystkiego\, co powinnaś wiedzieć\, żeby samodzielnie stworzyć obrazek metodą linorytu. \nCo zyskasz:\n– praktyczne umiejętności wycinania wzoru dłutem w matrycy z linoleum\n– własnoręcznie wykonany obrazek\, który zabierzesz ze sobą do domu\n– relaks i twórczą zabawę w wiosennym klimacie \nJeśli szukasz momentu wytchnienia w ciągu intensywnego tygodnia i lubisz działania manualne – to spotkanie jest dla Ciebie!
URL:https://mok.szczecin.pl/wydarzenie/sztuka-spokoju-linoryt-roslinne-motywy-krok-po-kroku/
LOCATION:Klub Delta\, ul. Racławicka 10\, Szczecin\, 70-811\, Poland
CATEGORIES:Wydarzenia
ATTACH;FMTTYPE=image/jpeg:https://mok.szczecin.pl/wp-content/uploads/2026/03/1000058197-e1774362688216.jpg
END:VEVENT
BEGIN:VEVENT
DTSTART;TZID=Europe/Warsaw:20260428T180000
DTEND;TZID=Europe/Warsaw:20260428T180000
DTSTAMP:20260421T132520
CREATED:20260402T090555Z
LAST-MODIFIED:20260402T090705Z
UID:10000301-1777399200-1777399200@mok.szczecin.pl
SUMMARY:Taniec intuicyjny | CAL Możesz
DESCRIPTION:Centrum Aktywności Lokalnej Możesz zaprasza na spotkanie z ruchem i tańcem w swobodnej\, bezpiecznej atmosferze. \nPodczas zajęć grupa skupiać się będzie na świadomym ruchu i naturalnym tańcu – bez narzuconych kroków\, choreografii czy ocen. Pojawią się proste ćwiczenia ruchowe oraz przestrzeń na swobodny taniec\, znajdzie się też moment na wspólny ruch w grupie.\nZajęcia opierają się na elementach pracy z ciałem oraz metodach wykorzystywanych w terapii tańcem i ruchem (m.in. Laban/Bartenieff Movement System). \nTo propozycja dla osób\, które chcą:\n– rozruszać ciało w łagodny sposób\,\n– zredukować napięcie\,\n– poczuć większą swobodę w ruchu\,\n– po prostu potańczyć – bez presji i oczekiwań \nNie jest wymagane żadne doświadczenie taneczne!\nZajęcia przeznaczone są dla wszystkich – bez względu na wiek\, doświadczenie taneczne czy poziom sprawności ruchowej. \nNależy zabrać wygodny strój (choć to wcale nie musi być dres) oraz matę do ćwiczeń lub kocyk. \nUdział jest bezpłatny\, ale liczba miejsc ograniczona\, zapisy:\n– przez formularz: https://forms.gle/2Xt23JryFexVe7WH7\n– telefonicznie: +48 602 434 633\n– mailowo: recepcja@fundacjamozesz.org \nMożna wjechać do nas na wózku! \nWarsztaty są częścią projektu „Zobacz\, co MOŻESZ w Centrum Aktywności Lokalnej”\, współfinansowanego ze środków Miasta Szczecin.
URL:https://mok.szczecin.pl/wydarzenie/taniec-intuicyjny-cal-mozesz/
LOCATION:Klub Delta\, ul. Racławicka 10\, Szczecin\, 70-811\, Poland
ATTACH;FMTTYPE=image/jpeg:https://mok.szczecin.pl/wp-content/uploads/2026/04/julia-taubitz-xogJHE0KX3s-unsplash-scaled-e1775120745868.jpg
END:VEVENT
END:VCALENDAR