BEGIN:VCALENDAR
VERSION:2.0
PRODID:-//Miejski Ośrodek Kultury w Szczecinie - ECPv6.15.20//NONSGML v1.0//EN
CALSCALE:GREGORIAN
METHOD:PUBLISH
X-WR-CALNAME:Miejski Ośrodek Kultury w Szczecinie
X-ORIGINAL-URL:https://mok.szczecin.pl
X-WR-CALDESC:Wydarzenia dla Miejski Ośrodek Kultury w Szczecinie
REFRESH-INTERVAL;VALUE=DURATION:PT1H
X-Robots-Tag:noindex
X-PUBLISHED-TTL:PT1H
BEGIN:VTIMEZONE
TZID:Europe/Warsaw
BEGIN:DAYLIGHT
TZOFFSETFROM:+0100
TZOFFSETTO:+0200
TZNAME:CEST
DTSTART:20250330T010000
END:DAYLIGHT
BEGIN:STANDARD
TZOFFSETFROM:+0200
TZOFFSETTO:+0100
TZNAME:CET
DTSTART:20251026T010000
END:STANDARD
BEGIN:DAYLIGHT
TZOFFSETFROM:+0100
TZOFFSETTO:+0200
TZNAME:CEST
DTSTART:20260329T010000
END:DAYLIGHT
BEGIN:STANDARD
TZOFFSETFROM:+0200
TZOFFSETTO:+0100
TZNAME:CET
DTSTART:20261025T010000
END:STANDARD
BEGIN:DAYLIGHT
TZOFFSETFROM:+0100
TZOFFSETTO:+0200
TZNAME:CEST
DTSTART:20270328T010000
END:DAYLIGHT
BEGIN:STANDARD
TZOFFSETFROM:+0200
TZOFFSETTO:+0100
TZNAME:CET
DTSTART:20271031T010000
END:STANDARD
END:VTIMEZONE
BEGIN:VEVENT
DTSTART;TZID=Europe/Warsaw:20260325T100000
DTEND;TZID=Europe/Warsaw:20260424T180000
DTSTAMP:20260421T120217
CREATED:20260401T194343Z
LAST-MODIFIED:20260403T115037Z
UID:10000300-1774432800-1777053600@mok.szczecin.pl
SUMMARY:Szczecin – miasto we mgle. Wystawa Adriana Stejki
DESCRIPTION:Zapraszamy do zwiedzania wystawy Adriana Stejki „Szczecin – miasto we mgle”. To fotograficzna opowieść o mieście widzianym inaczej – ciszej\, bardziej intymnie i z dystansu. Mgła nie jest tu jedynie zjawiskiem atmosferycznym\, lecz narzędziem selekcji\, które upraszcza kadr i wydobywa to\, co najistotniejsze. Znane miejsca tracą swoją dosłowność i zyskują nowy\, często zaskakujący wymiar. \nFotografie powstawały o świcie\, gdy pierwsze promienie słońca rysują długie cienie najwyższych obiektów\, a miasto dopiero budzi się do życia. Minimalizm form\, ograniczona paleta barw oraz wyraźny kontrast światła i cienia budują atmosferę skupienia i kontemplacji. To Szczecin pozbawiony codziennego zgiełku – spokojny\, monumentalny\, momentami niemal abstrakcyjny. \nNa wystawie prezentowane są zarówno charakterystyczne symbole miasta\, jak i bardziej uniwersalne pejzaże. Część prac powstała z perspektywy drona\, oferując punkt widzenia na co dzień niedostępny i pozwalając spojrzeć na miejską przestrzeń z nowej perspektywy. Dokument spotyka się tu z artystyczną interpretacją\, a realne miejsca zyskują emocjonalny wymiar. \nWystawa ma charakter artystyczno-emocjonalny i zaprasza do zatrzymania się oraz ponownego odkrycia miasta. To próba uchwycenia chwili zawieszenia – momentu\, w którym Szczecin we mgle opowiada inną historię i buduje swoją alternatywną tożsamość. \nWystawa dostępna jest w galerii Klubu Delta\, codziennie w godzinach 10:00-18:00. \nwstęp bezpłatny \nAdrian Stejka – fotografik i szczecinianin zakochany w mieście\, z którego pochodzi. Poprzez autorskie projekty i działania twórcze promuje Szczecin jako przestrzeń nieoczywistą\, inspirującą i wartą uważnego spojrzenia. Motyw miasta spowitego mgłą od kilku lat zajmuje szczególne miejsce w jego twórczości i przyniósł mu liczne nagrody\, w tym dwukrotne zwycięstwo w konkursie National Geographic. Jego prace były prezentowane na wystawach w różnych miastach Polski i doceniane za umiejętne łączenie dokumentalnej obserwacji z artystyczną\, emocjonalną interpretacją przestrzeni. \n\n\n\n\n\n\n\n\n\nfot. Ewa Cudnik\n 
URL:https://mok.szczecin.pl/wydarzenie/szczecin-miasto-we-mgle-wystawa-adriana-stejki/
LOCATION:Klub Delta\, ul. Racławicka 10\, Szczecin\, 70-811\, Poland
CATEGORIES:Wydarzenia
ATTACH;FMTTYPE=image/jpeg:https://mok.szczecin.pl/wp-content/uploads/2026/04/IMG_20260325_182512-scaled-e1775123475561.jpg
ORGANIZER;CN="Miejski O%C5%9Brodek Kultury w Szczecinie":MAILTO:sekretariat@mok.szczecin.pl
END:VEVENT
BEGIN:VEVENT
DTSTART;TZID=Europe/Warsaw:20260422T173000
DTEND;TZID=Europe/Warsaw:20260422T190000
DTSTAMP:20260421T120217
CREATED:20260324T130806Z
LAST-MODIFIED:20260324T130806Z
UID:10000270-1776879000-1776884400@mok.szczecin.pl
SUMMARY:Ukojenie w ruchu – zajęcia z elementami jogi i pilatesu - 17:30
DESCRIPTION:Zanurz się w łagodnym stanie\, gdzie ciało i umysł odnajdują ukojenie w płynnym ruchu. Subtelne rozciąganie z elementami jogi\, pilatesu i elementami tanecznymi to sposób na regenerację po dniu pełnym bodźców. Zapraszamy w środy o godz. 17:30. \nBilety w cenie 20 zł za jedno spotkanie. \nZajęcia dla wszystkich\, którzy szukają przestrzeni\, oddechu i kontaktu z własnym rytmem. Praktyka skierowana do każdego\, prowadzona w harmonii z oddechem – bez presji\, tylko obecność i spokój.\nZapraszamy osoby w każdym wieku 16+\, poszukujące ukojenia\, ruchu i możliwości integracji z sąsiadami.\nprowadząca: Alicja Sieracka \nDo zabrania ze sobą:\n– wygodny strój – dobrze mieć ze sobą skarpetki antypoślizgowe\n– mata\n– chęć do ćwiczeń \nFot. Katarzyna Bazylińska
URL:https://mok.szczecin.pl/wydarzenie/ukojenie-w-ruchu-zajecia-z-elementami-jogi-i-pilatesu-1730-5/
LOCATION:Klub Delta\, ul. Racławicka 10\, Szczecin\, 70-811\, Poland
CATEGORIES:Wydarzenia,Zajęcia cykliczne
ATTACH;FMTTYPE=image/jpeg:https://mok.szczecin.pl/wp-content/uploads/2025/12/DSCF2060-scaled-e1766434809851.jpg
ORGANIZER;CN="Miejski O%C5%9Brodek Kultury w Szczecinie":MAILTO:sekretariat@mok.szczecin.pl
END:VEVENT
BEGIN:VEVENT
DTSTART;TZID=Europe/Warsaw:20260422T191500
DTEND;TZID=Europe/Warsaw:20260422T204500
DTSTAMP:20260421T120217
CREATED:20260324T134254Z
LAST-MODIFIED:20260324T134254Z
UID:10000284-1776885300-1776890700@mok.szczecin.pl
SUMMARY:Ukojenie w ruchu – zajęcia z elementami jogi i pilatesu - 19:15
DESCRIPTION:Zanurz się w łagodnym stanie\, gdzie ciało i umysł odnajdują ukojenie w płynnym ruchu. Subtelne rozciąganie z elementami jogi\, pilatesu i elementami tanecznymi to sposób na regenerację po dniu pełnym bodźców. Zapraszamy w środy o godz. 19:15. \nBilety w cenie 20 zł za jedno spotkanie. \nZajęcia dla wszystkich\, którzy szukają przestrzeni\, oddechu i kontaktu z własnym rytmem. Praktyka skierowana do każdego\, prowadzona w harmonii z oddechem – bez presji\, tylko obecność i spokój.\nZapraszamy osoby w każdym wieku 16+\, poszukujące ukojenia\, ruchu i możliwości integracji z sąsiadami.\nprowadząca: Alicja Sieracka \nDo zabrania ze sobą:\n– wygodny strój – dobrze mieć ze sobą skarpetki antypoślizgowe\n– mata\n– chęć do ćwiczeń \nFot. Katarzyna Bazylińska
URL:https://mok.szczecin.pl/wydarzenie/ukojenie-w-ruchu-zajecia-z-elementami-jogi-i-pilatesu-1915-5/
LOCATION:Klub Delta\, ul. Racławicka 10\, Szczecin\, 70-811\, Poland
CATEGORIES:Wydarzenia,Zajęcia cykliczne
ATTACH;FMTTYPE=image/jpeg:https://mok.szczecin.pl/wp-content/uploads/2025/12/DSCF2060-scaled-e1766434809851.jpg
ORGANIZER;CN="Miejski O%C5%9Brodek Kultury w Szczecinie":MAILTO:sekretariat@mok.szczecin.pl
END:VEVENT
END:VCALENDAR