BEGIN:VCALENDAR
VERSION:2.0
PRODID:-//Miejski Ośrodek Kultury w Szczecinie - ECPv6.15.20//NONSGML v1.0//EN
CALSCALE:GREGORIAN
METHOD:PUBLISH
X-WR-CALNAME:Miejski Ośrodek Kultury w Szczecinie
X-ORIGINAL-URL:https://mok.szczecin.pl
X-WR-CALDESC:Wydarzenia dla Miejski Ośrodek Kultury w Szczecinie
REFRESH-INTERVAL;VALUE=DURATION:PT1H
X-Robots-Tag:noindex
X-PUBLISHED-TTL:PT1H
BEGIN:VTIMEZONE
TZID:Europe/Warsaw
BEGIN:DAYLIGHT
TZOFFSETFROM:+0100
TZOFFSETTO:+0200
TZNAME:CEST
DTSTART:20250330T010000
END:DAYLIGHT
BEGIN:STANDARD
TZOFFSETFROM:+0200
TZOFFSETTO:+0100
TZNAME:CET
DTSTART:20251026T010000
END:STANDARD
BEGIN:DAYLIGHT
TZOFFSETFROM:+0100
TZOFFSETTO:+0200
TZNAME:CEST
DTSTART:20260329T010000
END:DAYLIGHT
BEGIN:STANDARD
TZOFFSETFROM:+0200
TZOFFSETTO:+0100
TZNAME:CET
DTSTART:20261025T010000
END:STANDARD
BEGIN:DAYLIGHT
TZOFFSETFROM:+0100
TZOFFSETTO:+0200
TZNAME:CEST
DTSTART:20270328T010000
END:DAYLIGHT
BEGIN:STANDARD
TZOFFSETFROM:+0200
TZOFFSETTO:+0100
TZNAME:CET
DTSTART:20271031T010000
END:STANDARD
END:VTIMEZONE
BEGIN:VEVENT
DTSTART;TZID=Europe/Warsaw:20260325T100000
DTEND;TZID=Europe/Warsaw:20260424T180000
DTSTAMP:20260421T121241
CREATED:20260401T194343Z
LAST-MODIFIED:20260403T115037Z
UID:10000300-1774432800-1777053600@mok.szczecin.pl
SUMMARY:Szczecin – miasto we mgle. Wystawa Adriana Stejki
DESCRIPTION:Zapraszamy do zwiedzania wystawy Adriana Stejki „Szczecin – miasto we mgle”. To fotograficzna opowieść o mieście widzianym inaczej – ciszej\, bardziej intymnie i z dystansu. Mgła nie jest tu jedynie zjawiskiem atmosferycznym\, lecz narzędziem selekcji\, które upraszcza kadr i wydobywa to\, co najistotniejsze. Znane miejsca tracą swoją dosłowność i zyskują nowy\, często zaskakujący wymiar. \nFotografie powstawały o świcie\, gdy pierwsze promienie słońca rysują długie cienie najwyższych obiektów\, a miasto dopiero budzi się do życia. Minimalizm form\, ograniczona paleta barw oraz wyraźny kontrast światła i cienia budują atmosferę skupienia i kontemplacji. To Szczecin pozbawiony codziennego zgiełku – spokojny\, monumentalny\, momentami niemal abstrakcyjny. \nNa wystawie prezentowane są zarówno charakterystyczne symbole miasta\, jak i bardziej uniwersalne pejzaże. Część prac powstała z perspektywy drona\, oferując punkt widzenia na co dzień niedostępny i pozwalając spojrzeć na miejską przestrzeń z nowej perspektywy. Dokument spotyka się tu z artystyczną interpretacją\, a realne miejsca zyskują emocjonalny wymiar. \nWystawa ma charakter artystyczno-emocjonalny i zaprasza do zatrzymania się oraz ponownego odkrycia miasta. To próba uchwycenia chwili zawieszenia – momentu\, w którym Szczecin we mgle opowiada inną historię i buduje swoją alternatywną tożsamość. \nWystawa dostępna jest w galerii Klubu Delta\, codziennie w godzinach 10:00-18:00. \nwstęp bezpłatny \nAdrian Stejka – fotografik i szczecinianin zakochany w mieście\, z którego pochodzi. Poprzez autorskie projekty i działania twórcze promuje Szczecin jako przestrzeń nieoczywistą\, inspirującą i wartą uważnego spojrzenia. Motyw miasta spowitego mgłą od kilku lat zajmuje szczególne miejsce w jego twórczości i przyniósł mu liczne nagrody\, w tym dwukrotne zwycięstwo w konkursie National Geographic. Jego prace były prezentowane na wystawach w różnych miastach Polski i doceniane za umiejętne łączenie dokumentalnej obserwacji z artystyczną\, emocjonalną interpretacją przestrzeni. \n\n\n\n\n\n\n\n\n\nfot. Ewa Cudnik\n 
URL:https://mok.szczecin.pl/wydarzenie/szczecin-miasto-we-mgle-wystawa-adriana-stejki/
LOCATION:Klub Delta\, ul. Racławicka 10\, Szczecin\, 70-811\, Poland
CATEGORIES:Wydarzenia
ATTACH;FMTTYPE=image/jpeg:https://mok.szczecin.pl/wp-content/uploads/2026/04/IMG_20260325_182512-scaled-e1775123475561.jpg
ORGANIZER;CN="Miejski O%C5%9Brodek Kultury w Szczecinie":MAILTO:sekretariat@mok.szczecin.pl
END:VEVENT
BEGIN:VEVENT
DTSTART;TZID=Europe/Warsaw:20260418T100000
DTEND;TZID=Europe/Warsaw:20260418T140000
DTSTAMP:20260421T121241
CREATED:20260325T115116Z
LAST-MODIFIED:20260408T121314Z
UID:10000195-1776506400-1776520800@mok.szczecin.pl
SUMMARY:Pracownia mozaiki - warsztaty ceramiczne
DESCRIPTION:Jeśli lubisz pracować manualnie i cieszy Cię\, gdy z chaosu wyłania się spójna całość\, to Pracownia mozaiki jest dla Ciebie! \nBilety w cenie 100 zł do kupienia na stronie internetowej MOK. \nPodczas warsztatu poznasz podstawowe narzędzia oraz sposoby cięcia i układania ceramicznych kafli. Z kolorowych płytek stworzysz swoją własną kompozycję\, gotową do powieszenia lub postawienia. \nZapewniamy narzędzia oraz materiały\, w tym kafle w kilkunastu kolorach. W trakcie jednego spotkania uczestnicy tworzą prace wielkości 30×30 cm według własnego pomysłu i projektu. \nWarsztaty prowadzi Paulina Stok-Stocka. \nPracownia mozaiki to warsztaty\, na które zapraszamy osoby dorosłe i młodzież powyżej 15 roku życia. \n  \nFot. Grażyna Iłowiecka
URL:https://mok.szczecin.pl/wydarzenie/pracownia-mozaiki-warsztaty-ceramiczne-3/
LOCATION:Miejski Ośrodek Kultury\, ul. Goleniowska 67\, Szczecin\, 70-847
CATEGORIES:Wydarzenia
ATTACH;FMTTYPE=image/jpeg:https://mok.szczecin.pl/wp-content/uploads/2026/03/2026-03-21-mozaika-warsztaty©Grazyna-Ilowiecka-23-scaled-e1775031653135.jpg
ORGANIZER;CN="Miejski O%C5%9Brodek Kultury w Szczecinie":MAILTO:sekretariat@mok.szczecin.pl
END:VEVENT
BEGIN:VEVENT
DTSTART;TZID=Europe/Warsaw:20260418T140000
DTEND;TZID=Europe/Warsaw:20260418T150000
DTSTAMP:20260421T121241
CREATED:20260330T130117Z
LAST-MODIFIED:20260330T131950Z
UID:10000294-1776520800-1776524400@mok.szczecin.pl
SUMMARY:Sąsiedzkie czytanie
DESCRIPTION:Zapraszamy do Café Przyjaźń na kolejne spotkanie z cyklu Sąsiedzkie czytanie – wydarzenie\, w którym publiczność staje się częścią opowieści! \nTym razem sięgniemy po fragment sztuki grozy dla dzieci o mocnych nerwach – Horropera. Po tamtej stronie burzy autorstwa Konrada Pawickiego i Ireny Naumowicz. Wspólnie przeczytamy tekst z podziałem na role\, tworząc małe\, sąsiedzkie słuchowisko. Jeśli chcesz współtworzyć wydarzenie\, zgłoś się mailowo: biuro@klubdelta.pl i zostaw numer telefonu do kontaktu. Nie trzeba mieć doświadczenia aktorskiego – wystarczy chęć dobrej zabawy i odrobina odwagi\, by dać głos bohaterom tej historii. \nMożesz też po prostu przyjść na wydarzenie i wsłuchać się w historię\, delektując się kawą albo spontanicznie dołączyć do czytających. Przekonaj się\, ile emocji kryje wspólne czytanie na głos! \n 
URL:https://mok.szczecin.pl/wydarzenie/sasiedzkie-czytanie/
LOCATION:Klub Delta\, ul. Racławicka 10\, Szczecin\, 70-811\, Poland
CATEGORIES:Wydarzenia
ATTACH;FMTTYPE=image/jpeg:https://mok.szczecin.pl/wp-content/uploads/2026/03/IMG-20260311-WA0006-e1774875624581.jpg
ORGANIZER;CN="Miejski O%C5%9Brodek Kultury w Szczecinie":MAILTO:sekretariat@mok.szczecin.pl
END:VEVENT
BEGIN:VEVENT
DTSTART;TZID=Europe/Warsaw:20260418T160000
DTEND;TZID=Europe/Warsaw:20260418T170000
DTSTAMP:20260421T121241
CREATED:20260330T140134Z
LAST-MODIFIED:20260330T184319Z
UID:10000295-1776528000-1776531600@mok.szczecin.pl
SUMMARY:Kandydatki na żonę | spektakl
DESCRIPTION:Kandydatki na żonę to komedia teatralna autorstwa Andrzeja Dembończyka\, opowiadająca o młodym Wiktorze\, zmuszanym przez wujostwo do wyboru żony spośród czterech barwnych kandydatek. Wiktor zaś zakochany jest w służącej Róży\, co prowadzi do serii pomyłek i ostatecznie zaskakującego wyboru\, który łamie konwenanse. \nPrzedstawienie przygotowała grupa teatralna działająca przy Klubie Seniora „Złota Jesień” w Kliniskach Wielkich. \n„Kandydatki na żonę”\nwedług scenariusza Andrzeja Dembończyka\nreżyseria: Ilona Bartosiewicz\nwystępują: Anna Wilczewska\, Alina Formela\, Violetta Chorzępa\, Bogusława Niewińska\, Halina Murawko\, Barbara Kafarska\, Krystyna Badocha\, Zofia Daról\, Alicja Furmańczyk \nJeśli chcesz się pośmiać i zrelaksować w sobotnie popołudnie – przyjdź do Klubu Delta obejrzeć to przedstawienie! Zapraszamy – wstęp wolny.
URL:https://mok.szczecin.pl/wydarzenie/kandydatki-na-zone-spektakl/
LOCATION:Klub Delta\, ul. Racławicka 10\, Szczecin\, 70-811\, Poland
CATEGORIES:Wydarzenia
ATTACH;FMTTYPE=image/jpeg:https://mok.szczecin.pl/wp-content/uploads/2026/03/633042469_905471772192545_418711167789455912_n-1-e1774879282397.jpg
ORGANIZER;CN="Miejski O%C5%9Brodek Kultury w Szczecinie":MAILTO:sekretariat@mok.szczecin.pl
END:VEVENT
END:VCALENDAR