BEGIN:VCALENDAR
VERSION:2.0
PRODID:-//Miejski Ośrodek Kultury w Szczecinie - ECPv6.15.20//NONSGML v1.0//EN
CALSCALE:GREGORIAN
METHOD:PUBLISH
X-ORIGINAL-URL:https://mok.szczecin.pl
X-WR-CALDESC:Wydarzenia dla Miejski Ośrodek Kultury w Szczecinie
REFRESH-INTERVAL;VALUE=DURATION:PT1H
X-Robots-Tag:noindex
X-PUBLISHED-TTL:PT1H
BEGIN:VTIMEZONE
TZID:Europe/Warsaw
BEGIN:DAYLIGHT
TZOFFSETFROM:+0100
TZOFFSETTO:+0200
TZNAME:CEST
DTSTART:20250330T010000
END:DAYLIGHT
BEGIN:STANDARD
TZOFFSETFROM:+0200
TZOFFSETTO:+0100
TZNAME:CET
DTSTART:20251026T010000
END:STANDARD
BEGIN:DAYLIGHT
TZOFFSETFROM:+0100
TZOFFSETTO:+0200
TZNAME:CEST
DTSTART:20260329T010000
END:DAYLIGHT
BEGIN:STANDARD
TZOFFSETFROM:+0200
TZOFFSETTO:+0100
TZNAME:CET
DTSTART:20261025T010000
END:STANDARD
BEGIN:DAYLIGHT
TZOFFSETFROM:+0100
TZOFFSETTO:+0200
TZNAME:CEST
DTSTART:20270328T010000
END:DAYLIGHT
BEGIN:STANDARD
TZOFFSETFROM:+0200
TZOFFSETTO:+0100
TZNAME:CET
DTSTART:20271031T010000
END:STANDARD
END:VTIMEZONE
BEGIN:VEVENT
DTSTART;TZID=Europe/Warsaw:20260325T100000
DTEND;TZID=Europe/Warsaw:20260424T180000
DTSTAMP:20260421T120413
CREATED:20260401T194343Z
LAST-MODIFIED:20260403T115037Z
UID:10000300-1774432800-1777053600@mok.szczecin.pl
SUMMARY:Szczecin – miasto we mgle. Wystawa Adriana Stejki
DESCRIPTION:Zapraszamy do zwiedzania wystawy Adriana Stejki „Szczecin – miasto we mgle”. To fotograficzna opowieść o mieście widzianym inaczej – ciszej\, bardziej intymnie i z dystansu. Mgła nie jest tu jedynie zjawiskiem atmosferycznym\, lecz narzędziem selekcji\, które upraszcza kadr i wydobywa to\, co najistotniejsze. Znane miejsca tracą swoją dosłowność i zyskują nowy\, często zaskakujący wymiar. \nFotografie powstawały o świcie\, gdy pierwsze promienie słońca rysują długie cienie najwyższych obiektów\, a miasto dopiero budzi się do życia. Minimalizm form\, ograniczona paleta barw oraz wyraźny kontrast światła i cienia budują atmosferę skupienia i kontemplacji. To Szczecin pozbawiony codziennego zgiełku – spokojny\, monumentalny\, momentami niemal abstrakcyjny. \nNa wystawie prezentowane są zarówno charakterystyczne symbole miasta\, jak i bardziej uniwersalne pejzaże. Część prac powstała z perspektywy drona\, oferując punkt widzenia na co dzień niedostępny i pozwalając spojrzeć na miejską przestrzeń z nowej perspektywy. Dokument spotyka się tu z artystyczną interpretacją\, a realne miejsca zyskują emocjonalny wymiar. \nWystawa ma charakter artystyczno-emocjonalny i zaprasza do zatrzymania się oraz ponownego odkrycia miasta. To próba uchwycenia chwili zawieszenia – momentu\, w którym Szczecin we mgle opowiada inną historię i buduje swoją alternatywną tożsamość. \nWystawa dostępna jest w galerii Klubu Delta\, codziennie w godzinach 10:00-18:00. \nwstęp bezpłatny \nAdrian Stejka – fotografik i szczecinianin zakochany w mieście\, z którego pochodzi. Poprzez autorskie projekty i działania twórcze promuje Szczecin jako przestrzeń nieoczywistą\, inspirującą i wartą uważnego spojrzenia. Motyw miasta spowitego mgłą od kilku lat zajmuje szczególne miejsce w jego twórczości i przyniósł mu liczne nagrody\, w tym dwukrotne zwycięstwo w konkursie National Geographic. Jego prace były prezentowane na wystawach w różnych miastach Polski i doceniane za umiejętne łączenie dokumentalnej obserwacji z artystyczną\, emocjonalną interpretacją przestrzeni. \n\n\n\n\n\n\n\n\n\nfot. Ewa Cudnik\n 
URL:https://mok.szczecin.pl/wydarzenie/szczecin-miasto-we-mgle-wystawa-adriana-stejki/
LOCATION:Klub Delta\, ul. Racławicka 10\, Szczecin\, 70-811\, Poland
CATEGORIES:Wydarzenia
ATTACH;FMTTYPE=image/jpeg:https://mok.szczecin.pl/wp-content/uploads/2026/04/IMG_20260325_182512-scaled-e1775123475561.jpg
ORGANIZER;CN="Miejski O%C5%9Brodek Kultury w Szczecinie":MAILTO:sekretariat@mok.szczecin.pl
END:VEVENT
BEGIN:VEVENT
DTSTART;TZID=Europe/Warsaw:20260416T103000
DTEND;TZID=Europe/Warsaw:20260416T111500
DTSTAMP:20260421T120413
CREATED:20260324T141602Z
LAST-MODIFIED:20260403T123421Z
UID:10000191-1776335400-1776338100@mok.szczecin.pl
SUMMARY:Planeta Delta | zajęcia dla dzieci od 1 do 3 lat
DESCRIPTION:Miejski Ośrodek Kultury zaprasza na zajęcia dedykowane najmłodszym w czwartek 16 kwietnia o godz. 10:30. \nBilety w cenie 10 zł (każde dziecko i każdy opiekun muszą mieć swój bilet) do kupienia na stronie internetowej MOK. \nPlaneta Delta to ogólnorozwojowe zajęcia edukacyjno-animacyjne dla dzieci wieku przedprzedszkolnym\, przebywających w ciągu dnia z bliskim dorosłym w domu.\nPoprzez działania ruchowe\, plastyczne\, teatralne i muzyczne będziemy poznawać świat wokół nas. Nasze spotkania pozwolą dzieciom oswoić się z grupą i osobą prowadzącą zajęcia. Dorośli będą mogli aktywnie towarzyszyć swoim dzieciom\, jednocześnie mając okazję do spotkania i wymiany doświadczeń z pozostałymi dorosłymi. Zajęcia być może zainspirują ich do wspólnych zabaw we własnych domach. \nPlaneta Delta to przestrzeń przyjazna najmłodszym i bliskim im dorosłym.\nZajęcia odbywają się w kameralnej grupie\, trwają ok. 45 minut. Spotykamy się dwa razy w miesiącu. Na salę wchodzimy bez butów – można mieć kapcie lub skarpetki.\nZajęcia prowadzi Magdalena Gardas-Wasilewska – animatorka kultury\, pedagożka teatru. Występuje w przedstawieniach dla dzieci od 1. roku życia – w grupie teatralnej Głowa mała. Jest członkinią Fundacji Tettere\, zajmującej się działaniami artystycznymi i edukacyjnymi na rzecz dzieci\, rodzin i społeczności lokalnych. \nfot. Grażyna Iłowiecka
URL:https://mok.szczecin.pl/wydarzenie/planeta-delta-zajecia-dla-dzieci-od-1-do-3-lat-9/
LOCATION:Klub Delta\, ul. Racławicka 10\, Szczecin\, 70-811\, Poland
CATEGORIES:Wydarzenia
ATTACH;FMTTYPE=image/jpeg:https://mok.szczecin.pl/wp-content/uploads/2025/12/2025-03-06-MOK-Planeta-Delta©Grazyna-Ilowiecka-12-scaled-e1766438978171.jpg
END:VEVENT
BEGIN:VEVENT
DTSTART;TZID=Europe/Warsaw:20260416T173000
DTEND;TZID=Europe/Warsaw:20260416T200000
DTSTAMP:20260421T120413
CREATED:20260325T121431Z
LAST-MODIFIED:20260326T235516Z
UID:10000263-1776360600-1776369600@mok.szczecin.pl
SUMMARY:Maria Callas | Kino w Klubie Delta
DESCRIPTION:Nagrodzona Oscarem Angelina Jolie jako Maria Callas – nazywana „primadonną stulecia”\, najsłynniejsza i najbardziej uwielbiana śpiewaczka operowa świata. To zahaczający o najważniejsze momenty w życiu diwy film o wielkich miłościach: do mężczyzn\, do kariery\, do śpiewu. \nBilety w cenie 𝟏𝟓 𝐳ł/𝟏𝟎 𝐳ł – do kupienia na stronie internetowej MOK.\nMARIA CALLAS (Maria\, Włochy/Niemcy/Chile/USA 2024\, 124’)\nREŻYSERIA: Pablo Larrain\nOBSADA: Angelina Jolie\, Valeria Golino\, Alba Rohrwacher \nWyróżniona owacjami na stojąco podczas światowej premiery na Międzynarodowym Festiwalu Filmowym w Wenecji\, Maria Callas została wyreżyserowana przez specjalistę od ekranizacji kobiecych biografii Pablo Larraína\, nagradzanego w Cannes i Berlinie twórcy obrazów „Jackie” o Jacqueline Kennedy oraz „Spencer” przedstawiającego historię księżnej Diany. \nPodczas swoich ostatnich dni mieszkająca w Paryżu lat 70. XX wieku Maria Callas wyobraża sobie i przeżywa na nowo burzliwą\, piękną i tragiczną jednocześnie historię swojego życia. To wspomnienia największej śpiewaczki operowej świata\, pełne miłosnych uniesień\, brawurowych występów\, obecności na najbardziej ekskluzywnych salonach i poznawania najwybitniejszych osobistości tamtych czasów. Znajdzie się tu miejsce na historię miłosną z Arystotelesem Onassisem – jednym z najbogatszych ludzi tamtego okresu czy spotkanie z Johnem F. Kennedym. To historia kobiety niezwykle pewnej siebie\, ale równocześnie niewyobrażalnie wrażliwej. \nPrzed filmami tradycyjne wprowadzenia Krzysztofa Spóra – dziennikarza filmowego\, które przybliżą miejsce tych produkcji w 130-letniej historii kina.
URL:https://mok.szczecin.pl/wydarzenie/maria-callas-kino-w-klubie-delta/
LOCATION:Klub Delta\, ul. Racławicka 10\, Szczecin\, 70-811\, Poland
CATEGORIES:Wydarzenia
ATTACH;FMTTYPE=image/jpeg:https://mok.szczecin.pl/wp-content/uploads/2026/03/1249469.1-e1774265617611.jpg
END:VEVENT
END:VCALENDAR