BEGIN:VCALENDAR
VERSION:2.0
PRODID:-//Miejski Ośrodek Kultury w Szczecinie - ECPv6.15.20//NONSGML v1.0//EN
CALSCALE:GREGORIAN
METHOD:PUBLISH
X-WR-CALNAME:Miejski Ośrodek Kultury w Szczecinie
X-ORIGINAL-URL:https://mok.szczecin.pl
X-WR-CALDESC:Wydarzenia dla Miejski Ośrodek Kultury w Szczecinie
REFRESH-INTERVAL;VALUE=DURATION:PT1H
X-Robots-Tag:noindex
X-PUBLISHED-TTL:PT1H
BEGIN:VTIMEZONE
TZID:Europe/Warsaw
BEGIN:DAYLIGHT
TZOFFSETFROM:+0100
TZOFFSETTO:+0200
TZNAME:CEST
DTSTART:20250330T010000
END:DAYLIGHT
BEGIN:STANDARD
TZOFFSETFROM:+0200
TZOFFSETTO:+0100
TZNAME:CET
DTSTART:20251026T010000
END:STANDARD
BEGIN:DAYLIGHT
TZOFFSETFROM:+0100
TZOFFSETTO:+0200
TZNAME:CEST
DTSTART:20260329T010000
END:DAYLIGHT
BEGIN:STANDARD
TZOFFSETFROM:+0200
TZOFFSETTO:+0100
TZNAME:CET
DTSTART:20261025T010000
END:STANDARD
BEGIN:DAYLIGHT
TZOFFSETFROM:+0100
TZOFFSETTO:+0200
TZNAME:CEST
DTSTART:20270328T010000
END:DAYLIGHT
BEGIN:STANDARD
TZOFFSETFROM:+0200
TZOFFSETTO:+0100
TZNAME:CET
DTSTART:20271031T010000
END:STANDARD
END:VTIMEZONE
BEGIN:VEVENT
DTSTART;TZID=Europe/Warsaw:20260325T100000
DTEND;TZID=Europe/Warsaw:20260424T180000
DTSTAMP:20260421T115505
CREATED:20260401T194343Z
LAST-MODIFIED:20260403T115037Z
UID:10000300-1774432800-1777053600@mok.szczecin.pl
SUMMARY:Szczecin – miasto we mgle. Wystawa Adriana Stejki
DESCRIPTION:Zapraszamy do zwiedzania wystawy Adriana Stejki „Szczecin – miasto we mgle”. To fotograficzna opowieść o mieście widzianym inaczej – ciszej\, bardziej intymnie i z dystansu. Mgła nie jest tu jedynie zjawiskiem atmosferycznym\, lecz narzędziem selekcji\, które upraszcza kadr i wydobywa to\, co najistotniejsze. Znane miejsca tracą swoją dosłowność i zyskują nowy\, często zaskakujący wymiar. \nFotografie powstawały o świcie\, gdy pierwsze promienie słońca rysują długie cienie najwyższych obiektów\, a miasto dopiero budzi się do życia. Minimalizm form\, ograniczona paleta barw oraz wyraźny kontrast światła i cienia budują atmosferę skupienia i kontemplacji. To Szczecin pozbawiony codziennego zgiełku – spokojny\, monumentalny\, momentami niemal abstrakcyjny. \nNa wystawie prezentowane są zarówno charakterystyczne symbole miasta\, jak i bardziej uniwersalne pejzaże. Część prac powstała z perspektywy drona\, oferując punkt widzenia na co dzień niedostępny i pozwalając spojrzeć na miejską przestrzeń z nowej perspektywy. Dokument spotyka się tu z artystyczną interpretacją\, a realne miejsca zyskują emocjonalny wymiar. \nWystawa ma charakter artystyczno-emocjonalny i zaprasza do zatrzymania się oraz ponownego odkrycia miasta. To próba uchwycenia chwili zawieszenia – momentu\, w którym Szczecin we mgle opowiada inną historię i buduje swoją alternatywną tożsamość. \nWystawa dostępna jest w galerii Klubu Delta\, codziennie w godzinach 10:00-18:00. \nwstęp bezpłatny \nAdrian Stejka – fotografik i szczecinianin zakochany w mieście\, z którego pochodzi. Poprzez autorskie projekty i działania twórcze promuje Szczecin jako przestrzeń nieoczywistą\, inspirującą i wartą uważnego spojrzenia. Motyw miasta spowitego mgłą od kilku lat zajmuje szczególne miejsce w jego twórczości i przyniósł mu liczne nagrody\, w tym dwukrotne zwycięstwo w konkursie National Geographic. Jego prace były prezentowane na wystawach w różnych miastach Polski i doceniane za umiejętne łączenie dokumentalnej obserwacji z artystyczną\, emocjonalną interpretacją przestrzeni. \n\n\n\n\n\n\n\n\n\nfot. Ewa Cudnik\n 
URL:https://mok.szczecin.pl/wydarzenie/szczecin-miasto-we-mgle-wystawa-adriana-stejki/
LOCATION:Klub Delta\, ul. Racławicka 10\, Szczecin\, 70-811\, Poland
CATEGORIES:Wydarzenia
ATTACH;FMTTYPE=image/jpeg:https://mok.szczecin.pl/wp-content/uploads/2026/04/IMG_20260325_182512-scaled-e1775123475561.jpg
ORGANIZER;CN="Miejski O%C5%9Brodek Kultury w Szczecinie":MAILTO:sekretariat@mok.szczecin.pl
END:VEVENT
BEGIN:VEVENT
DTSTART;TZID=Europe/Warsaw:20260411T100000
DTEND;TZID=Europe/Warsaw:20260411T140000
DTSTAMP:20260421T115505
CREATED:20260325T115206Z
LAST-MODIFIED:20260325T115206Z
UID:10000264-1775901600-1775916000@mok.szczecin.pl
SUMMARY:Temat na warsztacie | Portret - zajęcia rzeźbiarskie z modelem
DESCRIPTION:Zapraszamy na tematyczne zajęcia ceramiczne\, podczas których wszyscy uczestnicy realizują jeden\, wyznaczony przez instruktora temat. \nZajęcia prowadzone są krok po kroku\, z dokładnym instruktażem\, dzięki czemu zarówno osoby początkujące\, jak i bardziej zaawansowane mogą swobodnie pracować i rozwijać swoje umiejętności. \nWarsztaty przeznaczone są dla młodzieży 15+ i osób dorosłych. Pracujemy w bardzo kameralnej grupie.\nBilety w cenie 200 zł do kupienia na stronie internetowej MOK.\n\nZapraszamy na warsztaty\, podczas których będziemy pracować nad rzeźbą portretową\, wzorując się na obecnym podczas zajęć modelu. Poznamy warsztat\, porozmawiamy o proporcjach i o tym\, od czego zacząć i jak kontynuować proces tworzenia. \nWarsztaty poprowadzi Małgorzata Krzakowska.
URL:https://mok.szczecin.pl/wydarzenie/temat-na-warsztacie-portret-zajecia-rzezbiarskie-z-modelem/
LOCATION:Miejski Ośrodek Kultury\, ul. Goleniowska 67\, Szczecin\, 70-847
CATEGORIES:Wydarzenia
ATTACH;FMTTYPE=image/jpeg:https://mok.szczecin.pl/wp-content/uploads/2026/03/2025-03-04-MOK-ceramika©Grazyna-Ilowiecka-37-1-scaled-e1774266727294.jpg
ORGANIZER;CN="Miejski O%C5%9Brodek Kultury w Szczecinie":MAILTO:sekretariat@mok.szczecin.pl
END:VEVENT
BEGIN:VEVENT
DTSTART;TZID=Europe/Warsaw:20260411T173000
DTEND;TZID=Europe/Warsaw:20260411T193000
DTSTAMP:20260421T115505
CREATED:20260324T141306Z
LAST-MODIFIED:20260325T113640Z
UID:10000262-1775928600-1775935800@mok.szczecin.pl
SUMMARY:Kawa i papierosy | Przegląd filmowy Kinokawiarnia Przyjaźń
DESCRIPTION:Przegląd filmowy Kinokawiarnia Przyjaźń to okazja do obejrzenia filmów w klubokawiarnianej atmosferze – przy filiżance kawy i kawałku pysznego ciasta. \nW sobotę 11 kwietnia o godz. 17:30 w Klubie Delta pokażemy film „Kawa i papierosy” (reż. Jim Jarmusch). \nBilety w cenie 𝟏𝟓 𝐳ł/𝟏𝟎 𝐳ł – do kupienia na stronie internetowej MOK oraz przed seansem.\nKAWA I PAPIEROSY (Coffee and Cigarettes\, USA 2003\, 98’)\nREŻYSERIA: Jim Jarmusch\nOBSADA: Bill Murray\, Tom Waits\, Iggy Pop\, Cate Blanchette \nTen film powstał dla przyjemności – mówił po latach Jim Jarmusch\, porównując strukturę złożonej z 11 epizodów „Kawy i papierosów”\, do muzycznego albumu\, zawierającego jedenaście piosenek. Każda jest o czymś innym\, ale słuchane po kolei tworzą niepowtarzalną\, wspólną aurę. Ich motywem przewodnim są oczywiście kofeina i nikotyna: nieodzowni towarzysze mniej lub bardziej istotnych rozmów i krótkich przerw. Bo bardziej\, niż smakiem\, kawa i papierosy pozwalają delektować się oferowanym w pakiecie z nimi czasem. W swoich – często improwizowanych – nowelkach\, Jarmusch pozwala spotkać się na chwilę bohaterom\, ale i aktorom. Przy kawiarnianych stolikach zatrzymują się na chwilę m.in. Tom Waits i Iggy Pop\, Steve Coogan i Alfred Molina\, Bill Murray z raperami RZA i GZA\, Cate Blanchett z… Cate Blanchett\, by pogadać o medycynie alternatywnej\, wspólnych przodkach\, Elvisie Presley’u\, czy latach XX w Paryżu. \nTen realizowany z doskoku\, przez kilkanaście lat\, najbardziej znany film Jarmuscha\, ma w sobie fantazję\, lekkość i humor. Komediowe\, czarno-białe scenki trwają dokładnie tyle\, ile zajmuje wyskoczenie na dymka czy wypicie filiżanki czarnego naparu. „Jesteśmy pokoleniem kawy i papierosów” – mówi w jednej ze scen Tom Waits i dziś\, gdy papieros nie może spotkać się już przy stoliku z kawą\, ta deklaracja nieoczekiwanie smakuje nostalgią. \nPrzed filmami tradycyjne wprowadzenia Krzysztofa Spóra – dziennikarza filmowego\, które przybliżą miejsce tych produkcji w 130-letniej historii kina.
URL:https://mok.szczecin.pl/wydarzenie/kawa-i-papierosy-przeglad-filmowy-kinokawiarnia-przyjazn/
LOCATION:Klub Delta\, ul. Racławicka 10\, Szczecin\, 70-811\, Poland
CATEGORIES:Wydarzenia
ATTACH;FMTTYPE=image/jpeg:https://mok.szczecin.pl/wp-content/uploads/2026/03/KAWA-I-PAPIEROSY_13_TIFF-scaled-e1774262240180.jpg
END:VEVENT
END:VCALENDAR