BEGIN:VCALENDAR
VERSION:2.0
PRODID:-//Miejski Ośrodek Kultury w Szczecinie - ECPv6.15.20//NONSGML v1.0//EN
CALSCALE:GREGORIAN
METHOD:PUBLISH
X-ORIGINAL-URL:https://mok.szczecin.pl
X-WR-CALDESC:Wydarzenia dla Miejski Ośrodek Kultury w Szczecinie
REFRESH-INTERVAL;VALUE=DURATION:PT1H
X-Robots-Tag:noindex
X-PUBLISHED-TTL:PT1H
BEGIN:VTIMEZONE
TZID:Europe/Warsaw
BEGIN:DAYLIGHT
TZOFFSETFROM:+0100
TZOFFSETTO:+0200
TZNAME:CEST
DTSTART:20250330T010000
END:DAYLIGHT
BEGIN:STANDARD
TZOFFSETFROM:+0200
TZOFFSETTO:+0100
TZNAME:CET
DTSTART:20251026T010000
END:STANDARD
BEGIN:DAYLIGHT
TZOFFSETFROM:+0100
TZOFFSETTO:+0200
TZNAME:CEST
DTSTART:20260329T010000
END:DAYLIGHT
BEGIN:STANDARD
TZOFFSETFROM:+0200
TZOFFSETTO:+0100
TZNAME:CET
DTSTART:20261025T010000
END:STANDARD
BEGIN:DAYLIGHT
TZOFFSETFROM:+0100
TZOFFSETTO:+0200
TZNAME:CEST
DTSTART:20270328T010000
END:DAYLIGHT
BEGIN:STANDARD
TZOFFSETFROM:+0200
TZOFFSETTO:+0100
TZNAME:CET
DTSTART:20271031T010000
END:STANDARD
END:VTIMEZONE
BEGIN:VEVENT
DTSTART;TZID=Europe/Warsaw:20260325T100000
DTEND;TZID=Europe/Warsaw:20260424T180000
DTSTAMP:20260421T103858
CREATED:20260401T194343Z
LAST-MODIFIED:20260403T115037Z
UID:10000300-1774432800-1777053600@mok.szczecin.pl
SUMMARY:Szczecin – miasto we mgle. Wystawa Adriana Stejki
DESCRIPTION:Zapraszamy do zwiedzania wystawy Adriana Stejki „Szczecin – miasto we mgle”. To fotograficzna opowieść o mieście widzianym inaczej – ciszej\, bardziej intymnie i z dystansu. Mgła nie jest tu jedynie zjawiskiem atmosferycznym\, lecz narzędziem selekcji\, które upraszcza kadr i wydobywa to\, co najistotniejsze. Znane miejsca tracą swoją dosłowność i zyskują nowy\, często zaskakujący wymiar. \nFotografie powstawały o świcie\, gdy pierwsze promienie słońca rysują długie cienie najwyższych obiektów\, a miasto dopiero budzi się do życia. Minimalizm form\, ograniczona paleta barw oraz wyraźny kontrast światła i cienia budują atmosferę skupienia i kontemplacji. To Szczecin pozbawiony codziennego zgiełku – spokojny\, monumentalny\, momentami niemal abstrakcyjny. \nNa wystawie prezentowane są zarówno charakterystyczne symbole miasta\, jak i bardziej uniwersalne pejzaże. Część prac powstała z perspektywy drona\, oferując punkt widzenia na co dzień niedostępny i pozwalając spojrzeć na miejską przestrzeń z nowej perspektywy. Dokument spotyka się tu z artystyczną interpretacją\, a realne miejsca zyskują emocjonalny wymiar. \nWystawa ma charakter artystyczno-emocjonalny i zaprasza do zatrzymania się oraz ponownego odkrycia miasta. To próba uchwycenia chwili zawieszenia – momentu\, w którym Szczecin we mgle opowiada inną historię i buduje swoją alternatywną tożsamość. \nWystawa dostępna jest w galerii Klubu Delta\, codziennie w godzinach 10:00-18:00. \nwstęp bezpłatny \nAdrian Stejka – fotografik i szczecinianin zakochany w mieście\, z którego pochodzi. Poprzez autorskie projekty i działania twórcze promuje Szczecin jako przestrzeń nieoczywistą\, inspirującą i wartą uważnego spojrzenia. Motyw miasta spowitego mgłą od kilku lat zajmuje szczególne miejsce w jego twórczości i przyniósł mu liczne nagrody\, w tym dwukrotne zwycięstwo w konkursie National Geographic. Jego prace były prezentowane na wystawach w różnych miastach Polski i doceniane za umiejętne łączenie dokumentalnej obserwacji z artystyczną\, emocjonalną interpretacją przestrzeni. \n\n\n\n\n\n\n\n\n\nfot. Ewa Cudnik\n 
URL:https://mok.szczecin.pl/wydarzenie/szczecin-miasto-we-mgle-wystawa-adriana-stejki/
LOCATION:Klub Delta\, ul. Racławicka 10\, Szczecin\, 70-811\, Poland
CATEGORIES:Wydarzenia
ATTACH;FMTTYPE=image/jpeg:https://mok.szczecin.pl/wp-content/uploads/2026/04/IMG_20260325_182512-scaled-e1775123475561.jpg
ORGANIZER;CN="Miejski O%C5%9Brodek Kultury w Szczecinie":MAILTO:sekretariat@mok.szczecin.pl
END:VEVENT
BEGIN:VEVENT
DTSTART;TZID=Europe/Warsaw:20260328T103000
DTEND;TZID=Europe/Warsaw:20260328T120000
DTSTAMP:20260421T103858
CREATED:20260226T090539Z
LAST-MODIFIED:20260226T090539Z
UID:10000172-1774693800-1774699200@mok.szczecin.pl
SUMMARY:Pisanki ceramiczne - warsztaty rodzinne
DESCRIPTION:Zapraszamy na malarskie zajęcia ceramiczne\, podczas których wspólnie pomalujemy ceramiczne jajka. Każdy uczestnik będzie miał okazję pracować krok po kroku pod okiem instruktora\, poznając techniki malowania na ceramice. \nZajęcia prowadzone są z dokładnym instruktażem\, dzięki czemu dzieci\, zarówno te początkujące\, jak i te z doświadczeniem\, mogą swobodnie rozwijać swoje umiejętności. \nWarsztaty są jednorazowe\, a odbiór gotowych prac zostanie ustalony indywidualnie z prowadzącym podczas zajęć. Inspiracje i propozycje wzorów będą dostępne na miejscu – chętni mogą również przynieść własne szkice. \nWarsztaty poprowadzi Małgorzata Krzakowska. \nWarsztaty przeznaczone są dla dzieci i dzieci z rodzicami w wieku od 6 do 12 lat. Uczestnicy powyżej 9 roku życia mogą brać udział w warsztatach bez opiekuna. \nBilety w cenie 30 zł za osobę dostępne na portalu kicket.pl.
URL:https://mok.szczecin.pl/wydarzenie/pisanki-ceramiczne-warsztaty-rodzinne/
LOCATION:Miejski Ośrodek Kultury\, ul. Goleniowska 67\, Szczecin\, 70-847
CATEGORIES:Wydarzenia
ATTACH;FMTTYPE=image/jpeg:https://mok.szczecin.pl/wp-content/uploads/2026/02/pisanki-e1772027528712.jpg
ORGANIZER;CN="Miejski O%C5%9Brodek Kultury w Szczecinie":MAILTO:sekretariat@mok.szczecin.pl
END:VEVENT
BEGIN:VEVENT
DTSTART;TZID=Europe/Warsaw:20260328T110000
DTEND;TZID=Europe/Warsaw:20260328T130000
DTSTAMP:20260421T103858
CREATED:20260227T083839Z
LAST-MODIFIED:20260324T121754Z
UID:10000185-1774695600-1774702800@mok.szczecin.pl
SUMMARY:Miasto w mieście | Spacer z Miejskim Konserwatorem Zabytków Michałem Dębowskim
DESCRIPTION:Zapraszamy na spacer z Miejskim Konserwatorem Zabytków Michałem Dębowskim\, podczas którego będziemy odkrywać ślady przeszłości starego Dąbia. Spotykamy się w sobotę 28 marca na skwerze przy ul. Emilii Gierczak. \nSpacer organizujemy z okazji rocznicy wydania przez Miejski Ośrodek Kultury książki Alicji Biranowskiej-Kurtz „Moje powojenne Dąbie”. Zapraszamy na spotkanie z autorką po spacerze\, o godz. 13:00 do Klubu Delta (ul. Racławicka 10). \nCzęsto słychać narzekania\, że Szczecin nie ma prawdziwej starówki\, przyciągającej swym urokiem i tętniącej życiem dzielnicy dla turystów i imprezowiczów. Tymczasem w strukturze urbanistycznej miasta są zachowane aż dwa Stare Miasta. Obok tego położonego na lewobrzeżnej części Odry\, u stóp zamku\, zachowała się równie stara dzielnica staromiejska położonego na prawobrzeżu miasta Dąbia\, które do 1948 r\,. stanowiło odrębny od Szczecina organizm miejski. Pomimo zniszczeń tkanki miasta w 1945 r. Dąbie zachowało relikty przeszłości świadczące o dawnej świetności miasta położonego nad Płonią.  \nRozpoznaj ślady niesamowitej\, wielowiekowej historii miasta w towarzystwie Michała Dębowskiego – Miejskiego Konserwatora Zabytków. Podczas spaceru zobaczymy m.in.: relikty dawnych murów obronnych\, pozostałości historycznej zabudowy miasta\, dawny młyn kościół Wniebowzięcia\, dawny młyn koronny (folusz sukienniczy) na rzece Płoni\, pałacyk myśliwski Jan Fryderyka\, dawny cmentarz przy ul. Świetlińskiego i wiele innych ciekawych miejsc z historią w tle. \nStart spaceru o godz. 11:00\, skwer przy ul. Emilii Gierczak\nSpacer potrwa ok. 2 godzin.\nUdział bezpłatny. \nZabierzcie wygodne buty i dobre humory! \n  \nFot. Grażyna Iłowiecka
URL:https://mok.szczecin.pl/wydarzenie/miasto-w-miescie-spacer-z-miejskim-konserwatorem-zabytkow-michalem-debowskim/
LOCATION:skwer przy ul. E. Gierczak
CATEGORIES:Wydarzenia
ATTACH;FMTTYPE=image/jpeg:https://mok.szczecin.pl/wp-content/uploads/2026/02/2024-04-oswajanie-dabieinku©Grazyna-Ilowiecka-23-scaled-e1772180689275.jpg
END:VEVENT
BEGIN:VEVENT
DTSTART;TZID=Europe/Warsaw:20260328T130000
DTEND;TZID=Europe/Warsaw:20260328T170000
DTSTAMP:20260421T103858
CREATED:20260227T091620Z
LAST-MODIFIED:20260304T152941Z
UID:10000186-1774702800-1774717200@mok.szczecin.pl
SUMMARY:Alicja Biranowska-Kurtz: Moje powojenne Dąbie | Spotkanie
DESCRIPTION:Po spacerze z Michałem Dębowskim\, podczas którego poszukiwać będziemy śladów starego Dąbia\, zapraszamy do Klubu Delta na spotkanie autorskie. \nMija rok od wydania przez Miejski Ośrodek Kultury książki Alicji Biranowskiej-Kurtz „Moje powojenne Dąbie”. W tak miłą rocznicę\, zapraszamy autorkę ponownie do nas\, aby podzieliła się swoimi przemyśleniami po premierze wydania i planami na kolejne lata. Co zmieniłaby pani Alicja w swojej publikacji? Czy byłaby errata?  \nPrzypomnijmy\, na publikację składają się wspomnienia trzynastu mieszkańców osiedla\, którzy zechcieli podzielić się przeżyciami i przemyśleniami oraz opowiedzieć o swoich najwcześniejszych zapamiętanych odczuciach\, jakie wiążą się z „ich Dąbiem”. Książka jest do kupienia w naszej kawiarni. \nWstęp na spotkanie jest wolny. \nKsiążka została wydana w ramach projektu „60 lat w Dąbiu”\, finansowanego ze środków Gminy Miasto Szczecin. \nFot. Dariusz Górajski
URL:https://mok.szczecin.pl/wydarzenie/alicja-biranowska-kurtz-moje-powojenne-dabie-spotkanie/
LOCATION:Klub Delta\, ul. Racławicka 10\, Szczecin\, 70-811\, Poland
CATEGORIES:Wydarzenia
ATTACH;FMTTYPE=image/jpeg:https://mok.szczecin.pl/wp-content/uploads/2026/02/goda_280325_008-scaled-e1772183559200.jpg
END:VEVENT
BEGIN:VEVENT
DTSTART;TZID=Europe/Warsaw:20260328T173000
DTEND;TZID=Europe/Warsaw:20260328T193000
DTSTAMP:20260421T103858
CREATED:20260219T130933Z
LAST-MODIFIED:20260324T150801Z
UID:10000166-1774719000-1774726200@mok.szczecin.pl
SUMMARY:Jedna bitwa po drugiej | Kino w Klubie Delta
DESCRIPTION:Zdobywca 6 Oscarów\, w tym – za najlepszy film mijającego roku!\nFilm\, który został uznany za najlepszą produkcję roku przez Krytyków z Nowego Jorku i większość gremiów podsumowujących 2025 rok w kinie.\n„Jedna bitwa po drugiej” (reż. Paul Thomas Anderson) pokażemy w Klubie Delta w sobotę 28 marca o godz. 17:30.\n\nBilety w cenie 𝟏𝟓 𝐳ł/𝟏𝟎 𝐳ł – do kupienia na stronie internetowej MOK oraz przed seansem.\nJEDNA BITWA PO DRUGIEJ (One Battle after Another\, USA 2025\, 161’)\nREŻYSERIA: Paul Thomas Anderson\nOBSADA: Leonardo DiCaprio\, Sean Penn\, Benicio del Toro\, Regina Hall\, Teyana Taylor\, Chase Infiniti \nJeden z najbardziej oryginalnych i najczęściej docenianych amerykańskich twórców\, reżyser i scenarzysta Paul Thomas Anderson (Magnolia\, Nić widmo\, Aż poleje się krew\, Boogie Nights) powraca na ekrany. Był nominowany do Oscara 11 razy – a film „Jedna bitwa po drugiej” przyniósł mu upragnione Nagrody Amerykańskiej Akademii Filmowej. \nWypalony rewolucjonista Bob (Leonardo DiCaprio) żyje poza systemem w stanie odurzonej paranoi\, wraz ze swoją pełną temperamentu\, samodzielną córką Willą (Chase Infiniti). Gdy jego nieprzyjaciel (Sean Penn) powraca po 16 latach\, a dziewczyna znika bez śladu\, były radykał rozpoczyna rozpaczliwe poszukiwania\, a zarówno ojciec\, jak i córka muszą stawić czoła konsekwencjom jego przeszłości. \nPrzed filmami tradycyjne wprowadzenia Krzysztofa Spóra – dziennikarza filmowego\, które przybliżą miejsce tych produkcji w 130-letniej historii kina. \n 
URL:https://mok.szczecin.pl/wydarzenie/jedna-bitwa-po-drugiej-kino-w-klubie-delta/
LOCATION:Klub Delta\, ul. Racławicka 10\, Szczecin\, 70-811\, Poland
CATEGORIES:Wydarzenia
ATTACH;FMTTYPE=image/jpeg:https://mok.szczecin.pl/wp-content/uploads/2026/02/jedna-bitwa-po-drugiej_fotka-e1771506559665.jpg
END:VEVENT
END:VCALENDAR