BEGIN:VCALENDAR
VERSION:2.0
PRODID:-//Miejski Ośrodek Kultury w Szczecinie - ECPv6.15.20//NONSGML v1.0//EN
CALSCALE:GREGORIAN
METHOD:PUBLISH
X-WR-CALNAME:Miejski Ośrodek Kultury w Szczecinie
X-ORIGINAL-URL:https://mok.szczecin.pl
X-WR-CALDESC:Wydarzenia dla Miejski Ośrodek Kultury w Szczecinie
REFRESH-INTERVAL;VALUE=DURATION:PT1H
X-Robots-Tag:noindex
X-PUBLISHED-TTL:PT1H
BEGIN:VTIMEZONE
TZID:Europe/Warsaw
BEGIN:DAYLIGHT
TZOFFSETFROM:+0100
TZOFFSETTO:+0200
TZNAME:CEST
DTSTART:20250330T010000
END:DAYLIGHT
BEGIN:STANDARD
TZOFFSETFROM:+0200
TZOFFSETTO:+0100
TZNAME:CET
DTSTART:20251026T010000
END:STANDARD
BEGIN:DAYLIGHT
TZOFFSETFROM:+0100
TZOFFSETTO:+0200
TZNAME:CEST
DTSTART:20260329T010000
END:DAYLIGHT
BEGIN:STANDARD
TZOFFSETFROM:+0200
TZOFFSETTO:+0100
TZNAME:CET
DTSTART:20261025T010000
END:STANDARD
BEGIN:DAYLIGHT
TZOFFSETFROM:+0100
TZOFFSETTO:+0200
TZNAME:CEST
DTSTART:20270328T010000
END:DAYLIGHT
BEGIN:STANDARD
TZOFFSETFROM:+0200
TZOFFSETTO:+0100
TZNAME:CET
DTSTART:20271031T010000
END:STANDARD
END:VTIMEZONE
BEGIN:VEVENT
DTSTART;TZID=Europe/Warsaw:20260320T180000
DTEND;TZID=Europe/Warsaw:20260320T200000
DTSTAMP:20260421T103606
CREATED:20260226T125742Z
LAST-MODIFIED:20260226T131630Z
UID:10000184-1774029600-1774036800@mok.szczecin.pl
SUMMARY:Koncert Wiosna dźwiękiem malowana
DESCRIPTION:Wraz z nadejściem wiosny zapraszamy na wyjątkowy Koncert Wiosenny – pełen radości\, świeżości i pięknych muzycznych emocji. \nNa scenie wystąpi orkiestra oraz soliści z Państwowa Szkoła Muzyczna I stopnia im. Tadeusza Szeligowskiego prezentując przygotowany specjalnie na tę okazję repertuar. To będzie wieczór pełen młodzieńczej pasji\, talentu i wiosennej energii. \nChcielibyśmy\, aby ten koncert był nie tylko muzycznym wydarzeniem\, ale także okazją do wspólnego spędzenia czasu – z rodziną\, przyjaciółmi i bliskimi. W natłoku codziennych spraw zatrzymajmy się na chwilę\, by razem posłuchać muzyki\, pobyć ze sobą i poczuć wiosenną atmosferę. \nNiech ten wiosenny wieczór wybrzmi ciepłem\, życzliwością i pięknymi dźwiękami!
URL:https://mok.szczecin.pl/wydarzenie/koncert-wiosna-dzwiekiem-malowana/
LOCATION:Klub Delta\, ul. Racławicka 10\, Szczecin\, 70-811\, Poland
CATEGORIES:Wydarzenia
ATTACH;FMTTYPE=image/jpeg:https://mok.szczecin.pl/wp-content/uploads/2026/02/DSC00742-scaled-e1772111752915.jpg
END:VEVENT
END:VCALENDAR