BEGIN:VCALENDAR
VERSION:2.0
PRODID:-//Miejski Ośrodek Kultury w Szczecinie - ECPv6.15.20//NONSGML v1.0//EN
CALSCALE:GREGORIAN
METHOD:PUBLISH
X-ORIGINAL-URL:https://mok.szczecin.pl
X-WR-CALDESC:Wydarzenia dla Miejski Ośrodek Kultury w Szczecinie
REFRESH-INTERVAL;VALUE=DURATION:PT1H
X-Robots-Tag:noindex
X-PUBLISHED-TTL:PT1H
BEGIN:VTIMEZONE
TZID:Europe/Warsaw
BEGIN:DAYLIGHT
TZOFFSETFROM:+0100
TZOFFSETTO:+0200
TZNAME:CEST
DTSTART:20250330T010000
END:DAYLIGHT
BEGIN:STANDARD
TZOFFSETFROM:+0200
TZOFFSETTO:+0100
TZNAME:CET
DTSTART:20251026T010000
END:STANDARD
BEGIN:DAYLIGHT
TZOFFSETFROM:+0100
TZOFFSETTO:+0200
TZNAME:CEST
DTSTART:20260329T010000
END:DAYLIGHT
BEGIN:STANDARD
TZOFFSETFROM:+0200
TZOFFSETTO:+0100
TZNAME:CET
DTSTART:20261025T010000
END:STANDARD
BEGIN:DAYLIGHT
TZOFFSETFROM:+0100
TZOFFSETTO:+0200
TZNAME:CEST
DTSTART:20270328T010000
END:DAYLIGHT
BEGIN:STANDARD
TZOFFSETFROM:+0200
TZOFFSETTO:+0100
TZNAME:CET
DTSTART:20271031T010000
END:STANDARD
END:VTIMEZONE
BEGIN:VEVENT
DTSTART;TZID=Europe/Warsaw:20260315T110000
DTEND;TZID=Europe/Warsaw:20260315T123000
DTSTAMP:20260421T103908
CREATED:20260218T110214Z
LAST-MODIFIED:20260224T151634Z
UID:10000156-1773572400-1773577800@mok.szczecin.pl
SUMMARY:Ukojenie w ruchu – zajęcia z elementami jogi i pilatesu - niedziela
DESCRIPTION:Zanurz się w łagodnym stanie\, gdzie ciało i umysł odnajdują ukojenie w płynnym ruchu. Subtelne rozciąganie z elementami jogi\, pilatesu i elementami tanecznymi to sposób na regenerację po dniu pełnym bodźców. Zapraszamy w niedziele o godz. 11:00.  \nTerminy spotkań w lutym: 8.02.2026 i 22.02.2026. \nTerminy spotkań w marcu: 15.03.2026 i 29.03.2026 \nBilety w cenie 20 zł za jedno spotkanie. \nZajęcia dla wszystkich\, którzy szukają przestrzeni\, oddechu i kontaktu z własnym rytmem. Praktyka skierowana do każdego\, prowadzona w harmonii z oddechem – bez presji\, tylko obecność i spokój.\nZapraszamy osoby w każdym wieku 16+\, poszukujące ukojenia\, ruchu i możliwości integracji z sąsiadami.\nprowadząca: Alicja Sieracka \nDo zabrania ze sobą:\n– wygodny strój – dobrze mieć ze sobą skarpetki antypoślizgowe\n– mata\n– chęć do ćwiczeń \nFot. Katarzyna Bazylińska
URL:https://mok.szczecin.pl/wydarzenie/ukojenie-w-ruchu-zajecia-z-elementami-jogi-i-pilatesu-niedziela-2/2026-03-15/
LOCATION:Klub Delta\, ul. Racławicka 10\, Szczecin\, 70-811\, Poland
CATEGORIES:Wydarzenia,Zajęcia cykliczne
ATTACH;FMTTYPE=image/jpeg:https://mok.szczecin.pl/wp-content/uploads/2025/12/DSCF2060-scaled-e1766434809851.jpg
ORGANIZER;CN="Miejski O%C5%9Brodek Kultury w Szczecinie":MAILTO:sekretariat@mok.szczecin.pl
END:VEVENT
BEGIN:VEVENT
DTSTART;TZID=Europe/Warsaw:20260315T110000
DTEND;TZID=Europe/Warsaw:20260315T123000
DTSTAMP:20260421T103908
CREATED:20260324T131612Z
LAST-MODIFIED:20260324T131727Z
UID:10000273-1773572400-1773577800@mok.szczecin.pl
SUMMARY:Ukojenie w ruchu – zajęcia z elementami jogi i pilatesu - niedziela
DESCRIPTION:Zanurz się w łagodnym stanie\, gdzie ciało i umysł odnajdują ukojenie w płynnym ruchu. Subtelne rozciąganie z elementami jogi\, pilatesu i elementami tanecznymi to sposób na regenerację po dniu pełnym bodźców. Zapraszamy w niedziele o godz. 11:00.  \nBilety w cenie 20 zł za jedno spotkanie. \nZajęcia dla wszystkich\, którzy szukają przestrzeni\, oddechu i kontaktu z własnym rytmem. Praktyka skierowana do każdego\, prowadzona w harmonii z oddechem – bez presji\, tylko obecność i spokój.\nZapraszamy osoby w każdym wieku 16+\, poszukujące ukojenia\, ruchu i możliwości integracji z sąsiadami.\nprowadząca: Alicja Sieracka \nDo zabrania ze sobą:\n– wygodny strój – dobrze mieć ze sobą skarpetki antypoślizgowe\n– mata\n– chęć do ćwiczeń \nFot. Katarzyna Bazylińska
URL:https://mok.szczecin.pl/wydarzenie/ukojenie-w-ruchu-zajecia-z-elementami-jogi-i-pilatesu-niedziela-3/2026-03-15/
LOCATION:Klub Delta\, ul. Racławicka 10\, Szczecin\, 70-811\, Poland
CATEGORIES:Wydarzenia,Zajęcia cykliczne
ATTACH;FMTTYPE=image/jpeg:https://mok.szczecin.pl/wp-content/uploads/2025/12/DSCF2060-scaled-e1766434809851.jpg
ORGANIZER;CN="Miejski O%C5%9Brodek Kultury w Szczecinie":MAILTO:sekretariat@mok.szczecin.pl
END:VEVENT
BEGIN:VEVENT
DTSTART;TZID=Europe/Warsaw:20260315T163000
DTEND;TZID=Europe/Warsaw:20260315T163000
DTSTAMP:20260421T103908
CREATED:20260304T145631Z
LAST-MODIFIED:20260312T115432Z
UID:10000188-1773592200-1773592200@mok.szczecin.pl
SUMMARY:Stowarzyszenie umarłych poetów | Kulturalni w rozrywce - młodzieżowe spotkania filmowe
DESCRIPTION:Kulturalni w rozrywce to projekt społeczny\, realizowany przez młodzież dla młodzieży.\nSą to cykliczne spotkania filmowe\, na których wyświetlane będą klasyki kina. \nProjekt tworzony jest z myślą o młodzieży\, jednak mile widziani są wszyscy zainteresowani.  \nProjekt Kulturalni w rozrywce w założeniach ma dać młodym ludziom okazję do spotkań i poznawania nowych osób\, a także do spędzania czasu wolnego w wartościowy sposób. \nSeanse filmowe odbędą się w Klubie Delta\, w terminach: \n\n15 marca\, niedziela o 16.30 Stowarzyszenie umarłych poetów\n29 marca\, niedziela o 16.30 Grease\n\nWstęp na wszystkie seanse jest bezpłatny.\nSeanse realizowane są w ramach projektu społęcznego „Zwolnieni z teorii”.
URL:https://mok.szczecin.pl/wydarzenie/kulturalni-w-rozrywce-mlodziezowe-spotkania-filmowe-2/
LOCATION:Klub Delta\, ul. Racławicka 10\, Szczecin\, 70-811\, Poland
CATEGORIES:Wydarzenia
ATTACH;FMTTYPE=image/jpeg:https://mok.szczecin.pl/wp-content/uploads/2026/03/dead_poets_society_glowny-e1772635978636.jpeg
END:VEVENT
END:VCALENDAR