BEGIN:VCALENDAR
VERSION:2.0
PRODID:-//Miejski Ośrodek Kultury w Szczecinie - ECPv6.15.20//NONSGML v1.0//EN
CALSCALE:GREGORIAN
METHOD:PUBLISH
X-ORIGINAL-URL:https://mok.szczecin.pl
X-WR-CALDESC:Wydarzenia dla Miejski Ośrodek Kultury w Szczecinie
REFRESH-INTERVAL;VALUE=DURATION:PT1H
X-Robots-Tag:noindex
X-PUBLISHED-TTL:PT1H
BEGIN:VTIMEZONE
TZID:Europe/Warsaw
BEGIN:DAYLIGHT
TZOFFSETFROM:+0100
TZOFFSETTO:+0200
TZNAME:CEST
DTSTART:20250330T010000
END:DAYLIGHT
BEGIN:STANDARD
TZOFFSETFROM:+0200
TZOFFSETTO:+0100
TZNAME:CET
DTSTART:20251026T010000
END:STANDARD
BEGIN:DAYLIGHT
TZOFFSETFROM:+0100
TZOFFSETTO:+0200
TZNAME:CEST
DTSTART:20260329T010000
END:DAYLIGHT
BEGIN:STANDARD
TZOFFSETFROM:+0200
TZOFFSETTO:+0100
TZNAME:CET
DTSTART:20261025T010000
END:STANDARD
BEGIN:DAYLIGHT
TZOFFSETFROM:+0100
TZOFFSETTO:+0200
TZNAME:CEST
DTSTART:20270328T010000
END:DAYLIGHT
BEGIN:STANDARD
TZOFFSETFROM:+0200
TZOFFSETTO:+0100
TZNAME:CET
DTSTART:20271031T010000
END:STANDARD
END:VTIMEZONE
BEGIN:VEVENT
DTSTART;TZID=Europe/Warsaw:20260228T083000
DTEND;TZID=Europe/Warsaw:20260301T173000
DTSTAMP:20260421T103832
CREATED:20260225T133720Z
LAST-MODIFIED:20260225T171756Z
UID:10000174-1772267400-1772386200@mok.szczecin.pl
SUMMARY:SzczeciNxN 2026 - zawody w układaniu kostki Rubika na czas
DESCRIPTION:W weekend 28 lutego-1 marca Klub Delta zostanie opanowany przez fanów kostki Rubika! Zapraszamy do kibicowania zawodnikom – dla publiczności wstęp wolny! \nSzczeciNxN 2026 to wydarzenie oficjalnie licencjonowane przez World Cube Association (WCA) i obejmuje konkurencje w różnych kostkach\, w tym 3x3x3\, 4x4x4\, 5x5x5\, 6x6x6\, Pyraminx i inne. \nSzczegółowy program i harmonogram konkurencji na stronie internetowej zawodów.
URL:https://mok.szczecin.pl/wydarzenie/szczecinxn-2026/2026-02-28/
LOCATION:Klub Delta\, ul. Racławicka 10\, Szczecin\, 70-811\, Poland
CATEGORIES:Wydarzenia
ATTACH;FMTTYPE=image/jpeg:https://mok.szczecin.pl/wp-content/uploads/2026/02/pexels-byron-sullivan-2714266-5664491-scaled-e1772026586470.jpg
END:VEVENT
END:VCALENDAR