BEGIN:VCALENDAR
VERSION:2.0
PRODID:-//Miejski Ośrodek Kultury w Szczecinie - ECPv6.15.20//NONSGML v1.0//EN
CALSCALE:GREGORIAN
METHOD:PUBLISH
X-WR-CALNAME:Miejski Ośrodek Kultury w Szczecinie
X-ORIGINAL-URL:https://mok.szczecin.pl
X-WR-CALDESC:Wydarzenia dla Miejski Ośrodek Kultury w Szczecinie
REFRESH-INTERVAL;VALUE=DURATION:PT1H
X-Robots-Tag:noindex
X-PUBLISHED-TTL:PT1H
BEGIN:VTIMEZONE
TZID:Europe/Warsaw
BEGIN:DAYLIGHT
TZOFFSETFROM:+0100
TZOFFSETTO:+0200
TZNAME:CEST
DTSTART:20250330T010000
END:DAYLIGHT
BEGIN:STANDARD
TZOFFSETFROM:+0200
TZOFFSETTO:+0100
TZNAME:CET
DTSTART:20251026T010000
END:STANDARD
BEGIN:DAYLIGHT
TZOFFSETFROM:+0100
TZOFFSETTO:+0200
TZNAME:CEST
DTSTART:20260329T010000
END:DAYLIGHT
BEGIN:STANDARD
TZOFFSETFROM:+0200
TZOFFSETTO:+0100
TZNAME:CET
DTSTART:20261025T010000
END:STANDARD
BEGIN:DAYLIGHT
TZOFFSETFROM:+0100
TZOFFSETTO:+0200
TZNAME:CEST
DTSTART:20270328T010000
END:DAYLIGHT
BEGIN:STANDARD
TZOFFSETFROM:+0200
TZOFFSETTO:+0100
TZNAME:CET
DTSTART:20271031T010000
END:STANDARD
END:VTIMEZONE
BEGIN:VEVENT
DTSTART;TZID=Europe/Warsaw:20260226T103000
DTEND;TZID=Europe/Warsaw:20260226T111500
DTSTAMP:20260421T103544
CREATED:20260115T144420Z
LAST-MODIFIED:20260217T215147Z
UID:10000084-1772101800-1772104500@mok.szczecin.pl
SUMMARY:Planeta Delta | zajęcia dla dzieci od 1 do 3 lat
DESCRIPTION:Miejski Ośrodek Kultury zaprasza na zajęcia dedykowane najmłodszym w czwartek 26 lutego o godz. 10:30. \nBilety w cenie 10 zł (każde dziecko i każdy opiekun muszą mieć swój bilet) do nabycia na portalu kicket.pl \nPlaneta Delta to ogólnorozwojowe zajęcia edukacyjno-animacyjne dla dzieci wieku przedprzedszkolnym\, przebywających w ciągu dnia z bliskim dorosłym w domu.\nPoprzez działania ruchowe\, plastyczne\, teatralne i muzyczne będziemy poznawać świat wokół nas. Nasze spotkania pozwolą dzieciom oswoić się z grupą i osobą prowadzącą zajęcia. Dorośli będą mogli aktywnie towarzyszyć swoim dzieciom\, jednocześnie mając okazję do spotkania i wymiany doświadczeń z pozostałymi dorosłymi. Zajęcia być może zainspirują ich do wspólnych zabaw we własnych domach. \nPlaneta Delta to przestrzeń przyjazna najmłodszym i bliskim im dorosłym.\nZajęcia odbywają się w kameralnej grupie\, trwają ok. 45 minut. Spotykamy się dwa razy w miesiącu. Na salę wchodzimy bez butów – można mieć kapcie lub skarpetki.\nZajęcia prowadzi Magdalena Gardas-Wasilewska – animatorka kultury\, pedagożka teatru. Występuje w przedstawieniach dla dzieci od 1. roku życia – w grupie teatralnej Głowa mała. Jest członkinią Fundacji Tettere\, zajmującej się działaniami artystycznymi i edukacyjnymi na rzecz dzieci\, rodzin i społeczności lokalnych. \nFot. Grażyna Iłowiecka
URL:https://mok.szczecin.pl/wydarzenie/planeta-delta-zajecia-dla-dzieci-od-1-do-3-lat-5/
LOCATION:Klub Delta\, ul. Racławicka 10\, Szczecin\, 70-811\, Poland
CATEGORIES:Wydarzenia
ATTACH;FMTTYPE=image/jpeg:https://mok.szczecin.pl/wp-content/uploads/2025/12/2025-03-06-MOK-Planeta-Delta©Grazyna-Ilowiecka-12-scaled-e1766438978171.jpg
END:VEVENT
BEGIN:VEVENT
DTSTART;TZID=Europe/Warsaw:20260226T173000
DTEND;TZID=Europe/Warsaw:20260226T173000
DTSTAMP:20260421T103544
CREATED:20260213T132840Z
LAST-MODIFIED:20260217T215115Z
UID:10000122-1772127000-1772127000@mok.szczecin.pl
SUMMARY:Springsteen: Ocal mnie od nicości | Kino w Klubie Delta
DESCRIPTION:To film o powstawaniu albumu „Nebraska” Bruce’a Springsteena z 1982 roku\, kiedy muzyk stoi u progu kariery i próbuje pogodzić presję sukcesu z demonami przeszłości.\nFilm „Springsteen: Ocal mnie od nicości” (reż. Scott Cooper) pokażemy w Klubie Delta w czwartek 26 lutego o godz. 17:30. \nBilety w cenie 𝟏𝟓 𝐳ł/𝟏𝟎 𝐳ł – dostępne przed seansem w Klubie Delta\nSPRINGSTEEN: OCAL MNIE OD NICOŚCI (Springsteen: Deliver Me from Nowhere\, USA 2025\, 117’)\nREŻYSERIA: Scott Cooper\nOBSADA: Jeremy Allen White\, Jeremy Strong\, Paul Walter Hauser \n„Springsteen: Ocal mnie od nicości” to film o powstawaniu albumu „Nebraska” Bruce’a Springsteena z 1982 roku\, kiedy muzyk stoi u progu kariery i próbował pogodzić presję sukcesu z demonami przeszłości. Album powstał w przełomowym okresie życia muzyka i uchodzi dziś za jedno z jego najbardziej ponadczasowych dzieł. Surowa\, przejmująca\, akustyczna płyta jest pełna historii ludzi zagubionych\, szukających sensu i nadziei. W roli Bruce’a Springsteena występuje Jeremy Allen White\, którego rolę uznano za wybitną. Reżyserem filmu jest Scott Cooper\, który także napisał scenariusz w oparciu o książkę Deliver Me from Nowhere autorstwa Warrena Zanesa. \nPrzed filmami tradycyjne wprowadzenia Krzysztofa Spóra – dziennikarza filmowego\, które przybliżą miejsce tych produkcji w 130-letniej historii kina.
URL:https://mok.szczecin.pl/wydarzenie/springsteen-ocal-mnie-od-nicosci-kino-w-klubie-delta/
LOCATION:Klub Delta\, ul. Racławicka 10\, Szczecin\, 70-811\, Poland
CATEGORIES:Wydarzenia
ATTACH;FMTTYPE=image/webp:https://mok.szczecin.pl/wp-content/uploads/2026/01/media_cache_article-cover_2025_10_springsteen_68fb19b38242a-1-e1768831862204.webp
ORGANIZER;CN="Miejski O%C5%9Brodek Kultury w Szczecinie":MAILTO:sekretariat@mok.szczecin.pl
END:VEVENT
END:VCALENDAR