BEGIN:VCALENDAR
VERSION:2.0
PRODID:-//Miejski Ośrodek Kultury w Szczecinie - ECPv6.15.20//NONSGML v1.0//EN
CALSCALE:GREGORIAN
METHOD:PUBLISH
X-ORIGINAL-URL:https://mok.szczecin.pl
X-WR-CALDESC:Wydarzenia dla Miejski Ośrodek Kultury w Szczecinie
REFRESH-INTERVAL;VALUE=DURATION:PT1H
X-Robots-Tag:noindex
X-PUBLISHED-TTL:PT1H
BEGIN:VTIMEZONE
TZID:Europe/Warsaw
BEGIN:DAYLIGHT
TZOFFSETFROM:+0100
TZOFFSETTO:+0200
TZNAME:CEST
DTSTART:20250330T010000
END:DAYLIGHT
BEGIN:STANDARD
TZOFFSETFROM:+0200
TZOFFSETTO:+0100
TZNAME:CET
DTSTART:20251026T010000
END:STANDARD
BEGIN:DAYLIGHT
TZOFFSETFROM:+0100
TZOFFSETTO:+0200
TZNAME:CEST
DTSTART:20260329T010000
END:DAYLIGHT
BEGIN:STANDARD
TZOFFSETFROM:+0200
TZOFFSETTO:+0100
TZNAME:CET
DTSTART:20261025T010000
END:STANDARD
BEGIN:DAYLIGHT
TZOFFSETFROM:+0100
TZOFFSETTO:+0200
TZNAME:CEST
DTSTART:20270328T010000
END:DAYLIGHT
BEGIN:STANDARD
TZOFFSETFROM:+0200
TZOFFSETTO:+0100
TZNAME:CET
DTSTART:20271031T010000
END:STANDARD
END:VTIMEZONE
BEGIN:VEVENT
DTSTART;TZID=Europe/Warsaw:20260223T180000
DTEND;TZID=Europe/Warsaw:20260223T190000
DTSTAMP:20260419T155132
CREATED:20251222T162259Z
LAST-MODIFIED:20260310T093943Z
UID:10000056-1771869600-1771873200@mok.szczecin.pl
SUMMARY:Szlak organowy Barnima Grünenberga – spotkanie z Janem Kułakowskim
DESCRIPTION:Zapraszamy na wyjątkowe spotkanie poświęcone Szlakowi Organowemu Barnima Grüneberga\, którego patronem jest Miejski Ośrodek Kultury. To fascynująca opowieść o muzyce\, historii i niezwykłej rodzinie organmistrzów\, nierozerwalnie związanej z prawobrzeżem Szczecina. Wydarzenie odbędzie się w poniedziałek\, 23 lutego o godz. 18:00. Wstęp wolny! \nSzlak obejmuje najważniejsze miejsca związane z działalnością rodziny Grünebergów: \n\nOrgany w Dąbiu – największe zabytkowe mechaniczne organy w Szczecinie\nOrgany w Zdrojach – najstarsze organy w Szczecinie\nWillę Grünebergów – serce dawnego organmistrzowskiego imperium\n\nPrzez blisko 40 lat rodzina Grünebergów była związana z prawobrzeżem miasta. Przy ich willi działała niegdyś potężna fabryka organów z własną salą koncertową i licznymi warsztatami. Przez siedem pokoleń\, głównie w Szczecinie\, tworzyli oni znakomite instrumenty – dla kościołów\, synagog\, sal koncertowych i prywatnych domów. Niektóre z nich do dziś należą do największych mechanicznych organów na świecie. \nNaszym gościem będzie Jan Kułakowski z Instytutu im. Barnima Grüneberga. Podczas spotkania przybliżymy mieszkańcom prawobrzeża tę niezwykłą\, a wciąż mało znaną historię – pełną dźwięków\, pasji i mistrzowskiego rzemiosła. Zapraszamy wszystkich miłośników muzyki\, historii Szczecina i lokalnego dziedzictwa!
URL:https://mok.szczecin.pl/wydarzenie/szlak-organowy-barnima-grunenberga-spotkanie-z-janem-kulakowskim/
LOCATION:Klub Delta\, ul. Racławicka 10\, Szczecin\, 70-811\, Poland
CATEGORIES:Wydarzenia
ATTACH;FMTTYPE=image/jpeg:https://mok.szczecin.pl/wp-content/uploads/2025/12/organy-2-e1766402718358.jpg
END:VEVENT
END:VCALENDAR