BEGIN:VCALENDAR
VERSION:2.0
PRODID:-//Miejski Ośrodek Kultury w Szczecinie - ECPv6.15.20//NONSGML v1.0//EN
CALSCALE:GREGORIAN
METHOD:PUBLISH
X-WR-CALNAME:Miejski Ośrodek Kultury w Szczecinie
X-ORIGINAL-URL:https://mok.szczecin.pl
X-WR-CALDESC:Wydarzenia dla Miejski Ośrodek Kultury w Szczecinie
REFRESH-INTERVAL;VALUE=DURATION:PT1H
X-Robots-Tag:noindex
X-PUBLISHED-TTL:PT1H
BEGIN:VTIMEZONE
TZID:Europe/Warsaw
BEGIN:DAYLIGHT
TZOFFSETFROM:+0100
TZOFFSETTO:+0200
TZNAME:CEST
DTSTART:20250330T010000
END:DAYLIGHT
BEGIN:STANDARD
TZOFFSETFROM:+0200
TZOFFSETTO:+0100
TZNAME:CET
DTSTART:20251026T010000
END:STANDARD
BEGIN:DAYLIGHT
TZOFFSETFROM:+0100
TZOFFSETTO:+0200
TZNAME:CEST
DTSTART:20260329T010000
END:DAYLIGHT
BEGIN:STANDARD
TZOFFSETFROM:+0200
TZOFFSETTO:+0100
TZNAME:CET
DTSTART:20261025T010000
END:STANDARD
BEGIN:DAYLIGHT
TZOFFSETFROM:+0100
TZOFFSETTO:+0200
TZNAME:CEST
DTSTART:20270328T010000
END:DAYLIGHT
BEGIN:STANDARD
TZOFFSETFROM:+0200
TZOFFSETTO:+0100
TZNAME:CET
DTSTART:20271031T010000
END:STANDARD
END:VTIMEZONE
BEGIN:VEVENT
DTSTART;TZID=Europe/Warsaw:20260214T100000
DTEND;TZID=Europe/Warsaw:20260214T140000
DTSTAMP:20260421T120230
CREATED:20260126T131824Z
LAST-MODIFIED:20260127T103657Z
UID:10000119-1771063200-1771077600@mok.szczecin.pl
SUMMARY:Mozaikowa walentynka - warsztaty ceramiczne
DESCRIPTION:W walentynkową sobotę zapraszamy do naszej pracowni ceramicznej na warsztaty mozaikowe. To spotkanie zarówno dla par\, które chciałyby wspólnie coś stworzyć\, jak i tych którzy chcą podarować ukochanej osobie dzieło swoich rąk. Technika mozaiki\, jak mało która\, nadaje się do wspólnego tworzenia\, bo łatwo można podzielić się zadaniami („Ty wycinasz\, ja przyklejam”).  \nWarsztaty potrwają ok. 4 godzin – w tym czasie powinno udać się stworzyć pracę gotową do zabrania do domu. \nOpłaty:\n– 150 zł – opłata za dwie osoby\, tworzące jedną wspólną pracę\n– 100 zł – opłata za jedną osobę \n14.02.2026\n10:00-14:00\nMOK\, ul. Goleniowska 67\n\nzapisy prowadzi sekretariat MOK:\nzadzwoń: 91 46 91 639\nlub napisz: sekretariat@mok.szczecin.pl  \nWarsztaty poprowadzi Paulina Stok-Stocka.
URL:https://mok.szczecin.pl/wydarzenie/mozaikowa-walentynka-warsztaty-ceramiczne/
LOCATION:Miejski Ośrodek Kultury\, ul. Goleniowska 67\, Szczecin\, 70-847
CATEGORIES:Wydarzenia
ATTACH;FMTTYPE=image/jpeg:https://mok.szczecin.pl/wp-content/uploads/2026/01/2025-12-11-warsztaty-mozaika©Grazyna-Ilowiecka-8-1-scaled-e1769433494183.jpg
ORGANIZER;CN="Miejski O%C5%9Brodek Kultury w Szczecinie":MAILTO:sekretariat@mok.szczecin.pl
END:VEVENT
BEGIN:VEVENT
DTSTART;TZID=Europe/Warsaw:20260214T180000
DTEND;TZID=Europe/Warsaw:20260214T210000
DTSTAMP:20260421T120230
CREATED:20260115T123252Z
LAST-MODIFIED:20260115T134755Z
UID:10000080-1771092000-1771102800@mok.szczecin.pl
SUMMARY:Taneczne Walentynki | Eva Sand z zespołem
DESCRIPTION:Zapraszamy na wyjątkowy wieczór z muzyką na żywo – pełen tańca\, energii i największych przebojów trzech niezapomnianych dekad! Na parkiecie zabrzmią kultowe hity polskie i zagraniczne\, które porwą do zabawy każdego – bez względu na wiek.\nNa scenie wystąpi Eva Sand – charyzmatyczna wokalistka o unikatowym głosie\, która wraz z zespołem zabierze nas w muzyczną podróż pełną emocji\, radości i tanecznych rytmów w stylu lat 80’\, 90’\, 00. \nSkład zespołu:\nEva Sand – wokal\nWiktor Szostak – piano\nKamil Żuchowski – gitara basowa\nTomasz Nowak – perkusja \nRepertuar: znane i uwielbiane utwory do tańca – m.in. Maryla Rodowicz\, Boney M\, Anna Jantar\, Bonnie Tyler\, Whitney Houston\, Czerwone Gitary i wiele innych hitów\, które znacie i kochacie!\nPrzygotujcie wygodne buty\, dobry humor i dajcie się porwać muzyce. Tego wieczoru parkiet będzie należał do Was! \nBilety:\n25 zł – cena do 13 lutego\n30 zł – cena w dniu wydarzenia\, tj. 14 lutego \nDo zobaczenia na parkiecie!
URL:https://mok.szczecin.pl/wydarzenie/taneczne-walentynki-eva-sand-z-zespolem/
LOCATION:Szczecin
CATEGORIES:Wydarzenia
ATTACH;FMTTYPE=image/jpeg:https://mok.szczecin.pl/wp-content/uploads/2026/01/DSC_4051-e1768480359806.jpeg
END:VEVENT
END:VCALENDAR