BEGIN:VCALENDAR
VERSION:2.0
PRODID:-//Miejski Ośrodek Kultury w Szczecinie - ECPv6.15.20//NONSGML v1.0//EN
CALSCALE:GREGORIAN
METHOD:PUBLISH
X-ORIGINAL-URL:https://mok.szczecin.pl
X-WR-CALDESC:Wydarzenia dla Miejski Ośrodek Kultury w Szczecinie
REFRESH-INTERVAL;VALUE=DURATION:PT1H
X-Robots-Tag:noindex
X-PUBLISHED-TTL:PT1H
BEGIN:VTIMEZONE
TZID:Europe/Warsaw
BEGIN:DAYLIGHT
TZOFFSETFROM:+0100
TZOFFSETTO:+0200
TZNAME:CEST
DTSTART:20250330T010000
END:DAYLIGHT
BEGIN:STANDARD
TZOFFSETFROM:+0200
TZOFFSETTO:+0100
TZNAME:CET
DTSTART:20251026T010000
END:STANDARD
BEGIN:DAYLIGHT
TZOFFSETFROM:+0100
TZOFFSETTO:+0200
TZNAME:CEST
DTSTART:20260329T010000
END:DAYLIGHT
BEGIN:STANDARD
TZOFFSETFROM:+0200
TZOFFSETTO:+0100
TZNAME:CET
DTSTART:20261025T010000
END:STANDARD
BEGIN:DAYLIGHT
TZOFFSETFROM:+0100
TZOFFSETTO:+0200
TZNAME:CEST
DTSTART:20270328T010000
END:DAYLIGHT
BEGIN:STANDARD
TZOFFSETFROM:+0200
TZOFFSETTO:+0100
TZNAME:CET
DTSTART:20271031T010000
END:STANDARD
END:VTIMEZONE
BEGIN:VEVENT
DTSTART;TZID=Europe/Warsaw:20260213T173000
DTEND;TZID=Europe/Warsaw:20260213T173000
DTSTAMP:20260421T121425
CREATED:20260122T125957Z
LAST-MODIFIED:20260122T130445Z
UID:10000108-1771003800-1771003800@mok.szczecin.pl
SUMMARY:Cinema Paradiso | Filmowe Walentynki w Klubie Delta
DESCRIPTION:Film „Cinema Paradiso” (reż. Giuseppe Tornatore) w ramach świętowania Walentynek\, pokażemy w Klubie Delta w piątek 13 lutego o godz. 17:30. \nBilety do nabycia przed seansem w Klubie Delta w cenie: 15 zł normalne i 10 zł ulgowe. \nCeniony reżyser filmowy Salvatore Di Vita (Jacques Perrin) pewnej nocy odbiera telefon. Wiadomość\, którą usłyszy\, zapoczątkuje lawinę nostalgicznych wspomnień\, których łącznikiem będzie kino. To właśnie tam po II wojnie światowej mały Totò (Salvatore Cascio) bezpamiętnie zakochał się w magii „ruchomych obrazów”. Chłopczyk pragnie tylko jednego: zaprzyjaźnić się z kinooperatorem Alfredo (Philippe Noiret). Zadanie to będzie jednak trudniejsze niż mu się wydaje. Tytułowe „Cinema Paradiso”– jego niesamowita i równie osobliwa widownia oraz bogaty repertuar – staną się tłem dla niezapomnianych przygód dorastającego na sycylijskiej prowincji bohatera\, jego pierwszej „wielkiej miłości”\, aż do czasu wyjazdu z rodzinnego miasteczka.\n„Cinema Paradiso” pozostaje do dziś najpiękniejszym „listem miłosnym do kina”\, jaki kiedykolwiek spisano na taśmie filmowej. Ta ponadczasowa opowieść o przyjaźni\, marzeniach\, dorastaniu i wielkiej fascynacji X Muzą porwała serca widzów na całym świecie. \nCINEMA PARADISO (Nuovo Cinema Paradiso\, Włochy/Francja 1988\, 123’)\nREŻYSERIA: Giuseppe Tornatore\nOBSADA: Philippe Noiret\, Jacques Perrin\, Salvatore Cascio\, Marco Leonardi\, Agnese Nano \nPrzed filmami tradycyjne wprowadzenia Krzysztofa Spóra – dziennikarza filmowego\, które przybliżą miejsce tych produkcji w 130-letniej historii kina.
URL:https://mok.szczecin.pl/wydarzenie/cinema-paradiso-filmowe-walentynki-w-klubie-delta/
LOCATION:Klub Delta\, ul. Racławicka 10\, Szczecin\, 70-811\, Poland
CATEGORIES:Wydarzenia
ATTACH;FMTTYPE=image/jpeg:https://mok.szczecin.pl/wp-content/uploads/2026/01/068327_r0_940-1-e1769086787772.jpg
END:VEVENT
END:VCALENDAR