BEGIN:VCALENDAR
VERSION:2.0
PRODID:-//Miejski Ośrodek Kultury w Szczecinie - ECPv6.15.20//NONSGML v1.0//EN
CALSCALE:GREGORIAN
METHOD:PUBLISH
X-WR-CALNAME:Miejski Ośrodek Kultury w Szczecinie
X-ORIGINAL-URL:https://mok.szczecin.pl
X-WR-CALDESC:Wydarzenia dla Miejski Ośrodek Kultury w Szczecinie
REFRESH-INTERVAL;VALUE=DURATION:PT1H
X-Robots-Tag:noindex
X-PUBLISHED-TTL:PT1H
BEGIN:VTIMEZONE
TZID:Europe/Warsaw
BEGIN:DAYLIGHT
TZOFFSETFROM:+0100
TZOFFSETTO:+0200
TZNAME:CEST
DTSTART:20250330T010000
END:DAYLIGHT
BEGIN:STANDARD
TZOFFSETFROM:+0200
TZOFFSETTO:+0100
TZNAME:CET
DTSTART:20251026T010000
END:STANDARD
BEGIN:DAYLIGHT
TZOFFSETFROM:+0100
TZOFFSETTO:+0200
TZNAME:CEST
DTSTART:20260329T010000
END:DAYLIGHT
BEGIN:STANDARD
TZOFFSETFROM:+0200
TZOFFSETTO:+0100
TZNAME:CET
DTSTART:20261025T010000
END:STANDARD
BEGIN:DAYLIGHT
TZOFFSETFROM:+0100
TZOFFSETTO:+0200
TZNAME:CEST
DTSTART:20270328T010000
END:DAYLIGHT
BEGIN:STANDARD
TZOFFSETFROM:+0200
TZOFFSETTO:+0100
TZNAME:CET
DTSTART:20271031T010000
END:STANDARD
END:VTIMEZONE
BEGIN:VEVENT
DTSTART;TZID=Europe/Warsaw:20260212T170000
DTEND;TZID=Europe/Warsaw:20260212T183000
DTSTAMP:20260421T121251
CREATED:20260121T144028Z
LAST-MODIFIED:20260121T144028Z
UID:10000107-1770915600-1770921000@mok.szczecin.pl
SUMMARY:Ceramiczne babeczki | Ceramiczne ferie
DESCRIPTION:Miejski Ośrodek Kultury zaprasza na popołudniowe warsztaty ceramiczne w czasie ferii zimowych.\nW czwartek 12 lutego o 17.00 zapraszamy do siedziby MOK dzieci w wieku od 5 do 12 lat wraz z rodzicami na warsztaty\, podczas których będziemy tworzyć ceramiczne słodkie babeczki. \nBilety: 30 zł (każde dziecko i opiekun musi mieć swój bilet)\, do nabycia na portalu kicket.pl.\nUczestnicy powyżej 9 roku życia mogą brać udział w warsztatach bez opiekuna. \nW Tłusty Czwartek\, będziemy tworzyć ceramiczne słodkie babeczki. Warsztat jest jednorazowy – na jednych zajęciach zarówno lepimy\, jak i malujemy prace. Odbiór prac będzie ustalony z prowadzącą na zajęciach. \nWarsztaty poprowadzi Małgorzata Krzakowska. \nWarsztaty przeznaczone są dla dzieci w wieku 5-12 lat.\nCzas trwania: 90 minut\nMiejsce: Miejski Ośrodek Kultury\, ul. Goleniowska 67 w Szczecinie
URL:https://mok.szczecin.pl/wydarzenie/ceramiczne-babeczki-ceramiczne-ferie/
LOCATION:Miejski Ośrodek Kultury\, ul. Goleniowska 67\, Szczecin\, 70-847
CATEGORIES:Wydarzenia
ATTACH;FMTTYPE=image/jpeg:https://mok.szczecin.pl/wp-content/uploads/2026/01/IMG_20220228_162017_380-scaled-e1769006408124.jpg
END:VEVENT
BEGIN:VEVENT
DTSTART;TZID=Europe/Warsaw:20260212T173000
DTEND;TZID=Europe/Warsaw:20260212T173000
DTSTAMP:20260421T121251
CREATED:20260119T141116Z
LAST-MODIFIED:20260210T095723Z
UID:10000086-1770917400-1770917400@mok.szczecin.pl
SUMMARY:Ich noce | Filmowe Walentynki w Klubie Delta
DESCRIPTION:Film „Ich noce” (reż. Frank Capra) w ramach świętowania walentynek\, pokażemy w Klubie Delta w czwartek 12 lutego o godz. 17:30. \nBilety do nabycia przed seansem w Klubie Delta w cenie: 15 zł normalne i 10 zł ulgowe. \nDziedziczka fortuny Ellie Andrews (Claudette Colbert) ucieka przed ojcem\, który próbuje odwieść ją od zamiaru poślubienia notorycznego playboya.\nW drodze do Nowego Jorku Ellie poznaje Petera Warne’a (Clark Gable)\, cynicznego\, bezrobotnego dziennikarza. Gdy psuje się ich autobus\, para postanawia dotrzeć na północ wspólnie. Ciągłe sprzeczki i próba złapania środka transportu na własną rękę to tylko początek ich przygody. Film jako pierwszy w historii otrzymał Oscary w pięciu kluczowych kategoriach (film\, reżyser\, aktorka pierwszoplanowa\, aktor pierwszoplanowy\, scenariusz). \nICH NOCE (It Happened One Night\, USA 1934\, 105’)\nREŻYSERIA: Frank Capra\nOBSADA: Claudette Colbert\, Clark Gable\, Walter Conolly \nPrzed filmami tradycyjne wprowadzenia Krzysztofa Spóra – dziennikarza filmowego\, które przybliżą miejsce tych produkcji w 130-letniej historii kina.
URL:https://mok.szczecin.pl/wydarzenie/ich-noce-filmowe-walentynki-w-klubie-delta-kino-w-klubie-delta/
LOCATION:Klub Delta\, ul. Racławicka 10\, Szczecin\, 70-811\, Poland
CATEGORIES:Wydarzenia
ATTACH;FMTTYPE=image/png:https://mok.szczecin.pl/wp-content/uploads/2026/01/ich-noceee-e1768833144772.png
END:VEVENT
END:VCALENDAR