BEGIN:VCALENDAR
VERSION:2.0
PRODID:-//Miejski Ośrodek Kultury w Szczecinie - ECPv6.15.20//NONSGML v1.0//EN
CALSCALE:GREGORIAN
METHOD:PUBLISH
X-WR-CALNAME:Miejski Ośrodek Kultury w Szczecinie
X-ORIGINAL-URL:https://mok.szczecin.pl
X-WR-CALDESC:Wydarzenia dla Miejski Ośrodek Kultury w Szczecinie
REFRESH-INTERVAL;VALUE=DURATION:PT1H
X-Robots-Tag:noindex
X-PUBLISHED-TTL:PT1H
BEGIN:VTIMEZONE
TZID:Europe/Warsaw
BEGIN:DAYLIGHT
TZOFFSETFROM:+0100
TZOFFSETTO:+0200
TZNAME:CEST
DTSTART:20250330T010000
END:DAYLIGHT
BEGIN:STANDARD
TZOFFSETFROM:+0200
TZOFFSETTO:+0100
TZNAME:CET
DTSTART:20251026T010000
END:STANDARD
BEGIN:DAYLIGHT
TZOFFSETFROM:+0100
TZOFFSETTO:+0200
TZNAME:CEST
DTSTART:20260329T010000
END:DAYLIGHT
BEGIN:STANDARD
TZOFFSETFROM:+0200
TZOFFSETTO:+0100
TZNAME:CET
DTSTART:20261025T010000
END:STANDARD
BEGIN:DAYLIGHT
TZOFFSETFROM:+0100
TZOFFSETTO:+0200
TZNAME:CEST
DTSTART:20270328T010000
END:DAYLIGHT
BEGIN:STANDARD
TZOFFSETFROM:+0200
TZOFFSETTO:+0100
TZNAME:CET
DTSTART:20271031T010000
END:STANDARD
END:VTIMEZONE
BEGIN:VEVENT
DTSTART;TZID=Europe/Warsaw:20260210T123000
DTEND;TZID=Europe/Warsaw:20260210T133000
DTSTAMP:20260421T121253
CREATED:20260123T105646Z
LAST-MODIFIED:20260126T122622Z
UID:10000114-1770726600-1770730200@mok.szczecin.pl
SUMMARY:Bachata Lady
DESCRIPTION:Zapraszamy seniorki na zajęcia taneczne w rytmie bachaty. Zajęcia mają luźną\, liniową formę i są przeznaczone dla osób początkujących. W programie znajdą się kroki podstawowe oraz krótkie\, proste schematy taneczne. \nPodczas zajęć będziemy przede wszystkim tańczyć i swobodnie poruszać się przy muzyce\, ćwicząc koordynację ruchową oraz pamięć. Taniec to przyjemny sposób na aktywność\, który poprawia samopoczucie i pozwala zadbać o dobrą formę w miłej atmosferze. \nZajęcia poprowadzi Anna Mospinek\, instruktorka tańca. \nZapisy prowadzi sekretariat MOK:\nzadzwoń: 91 46 91 639\nlub napisz: sekretariat@mok.szczecin.pl \nWarsztaty odbędą się w dniach 9\, 10 i 11 luty 2026. Można wziąć udział w dowolnej liczbie spotkań. \nUdział bezpłatny!
URL:https://mok.szczecin.pl/wydarzenie/bachata-lady/2026-02-10/
LOCATION:Miejski Ośrodek Kultury\, ul. Goleniowska 67\, Szczecin\, 70-847
CATEGORIES:Wydarzenia
ATTACH;FMTTYPE=image/jpeg:https://mok.szczecin.pl/wp-content/uploads/2026/01/2024-10-05-MOK-potancowka©Grazyna-Ilowiecka-112-e1769430293908.jpg
END:VEVENT
BEGIN:VEVENT
DTSTART;TZID=Europe/Warsaw:20260210T170000
DTEND;TZID=Europe/Warsaw:20260210T183000
DTSTAMP:20260421T121253
CREATED:20260121T140720Z
LAST-MODIFIED:20260209T111609Z
UID:10000106-1770742800-1770748200@mok.szczecin.pl
SUMMARY:Wyprzedane | Okrągłe zwierzaki | Ceramiczne ferie
DESCRIPTION:Miejski Ośrodek Kultury zaprasza na popołudniowe warsztaty ceramiczne w czasie ferii zimowych. \nWe wtorek 10 lutego o 17.00 zapraszamy do siedziby MOK dzieci w wieku od 5 do 12 lat wraz z rodzicami na warsztaty\, podczas których stworzymy nietypowe ceramiczne zwierzaki. \nBilety: 30 zł (każde dziecko i opiekun musi mieć swój bilet)\, do nabycia na portalu kicket.pl.\nUczestnicy powyżej 9 roku życia mogą brać udział w warsztatach bez opiekuna. \nA gdyby wszystkie zwierzaki były jak nadmuchane piłki plażowe? Sprawdźmy to razem\, tworząc okrąglutkie ceramiczne figurki. Na warsztatach lepimy krok po kroku pod opieką instruktora. Warsztat jest jednorazowy – na jednych zajęciach zarówno lepimy\, jak i malujemy prace. Odbiór prac będzie ustalony z prowadzącą na zajęciach. \nWarsztaty poprowadzi Małgorzata Krzakowska. \nWarsztaty przeznaczone są dla dzieci w wieku 5-12 lat.\nCzas trwania: 90 minut\nMiejsce: Miejski Ośrodek Kultury\, ul. Goleniowska 67 w Szczecinie \n 
URL:https://mok.szczecin.pl/wydarzenie/okragle-zwierzaki-ceramiczne-ferie-w-miejskim-osrodku-kultury/
LOCATION:Miejski Ośrodek Kultury\, ul. Goleniowska 67\, Szczecin\, 70-847
CATEGORIES:Wydarzenia
ATTACH;FMTTYPE=image/jpeg:https://mok.szczecin.pl/wp-content/uploads/2026/01/IMG_20260116_002601-e1769004403986.jpg
END:VEVENT
END:VCALENDAR