BEGIN:VCALENDAR
VERSION:2.0
PRODID:-//Miejski Ośrodek Kultury w Szczecinie - ECPv6.15.20//NONSGML v1.0//EN
CALSCALE:GREGORIAN
METHOD:PUBLISH
X-WR-CALNAME:Miejski Ośrodek Kultury w Szczecinie
X-ORIGINAL-URL:https://mok.szczecin.pl
X-WR-CALDESC:Wydarzenia dla Miejski Ośrodek Kultury w Szczecinie
REFRESH-INTERVAL;VALUE=DURATION:PT1H
X-Robots-Tag:noindex
X-PUBLISHED-TTL:PT1H
BEGIN:VTIMEZONE
TZID:Europe/Warsaw
BEGIN:DAYLIGHT
TZOFFSETFROM:+0100
TZOFFSETTO:+0200
TZNAME:CEST
DTSTART:20250330T010000
END:DAYLIGHT
BEGIN:STANDARD
TZOFFSETFROM:+0200
TZOFFSETTO:+0100
TZNAME:CET
DTSTART:20251026T010000
END:STANDARD
BEGIN:DAYLIGHT
TZOFFSETFROM:+0100
TZOFFSETTO:+0200
TZNAME:CEST
DTSTART:20260329T010000
END:DAYLIGHT
BEGIN:STANDARD
TZOFFSETFROM:+0200
TZOFFSETTO:+0100
TZNAME:CET
DTSTART:20261025T010000
END:STANDARD
BEGIN:DAYLIGHT
TZOFFSETFROM:+0100
TZOFFSETTO:+0200
TZNAME:CEST
DTSTART:20270328T010000
END:DAYLIGHT
BEGIN:STANDARD
TZOFFSETFROM:+0200
TZOFFSETTO:+0100
TZNAME:CET
DTSTART:20271031T010000
END:STANDARD
END:VTIMEZONE
BEGIN:VEVENT
DTSTART;TZID=Europe/Warsaw:20260202T080000
DTEND;TZID=Europe/Warsaw:20260206T150000
DTSTAMP:20260421T120215
CREATED:20260114T133424Z
LAST-MODIFIED:20260114T133828Z
UID:10000075-1770019200-1770390000@mok.szczecin.pl
SUMMARY:Przyjazne ferie w Dąbiu
DESCRIPTION:W pierwszym tygodniu ferii zimowych (od 2 do 6 lutego) zapraszamy do Miejskiego Ośrodka Kultury na warsztaty dla dzieci w wieku od 7 do 12 lat. \nZapewniamy:\n– opiekę od 8.00 do 15.00\n– śniadanie i obiad\n– ubezpieczenie\n– dobrą zabawę! \nOpłaty:\nprzy zapisie na 1 lub 2 dni – opłata za dzień to 150 zł\nprzy zapisie na 3 lub więcej dni – opłata za dzień to 125 zł  \nZapisy – poprzez FORMULARZ ZGŁOSZENIOWY \nBędziemy się kontaktować zgodnie z kolejnością zgłoszeń w celu potwierdzenia udziału i dopełnienia formalności związanych z udziałem w zajęciach.\nChcesz o coś dopytać?\nzadzwoń: tel. 91 464 79 23 \n  \nProgram zajęć: \nPoniedziałek 2.02.2026\, godz. 8:00-15:00\nmiejsce: Klub Delta – filia MOK\, ul. Racławicka 10\nMalarstwo strukturalne – zimowy krajobraz\nŁapacze snów / mandale ze sznurka – zimowe talizmany\nKino na poduchach \nWtorek 3.02.2026\, godz. 8:00-15:00\nmiejsce: Miejski Ośrodek Kultury\, ul. Goleniowska 67\nZabawa na 102! – zabawy integracyjne i ruchowe\nWarsztaty ceramiczne\nWarsztaty mozaiki \nŚroda 4.02.2026\, godz. 8:00-15:00\nmiejsce: Klub Delta – filia MOK\, ul. Racławicka 10\nZimowe akwarele\nTkacka pracownia – minimakatki na patyku\nKino na poduchach \nCzwartek 5.02.2026\, godz. 8:00-15:00\nmiejsce: Miejski Ośrodek Kultury\, ul. Goleniowska 67\nZabawa na 102! – zabawy integracyjne i ruchowe\nWarsztaty ceramiczne\nWarsztaty mozaiki \nPiątek 6.02.2026\, godz. 8:00-15:00\nmiejsce: Klub Delta\, ul. Racławicka 10\nAkrylowe – zimowe marzenie\nZapachowe zawieszki\nKino na poduchach \n– \nOpisy zajęć: \nPoniedziałek 2 lutego\nmiejsce: Klub Delta – filia MOK\, ul. Racławicka 10 \nMalarstwo strukturalne – zimowy krajobraz\nPodczas warsztatów dzieci stworzą zimowy pejzaż z wykorzystaniem farb i mas strukturalnych. Będą eksperymentować z fakturą\, warstwami i narzędziami\, ucząc się jak oddać śnieg\, mróz i zimową atmosferę w formie przestrzennego obrazu. Zajęcia rozwijają wyobraźnię i wrażliwość dotykową. \nŁapacze snów / mandale ze sznurka – zimowe talizmany\nTwórcze spotkanie z szydełkiem i sznurkiem w roli głównej! W czasie zajęć dzieci wykonają swój zimowy talizman: łapacz snów lub mandalę ze sznurka. To idealna dekoracja do okna\, ogrodu\, balkonu lub sypialni. Nie trzeba mieć doświadczenia – dzieci krok po kroku zobaczą jak trzymać szydełko\, robić podstawowe sploty i stworzyć lekką\, letnią zawieszkę z frędzlami\, muszelkami i koralikami. \nKino na poduchach\nW swobodnej atmosferze oglądamy film na dużym ekranie. \n\nWtorek 3 lutego\nmiejsce: Miejski Ośrodek Kultury\, ul. Goleniowska 67 \nZabawa na 102!\nZabawy integracyjne i ruchowe z elementami tańca. \nWarsztaty ceramiczne\nTo twórcza przestrzeń\, gdzie każdy uczestnik – bez względu na wiek i doświadczenie – może tworzyć w przyjaznym\, wspierającym środowisku. Podczas wspólnej pracy przy glinie budujemy relacje\, uczymy się cierpliwości\, dzielenia przestrzeni i wzajemnego szacunku. Ceramika daje możliwość nie tylko rozwijania zdolności manualnych\, ale też bycia częścią grupy\, która inspiruje i wspólnie cieszy się z efektów pracy. \nWarsztaty mozaiki\nPracownia mozaiki to przestrzeń tworzenia i wyobraźni. Podczas zajęć dzieci poznają technikę mozaiki i stworzą własne prace z wykorzystaniem kolorowych elementów i drobnych materiałów. Będą komponować wzory\, dobierać kolory oraz uczyć się planowania i precyzji w działaniu. Warsztaty rozwijają kreatywność\, koncentrację oraz wrażliwość plastyczną. \n\nŚroda 4 lutego\nmiejsce: Klub Delta – filia MOK\, ul. Racławicka 10 \nZimowe akwarele\nDelikatne barwy\, miękkie przejścia i magia wody. Dzieci poznają technikę akwareli\, malując zimowe motywy – drzewa\, płatki śniegu i mroźne krajobrazy. Warsztaty sprzyjają wyciszeniu\, koncentracji i swobodnej ekspresji twórczej. \nTkacka pracownia – minimakatki na patyku\nPodczas warsztatów dzieci poznają podstawy tkactwa i własnoręcznie wykonają minimakatki z wykorzystaniem kolorowych włóczek i prostych krosien na patyku. Będą przeplatać różnorodne materiały\, eksperymentować z kolorem i fakturą oraz uczyć się cierpliwości i precyzji. Zajęcia rozwijają zdolności manualne\, kreatywność oraz poczucie estetyki. \nKino na poduchach\nW swobodnej atmosferze oglądamy film na dużym ekranie. \nCzwartek 5 lutego\nmiejsce: Miejski Ośrodek Kultury\, ul. Goleniowska 67 \nZabawa na 102!\nZabawy integracyjne i ruchowe z elementami tańca. \nWarsztaty ceramiczne\nTo twórcza przestrzeń\, gdzie każdy uczestnik – bez względu na wiek i doświadczenie – może tworzyć w przyjaznym\, wspierającym środowisku. Podczas wspólnej pracy przy glinie budujemy relacje\, uczymy się cierpliwości\, dzielenia przestrzeni i wzajemnego szacunku. Ceramika daje możliwość nie tylko rozwijania zdolności manualnych\, ale też bycia częścią grupy\, która inspiruje i wspólnie cieszy się z efektów pracy. \nWarsztaty mozaiki\nPracownia mozaiki to przestrzeń tworzenia i wyobraźni. Podczas zajęć dzieci poznają technikę mozaiki i stworzą własne prace z wykorzystaniem kolorowych elementów i drobnych materiałów. Będą komponować wzory\, dobierać kolory oraz uczyć się planowania i precyzji w działaniu. Warsztaty rozwijają kreatywność\, koncentrację oraz wrażliwość plastyczną. \n\nPiątek 6 lutego\nmiejsce: Klub Delta\, ul. Racławicka 10 \nAkrylowe – zimowe marzenie\nPodczas tych zajęć dzieci stworzą własny zimowy obraz farbami akrylowymi. Nauczą się łączenia kolorów\, budowania kompozycji i pracy warstwowej. To idealna przestrzeń do wyrażenia wyobraźni i odwagi twórczej – bez schematów\, za to z radością tworzenia. \nZapachowe zawieszki\nPodczas warsztatów dzieci poznają świat zapachów i podstawowe elementy aromaterapii. Będą rozpoznawać i łączyć naturalne aromaty oraz własnoręcznie wykonają zapachowe zawieszki z naturalnych składników\, takich jak suszona lawenda. Zajęcia rozwijają zmysł węchu\, uważność oraz kreatywność. \nKino na poduchach\nW swobodnej atmosferze oglądamy film na dużym ekranie. \n— \nHarmonogram dnia w Klubie Delta (ul. Racławicka 10):\n8.00-8.30 | świetlica – czas na gry i swobodne zabawy\n8.30-9.00 | śniadanie\n9.00-11.00 | zajęcia\n11.00-13.00 | zajęcia\n13.00-13.30 | obiad\n13.30-15.00 | seans filmowy \nHarmonogram dnia w Miejskim Ośrodku Kultury (ul. Goleniowska 67):\n8.00-8.30 | świetlica – czas na gry i swobodne zabawy\n8.30-9.00 | śniadanie\n9.00-10.30 | zajęcia\n10.30-12.30 | zajęcia\n12.30-13.00 | obiad\n13.00-15.00 | zajęcia
URL:https://mok.szczecin.pl/wydarzenie/przyjazne-ferie-w-dabiu/
LOCATION:Szczecin
CATEGORIES:Wydarzenia
ATTACH;FMTTYPE=image/jpeg:https://mok.szczecin.pl/wp-content/uploads/2026/01/2025-07-MOK-przyjazne-wakacje©Grazyna-Ilowiecka-13-scaled-e1768395390461.jpg
END:VEVENT
END:VCALENDAR