BEGIN:VCALENDAR
VERSION:2.0
PRODID:-//Miejski Ośrodek Kultury w Szczecinie - ECPv6.15.20//NONSGML v1.0//EN
CALSCALE:GREGORIAN
METHOD:PUBLISH
X-WR-CALNAME:Miejski Ośrodek Kultury w Szczecinie
X-ORIGINAL-URL:https://mok.szczecin.pl
X-WR-CALDESC:Wydarzenia dla Miejski Ośrodek Kultury w Szczecinie
REFRESH-INTERVAL;VALUE=DURATION:PT1H
X-Robots-Tag:noindex
X-PUBLISHED-TTL:PT1H
BEGIN:VTIMEZONE
TZID:Europe/Warsaw
BEGIN:DAYLIGHT
TZOFFSETFROM:+0100
TZOFFSETTO:+0200
TZNAME:CEST
DTSTART:20250330T010000
END:DAYLIGHT
BEGIN:STANDARD
TZOFFSETFROM:+0200
TZOFFSETTO:+0100
TZNAME:CET
DTSTART:20251026T010000
END:STANDARD
BEGIN:DAYLIGHT
TZOFFSETFROM:+0100
TZOFFSETTO:+0200
TZNAME:CEST
DTSTART:20260329T010000
END:DAYLIGHT
BEGIN:STANDARD
TZOFFSETFROM:+0200
TZOFFSETTO:+0100
TZNAME:CET
DTSTART:20261025T010000
END:STANDARD
BEGIN:DAYLIGHT
TZOFFSETFROM:+0100
TZOFFSETTO:+0200
TZNAME:CEST
DTSTART:20270328T010000
END:DAYLIGHT
BEGIN:STANDARD
TZOFFSETFROM:+0200
TZOFFSETTO:+0100
TZNAME:CET
DTSTART:20271031T010000
END:STANDARD
END:VTIMEZONE
BEGIN:VEVENT
DTSTART;TZID=Europe/Warsaw:20260125T110000
DTEND;TZID=Europe/Warsaw:20260125T120000
DTSTAMP:20260421T152922
CREATED:20251219T121743Z
LAST-MODIFIED:20251222T160548Z
UID:10000046-1769338800-1769342400@mok.szczecin.pl
SUMMARY:Laboratorium Pana Kleksa - Teatr Kompania Marzeń | spektakl dla dzieci od 5 do 10 lat
DESCRIPTION:Zapraszamy na spektakl „Laboratorium Pana Kleksa” Teatru Kompania Marzeń w niedzielę 25 stycznia o godz. 11:00. Wydarzenie jest przeznaczone dla dzieci od 5 do 10 lat. \nBilety w cenie 25 zł (każde dziecko i każdy opiekun muszą mieć swój bilet)\, do nabycia na portalu kicket.pl \nPan Kleks\, jak wiadomo\, przepada za wynalazkami\, technicznymi nowinkami i wszystkimi niekonwencjonalnymi sposobami ulepszania (niekoniecznie upraszczania) codzienności. Mało kto jednak wie\, że wszelkich badań i innowacji dokonuje się w tajnym laboratorium. Będzie to wycieczka po technologicznym zapleczu Akademii Pana Kleksa. Wraz z szalonym docentem Pigwą i jego niewiele bardziej zrównoważoną asystentką Hegel zaprezentujemy w akcji m.in. ciekły azot\, ciekły tlen\, polimery. Będziemy mrozić\, podpalać i wybuchać\, a wszystko to na styku nauki i czarów. \nWystąpi Teatr Kompania Marzeń\nObsada: Agata „Hegel” Ilnicka\, Jakub Henke \nFot. Grażyna Iłowiecka
URL:https://mok.szczecin.pl/wydarzenie/laboratorium-pana-kleksa-teatr-kompania-marzen-spektakl-dla-dzieci-od-5-do-10-lat/
LOCATION:Klub Delta\, ul. Racławicka 10\, Szczecin\, 70-811\, Poland
CATEGORIES:Wydarzenia
ATTACH;FMTTYPE=image/jpeg:https://mok.szczecin.pl/wp-content/uploads/2025/12/2025-10-15-MOK_Kompania-marzen©Grazyna-Ilowiecka-16-2-scaled-e1766439178155.jpg
END:VEVENT
END:VCALENDAR