BEGIN:VCALENDAR
VERSION:2.0
PRODID:-//Miejski Ośrodek Kultury w Szczecinie - ECPv6.15.20//NONSGML v1.0//EN
CALSCALE:GREGORIAN
METHOD:PUBLISH
X-ORIGINAL-URL:https://mok.szczecin.pl
X-WR-CALDESC:Wydarzenia dla Miejski Ośrodek Kultury w Szczecinie
REFRESH-INTERVAL;VALUE=DURATION:PT1H
X-Robots-Tag:noindex
X-PUBLISHED-TTL:PT1H
BEGIN:VTIMEZONE
TZID:Europe/Warsaw
BEGIN:DAYLIGHT
TZOFFSETFROM:+0100
TZOFFSETTO:+0200
TZNAME:CEST
DTSTART:20250330T010000
END:DAYLIGHT
BEGIN:STANDARD
TZOFFSETFROM:+0200
TZOFFSETTO:+0100
TZNAME:CET
DTSTART:20251026T010000
END:STANDARD
BEGIN:DAYLIGHT
TZOFFSETFROM:+0100
TZOFFSETTO:+0200
TZNAME:CEST
DTSTART:20260329T010000
END:DAYLIGHT
BEGIN:STANDARD
TZOFFSETFROM:+0200
TZOFFSETTO:+0100
TZNAME:CET
DTSTART:20261025T010000
END:STANDARD
BEGIN:DAYLIGHT
TZOFFSETFROM:+0100
TZOFFSETTO:+0200
TZNAME:CEST
DTSTART:20270328T010000
END:DAYLIGHT
BEGIN:STANDARD
TZOFFSETFROM:+0200
TZOFFSETTO:+0100
TZNAME:CET
DTSTART:20271031T010000
END:STANDARD
END:VTIMEZONE
BEGIN:VEVENT
DTSTART;TZID=Europe/Warsaw:20260124T100000
DTEND;TZID=Europe/Warsaw:20260124T140000
DTSTAMP:20260421T152038
CREATED:20251230T135955Z
LAST-MODIFIED:20251230T135955Z
UID:10000061-1769248800-1769263200@mok.szczecin.pl
SUMMARY:Pracownia mozaiki - warsztaty ceramiczne
DESCRIPTION:Jeśli lubisz pracować manualnie i cieszy Cię\, gdy z chaosu wyłania się spójna całość\, to Pracownia mozaiki jest dla Ciebie!  \nKoszt jednorazowego uczestnictwa w warsztacie to 100 zł.\nZapisy prowadzi sekretariat MOK:\nzadzwoń: 91 46 91 639\nlub napisz: sekretariat@mok.szczecin.pl \nPracownia mozaiki to warsztaty\, na które zapraszamy osoby dorosłe i młodzież powyżej 15 roku życia.\nZapraszamy w sobotę 24 stycznia\, spotkanie potrwa od 10.00 do 14.00.
URL:https://mok.szczecin.pl/wydarzenie/pracownia-mozaiki-warsztaty-ceramiczne/
LOCATION:Miejski Ośrodek Kultury\, ul. Goleniowska 67\, Szczecin\, 70-847
CATEGORIES:Wydarzenia
ATTACH;FMTTYPE=image/png:https://mok.szczecin.pl/wp-content/uploads/2025/12/Projekt-bez-nazwy-5-e1767103177782.png
ORGANIZER;CN="Miejski O%C5%9Brodek Kultury w Szczecinie":MAILTO:sekretariat@mok.szczecin.pl
END:VEVENT
BEGIN:VEVENT
DTSTART;TZID=Europe/Warsaw:20260124T173000
DTEND;TZID=Europe/Warsaw:20260124T193000
DTSTAMP:20260421T152038
CREATED:20251219T104720Z
LAST-MODIFIED:20251222T164433Z
UID:10000043-1769275800-1769283000@mok.szczecin.pl
SUMMARY:Dzień Świstaka | Przegląd najlepszych komedii w historii kina | Kino w Klubie Delta
DESCRIPTION:Amerykański magazyn Variety\, najważniejsze wydawnictwo poświęcone kinu\, przygotował listę 100 najlepszych komedii w historii kina. Były to tytuły\, które przetrwały próbę czasu i nie straciły nic na swojej wartości. I coś w tym jest. \nZ listy 100 najlepszych komedii wybraliśmy 3 filmy\, które w styczniu zaprezentujemy w Klubie Delta. Trzydniowy przegląd zamyka tytuł „Dzień Świstaka” w reż. Harolda Ramisa\, na który zapraszamy w sobotę 24 stycznia na godz. 17:30. \nBilety do nabycia przed seansem w Klubie Delta w cenie: 15 zł normalne i 10 zł ulgowe. \nNajsłynniejsza pętla czasowa w historii kina. Najbardziej urocza rola Andie MacDowell. I jedna z najbardziej ikonicznych kreacji Billa Murraya. O „Dniu Świstaka” można powtarzać\, powtarzać i powtarzać wszystko\, co już zostało powiedziane\, a i tak ta komedia broni się swoim świeżym\, bezpretensjonalnym wdziękiem.\nTymczasem życie malkontenta Phila (Murray) wygląda całkiem inaczej – dla zblazowanego prezentera pogody czas staje w miejscu\, zmuszając go do przeżywania na okrągło tego samego\, znienawidzonego dnia. \nPytanie\, czy wszyscy przypadkiem nie żyjemy w dniu świstaka\, robiąc ciągle to samo rok po roku i czy to właśnie uświadomienie sobie powyższego stanu rzeczy nie jest kluczem do wyjścia z pułapki? Czy przez wieczne wybieganie myślami w przyszłość albo rozpamiętywanie przestajemy smakować teraźniejszość? I nigdy nie przeżywamy w pełni naszego „tu i teraz”?\nW swoim podsumowaniu rankingu Variety napisało o tym filmie\, że to „naprawdę jeden z najbardziej precyzyjnie skonstruowanych\, pysznie zawiłych filmów\, jakie kiedykolwiek powstały”.\nCo roku 2 lutego\, obchodzony jest prawdziwy Dzień Świstaka. Film zaprezentujemy na kilka dni przed uroczystością\, która ma miejsce w Punxsutawney w USA. \nMIEJSCE 10. NA LIŚCIE VARIETY\nFilm w wersji oryginalnej z polskim lektorem. \nDZIEŃ ŚWISTAKA (Groundhog Day\, USA 1993\, 101’)\nREŻYSERIA: Harold Ramis\nOBSADA: Bill Murray\, Andie MacDowell \nPrzed filmami tradycyjne wprowadzenia Krzysztofa Spóra – dziennikarza filmowego\, które przybliżą miejsce tych produkcji w 130-letniej historii kina.
URL:https://mok.szczecin.pl/wydarzenie/dzien-swistaka-przeglad-najlepszych-komedii-w-historii-kina-kino-w-klubie-delta/
LOCATION:Klub Delta\, ul. Racławicka 10\, Szczecin\, 70-811\, Poland
CATEGORIES:Wydarzenia
ATTACH;FMTTYPE=image/jpeg:https://mok.szczecin.pl/wp-content/uploads/2025/12/dzien-swistaka-scaled-e1766142584466.jpg
ORGANIZER;CN="Miejski O%C5%9Brodek Kultury w Szczecinie":MAILTO:sekretariat@mok.szczecin.pl
END:VEVENT
END:VCALENDAR