BEGIN:VCALENDAR
VERSION:2.0
PRODID:-//Miejski Ośrodek Kultury w Szczecinie - ECPv6.15.20//NONSGML v1.0//EN
CALSCALE:GREGORIAN
METHOD:PUBLISH
X-WR-CALNAME:Miejski Ośrodek Kultury w Szczecinie
X-ORIGINAL-URL:https://mok.szczecin.pl
X-WR-CALDESC:Wydarzenia dla Miejski Ośrodek Kultury w Szczecinie
REFRESH-INTERVAL;VALUE=DURATION:PT1H
X-Robots-Tag:noindex
X-PUBLISHED-TTL:PT1H
BEGIN:VTIMEZONE
TZID:Europe/Warsaw
BEGIN:DAYLIGHT
TZOFFSETFROM:+0100
TZOFFSETTO:+0200
TZNAME:CEST
DTSTART:20250330T010000
END:DAYLIGHT
BEGIN:STANDARD
TZOFFSETFROM:+0200
TZOFFSETTO:+0100
TZNAME:CET
DTSTART:20251026T010000
END:STANDARD
BEGIN:DAYLIGHT
TZOFFSETFROM:+0100
TZOFFSETTO:+0200
TZNAME:CEST
DTSTART:20260329T010000
END:DAYLIGHT
BEGIN:STANDARD
TZOFFSETFROM:+0200
TZOFFSETTO:+0100
TZNAME:CET
DTSTART:20261025T010000
END:STANDARD
BEGIN:DAYLIGHT
TZOFFSETFROM:+0100
TZOFFSETTO:+0200
TZNAME:CEST
DTSTART:20270328T010000
END:DAYLIGHT
BEGIN:STANDARD
TZOFFSETFROM:+0200
TZOFFSETTO:+0100
TZNAME:CET
DTSTART:20271031T010000
END:STANDARD
END:VTIMEZONE
BEGIN:VEVENT
DTSTART;TZID=Europe/Warsaw:20260122T103000
DTEND;TZID=Europe/Warsaw:20260122T113000
DTSTAMP:20260421T151920
CREATED:20251219T115731Z
LAST-MODIFIED:20260115T144301Z
UID:10000045-1769077800-1769081400@mok.szczecin.pl
SUMMARY:Planeta Delta | zajęcia dla dzieci od 1 do 3 lat
DESCRIPTION:Miejski Ośrodek Kultury zaprasza na zajęcia dedykowane najmłodszym w czwartek 22 stycznia o godz. 10:30. \nBilety w cenie 10 zł (każde dziecko i każdy opiekun muszą mieć swój bilet) do nabycia na portalu kicket.pl \nPlaneta Delta to ogólnorozwojowe zajęcia edukacyjno-animacyjne dla dzieci wieku przedprzedszkolnym\, przebywających w ciągu dnia z bliskim dorosłym w domu.\nPoprzez działania ruchowe\, plastyczne\, teatralne i muzyczne będziemy poznawać świat wokół nas. Nasze spotkania pozwolą dzieciom oswoić się z grupą i osobą prowadzącą zajęcia. Dorośli będą mogli aktywnie towarzyszyć swoim dzieciom\, jednocześnie mając okazję do spotkania i wymiany doświadczeń z pozostałymi dorosłymi. Zajęcia być może zainspirują ich do wspólnych zabaw we własnych domach. \nPlaneta Delta to przestrzeń przyjazna najmłodszym i bliskim im dorosłym.\nZajęcia odbywają się w kameralnej grupie\, trwają ok. 45 minut. Spotykamy się dwa razy w miesiącu. Na salę wchodzimy bez butów – można mieć kapcie lub skarpetki.\nZajęcia prowadzi Magdalena Gardas-Wasilewska – animatorka kultury\, pedagożka teatru. Występuje w przedstawieniach dla dzieci od 1. roku życia – w grupie teatralnej Głowa mała. Jest członkinią Fundacji Tettere\, zajmującej się działaniami artystycznymi i edukacyjnymi na rzecz dzieci\, rodzin i społeczności lokalnych. \nFot. Grażyna Iłowiecka
URL:https://mok.szczecin.pl/wydarzenie/planeta-delta-zajecia-dla-dzieci-od-1-do-3-lat-4/
LOCATION:Klub Delta\, ul. Racławicka 10\, Szczecin\, 70-811\, Poland
CATEGORIES:Wydarzenia
ATTACH;FMTTYPE=image/jpeg:https://mok.szczecin.pl/wp-content/uploads/2025/12/2025-03-06-MOK-Planeta-Delta©Grazyna-Ilowiecka-12-scaled-e1766438978171.jpg
END:VEVENT
BEGIN:VEVENT
DTSTART;TZID=Europe/Warsaw:20260122T173000
DTEND;TZID=Europe/Warsaw:20260122T193000
DTSTAMP:20260421T151920
CREATED:20251219T103155Z
LAST-MODIFIED:20251222T155707Z
UID:10000042-1769103000-1769110200@mok.szczecin.pl
SUMMARY:Pół żartem\, pół serio | Przegląd najlepszych komedii w historii kina | Kino w Klubie Delta
DESCRIPTION:Amerykański magazyn Variety\, najważniejsze wydawnictwo poświęcone kinu\, przygotował listę 100 najlepszych komedii w historii kina. Były to tytuły\, które przetrwały próbę czasu i nie straciły nic na swojej wartości. I coś w tym jest. \nZ listy 100 najlepszych komedii wybraliśmy 3 filmy\, które w styczniu zaprezentujemy w Klubie Delta. Pierwszym z nich jest „Pół żartem\, pół serio” w reż. Billy’ego Wildera\, na który zapraszamy w czwartek 22 stycznia o godz. 17:30. \nBilety do nabycia przed seansem w Klubie Delta w cenie: 15 zł normalne i 10 zł ulgowe. \nJedna z najlepszych komedii w historii kina\, rozgrywająca się w Stanach Zjednoczonych w 1929 r. w czasach prohibicji. Dwaj z trudem wiążący koniec z końcem muzycy przypadkowo wplątują się w porachunki gangów. Jedynym wyjściem staje się dla nich ucieczka\, a najlepiej – zniknięcie. W kobiecych przebraniach angażują się więc do damskiej orkiestry jazzowej\, która wyjeżdża właśnie na występy do Miami. Nie wiedzą jednak\, że właśnie tam wyznaczyli sobie spotkanie bossowie mafijnego podziemia.\nPrzezabawne perypetie bohaterów wypełnione są świetnymi\, dowcipnymi dialogami\, a sytuacyjne gagi nawiązują do najlepszych burlesek okresu kina niemego. Wszystko to sprawia\, że film Wildera oparł się próbie czasu\, bawiąc i rozśmieszając kolejne pokolenia widzów. \nMIEJSCE 2. NA LIŚCIE VARIETY.\nFilm w wersji oryginalnej z polskim lektorem. \nPÓŁ ŻARTEM\, PÓŁ SERIO („Some Like it Hot”\, USA 1959\, 121’)\nREŻYSERIA: Billy Wilder\nOBSADA: Jack Lemmon\, Tony Curtis\, Marilyn Monroe\, George Raft \nPrzed filmami tradycyjne wprowadzenia Krzysztofa Spóra – dziennikarza filmowego\, które przybliżą miejsce tych produkcji w 130-letniej historii kina.
URL:https://mok.szczecin.pl/wydarzenie/pol-zartem-pol-serio-przeglad-najlepszych-komedii-w-historii-kina-kino-w-klubie-delta/
LOCATION:Klub Delta\, ul. Racławicka 10\, Szczecin\, 70-811\, Poland
CATEGORIES:Wydarzenia
ATTACH;FMTTYPE=image/jpeg:https://mok.szczecin.pl/wp-content/uploads/2025/12/monroe-e1766143225263.jpg
END:VEVENT
END:VCALENDAR