BEGIN:VCALENDAR
VERSION:2.0
PRODID:-//Miejski Ośrodek Kultury w Szczecinie - ECPv6.15.20//NONSGML v1.0//EN
CALSCALE:GREGORIAN
METHOD:PUBLISH
X-ORIGINAL-URL:https://mok.szczecin.pl
X-WR-CALDESC:Wydarzenia dla Miejski Ośrodek Kultury w Szczecinie
REFRESH-INTERVAL;VALUE=DURATION:PT1H
X-Robots-Tag:noindex
X-PUBLISHED-TTL:PT1H
BEGIN:VTIMEZONE
TZID:Europe/Warsaw
BEGIN:DAYLIGHT
TZOFFSETFROM:+0100
TZOFFSETTO:+0200
TZNAME:CEST
DTSTART:20250330T010000
END:DAYLIGHT
BEGIN:STANDARD
TZOFFSETFROM:+0200
TZOFFSETTO:+0100
TZNAME:CET
DTSTART:20251026T010000
END:STANDARD
BEGIN:DAYLIGHT
TZOFFSETFROM:+0100
TZOFFSETTO:+0200
TZNAME:CEST
DTSTART:20260329T010000
END:DAYLIGHT
BEGIN:STANDARD
TZOFFSETFROM:+0200
TZOFFSETTO:+0100
TZNAME:CET
DTSTART:20261025T010000
END:STANDARD
BEGIN:DAYLIGHT
TZOFFSETFROM:+0100
TZOFFSETTO:+0200
TZNAME:CEST
DTSTART:20270328T010000
END:DAYLIGHT
BEGIN:STANDARD
TZOFFSETFROM:+0200
TZOFFSETTO:+0100
TZNAME:CET
DTSTART:20271031T010000
END:STANDARD
END:VTIMEZONE
BEGIN:VEVENT
DTSTART;TZID=Europe/Warsaw:20260119T180000
DTEND;TZID=Europe/Warsaw:20260119T200000
DTSTAMP:20260421T152036
CREATED:20251222T195835Z
LAST-MODIFIED:20251222T195835Z
UID:10000058-1768845600-1768852800@mok.szczecin.pl
SUMMARY:Mała ojczyzna hrabiego Zedtwitza - pokaz filmu i spotkanie z twórcami
DESCRIPTION:Zapraszamy na wyjątkowy pokaz filmu dokumentalnego „Mała ojczyzna hrabiego Zedtwitza” (38 min) oraz spotkanie z twórcami. Wydarzenie odbędzie się w poniedziałek 19 stycznia 2026 o godz. 18:00. Wstęp wolny!\nFilm opowiada historię Eryka von Zedtwitza – dyplomaty\, dziennikarza i malarza marynisty\, który w 1926 roku opuścił Monachium i wraz z rodziną zamieszkał w niewielkiej nadmorskiej wiosce Misdroy\, czyli dzisiejszych Międzyzdrojach. To właśnie tam odnalazł swoją „małą ojczyznę”.Przez 39 lat mieszkał i tworzył nad Bałtykiem. Nauczył się języka polskiego\, starał się o polskie obywatelstwo\, żył bardzo skromnie\, utrzymując rodzinę z malowania i sprzedaży obrazów. Namalował ich ponad 2000\, a jego twórczość cieszyła się ogromnym uznaniem – dla mieszkańców Międzyzdrojów i Świnoujścia był „swoim” malarzem. Po śmierci w 1965 roku został pochowany właśnie w Międzyzdrojach.\n\nZdjęcia do filmu realizowano w Szczecinie\, Policach\, Lubinie\, Wicku i Międzyzdrojach. W postać hrabiego Eryka von Zedtwitza wciela się Andrzej Oryl\, a na ekranie pojawiają się także aktorzy Teatru Współczesnego w Szczecinie oraz rekonstruktorzy historyczni.Film powstał w ramach projektu „Życie i twórczość Eryka von Zedtwitza jako przykład wierności małej ojczyźnie…”\, dofinansowanego z Programu Współpracy Interreg VIA Meklemburgia–Pomorze Przednie / Brandenburgia / Polska 2021–2027 oraz z budżetu państwa.Producentem filmu jest Stowarzyszenie SZTUKA – PROMOCJA – EDUKACJA.Patroni medialni: „Kurier Szczeciński” oraz portal wSzczecinie\n\nPo seansie zapraszamy na spotkanie z twórcami filmu i rozmowę o bohaterze\, jego sztuce oraz znaczeniu „małej ojczyzny”.\n\nHelena Kwiatkowska – scenariusz i realizacja filmu.Absolwentka Uniwersytetu Jagiellońskiego. Dziennikarka i autorka filmów dokumentalnych. Była etatową dziennikarką TVP3 Szczecin oraz „Kuriera Szczecińskiego”. Autorka scenariuszy i realizatorka filmów dokumentalnych poświęconych historii Szczecina i regionu\, prezentowanych na publicznych seansach oraz emitowanych w TVP3 i TVP Historia: „I był sobie wieżowiec” (2022)\, „Babska sprawa” (2023)\, „Johannes Quistorp” (2023) oraz „Imperium Stoewerów. Od pralki do limuzyny” (2025). Film „Imperium Stoewerów…” został zakwalifikowany na 52. Ińskie Lato Filmowe oraz festiwal PolenmARkT w Greifswaldzie. W styczniu 2026 roku premierę ma jej piąty film dokumentalny – „Mała ojczyzna hrabiego Zedtwitza”.
URL:https://mok.szczecin.pl/wydarzenie/mala-ojczyzna-hrabiego-zedtwitza-pokaz-filmu-i-spotkanie-z-tworcami/
LOCATION:Klub Delta\, ul. Racławicka 10\, Szczecin\, 70-811\, Poland
CATEGORIES:Wydarzenia
ATTACH;FMTTYPE=image/jpeg:https://mok.szczecin.pl/wp-content/uploads/2025/12/DSCN4850-2-scaled-e1766421124134.jpg
ORGANIZER;CN="Miejski O%C5%9Brodek Kultury w Szczecinie":MAILTO:sekretariat@mok.szczecin.pl
END:VEVENT
END:VCALENDAR