BEGIN:VCALENDAR
VERSION:2.0
PRODID:-//Miejski Ośrodek Kultury w Szczecinie - ECPv6.15.20//NONSGML v1.0//EN
CALSCALE:GREGORIAN
METHOD:PUBLISH
X-ORIGINAL-URL:https://mok.szczecin.pl
X-WR-CALDESC:Wydarzenia dla Miejski Ośrodek Kultury w Szczecinie
REFRESH-INTERVAL;VALUE=DURATION:PT1H
X-Robots-Tag:noindex
X-PUBLISHED-TTL:PT1H
BEGIN:VTIMEZONE
TZID:Europe/Warsaw
BEGIN:DAYLIGHT
TZOFFSETFROM:+0100
TZOFFSETTO:+0200
TZNAME:CEST
DTSTART:20250330T010000
END:DAYLIGHT
BEGIN:STANDARD
TZOFFSETFROM:+0200
TZOFFSETTO:+0100
TZNAME:CET
DTSTART:20251026T010000
END:STANDARD
BEGIN:DAYLIGHT
TZOFFSETFROM:+0100
TZOFFSETTO:+0200
TZNAME:CEST
DTSTART:20260329T010000
END:DAYLIGHT
BEGIN:STANDARD
TZOFFSETFROM:+0200
TZOFFSETTO:+0100
TZNAME:CET
DTSTART:20261025T010000
END:STANDARD
BEGIN:DAYLIGHT
TZOFFSETFROM:+0100
TZOFFSETTO:+0200
TZNAME:CEST
DTSTART:20270328T010000
END:DAYLIGHT
BEGIN:STANDARD
TZOFFSETFROM:+0200
TZOFFSETTO:+0100
TZNAME:CET
DTSTART:20271031T010000
END:STANDARD
END:VTIMEZONE
BEGIN:VEVENT
DTSTART;TZID=Europe/Warsaw:20260108T103000
DTEND;TZID=Europe/Warsaw:20260108T113000
DTSTAMP:20260421T152013
CREATED:20251219T114717Z
LAST-MODIFIED:20251222T155107Z
UID:10000044-1767868200-1767871800@mok.szczecin.pl
SUMMARY:Planeta Delta | zajęcia dla dzieci od 1 do 3 lat
DESCRIPTION:Miejski Ośrodek Kultury zaprasza na zajęcia dedykowane najmłodszym. Pierwsze zajęcia w roku 2026 w czwartek 8 stycznia o godz. 10:30. \nBilety w cenie 10 zł (każde dziecko i każdy opiekun muszą mieć swój bilet)\, do nabycia na portalu kicket.pl \nPlaneta Delta to ogólnorozwojowe zajęcia edukacyjno-animacyjne dla dzieci wieku przedprzedszkolnym\, przebywających w ciągu dnia z bliskim dorosłym w domu.\nPoprzez działania ruchowe\, plastyczne\, teatralne i muzyczne będziemy poznawać świat wokół nas. Nasze spotkania pozwolą dzieciom oswoić się z grupą i osobą prowadzącą zajęcia. Dorośli będą mogli aktywnie towarzyszyć swoim dzieciom\, jednocześnie mając okazję do spotkania i wymiany doświadczeń z pozostałymi dorosłymi. Zajęcia być może zainspirują ich do wspólnych zabaw we własnych domach. \nPlaneta Delta to przestrzeń przyjazna najmłodszym i bliskim im dorosłym.\nZajęcia odbywają się w kameralnej grupie\, trwają ok. 45 minut. Spotykamy się dwa razy w miesiącu. Na salę wchodzimy bez butów – można mieć kapcie lub skarpetki.\nZajęcia prowadzi Magdalena Gardas-Wasilewska – animatorka kultury\, pedagożka teatru. Występuje w przedstawieniach dla dzieci od 1. roku życia – w grupie teatralnej Głowa mała. Jest członkinią Fundacji Tettere\, zajmującej się działaniami artystycznymi i edukacyjnymi na rzecz dzieci\, rodzin i społeczności lokalnych. \nFot. Grażyna Iłowiecka
URL:https://mok.szczecin.pl/wydarzenie/planeta-delta-zajecia-dla-dzieci-od-1-do-3-lat-3/
LOCATION:Klub Delta\, ul. Racławicka 10\, Szczecin\, 70-811\, Poland
CATEGORIES:Wydarzenia
ATTACH;FMTTYPE=image/jpeg:https://mok.szczecin.pl/wp-content/uploads/2025/12/2025-03-06-MOK-Planeta-Delta©Grazyna-Ilowiecka-12-scaled-e1766438978171.jpg
END:VEVENT
BEGIN:VEVENT
DTSTART;TZID=Europe/Warsaw:20260108T173000
DTEND;TZID=Europe/Warsaw:20260108T193000
DTSTAMP:20260421T152013
CREATED:20251219T095152Z
LAST-MODIFIED:20251222T152834Z
UID:10000040-1767893400-1767900600@mok.szczecin.pl
SUMMARY:Państwo Rose | Kino w Klubie Delta
DESCRIPTION:W czwartek 8 stycznia 2026 o godz. 17:30 zapraszamy na seans w ramach cyklu Kino w Klubie Delta. Wspólnie obejrzymy film „Państwo Rose”. \nBilety do nabycia przed seansem w Klubie Delta w cenie: 15 zł normalne i 10 zł ulgowe. \n„Państwo Rose” to nowoczesna reinterpretacja filmu z 1989 roku pt.: „Wojna państwa Rose”\, opartego na powieści Warrena Adlera.\nŻycie Ivy (Olivia Colman) i Theo (Benedict Cumberbatch) na pierwszy rzut oka wydaje się być spełnionym snem: zawodowe sukcesy\, udane małżeństwo\, cudowne dzieci. Jednak gdy kariera Theo zaczyna gwałtownie podupadać\, a zawodowe ambicje Ivy rozkwitają\, między małżonkami wybucha zaciekła rywalizacja podszyta skrywanymi od dawna pretensjami.\nReżyserem filmu jest Jay Roach („Gorący temat”\, „Poznaj mojego tatę”)\, a w rolach głównych występują zdobywczyni Oscara® i Emmy® Olivia Colman oraz nominowany do Oscara® Benedict Cumberbatch. \nWersja filmu z polskimi napisami. \nPAŃSTWO ROSE (The Roses\, Wielka Brytania/USA/Australia 2025\, 106’)\nREŻYSERIA: Jay Roach\nOBSADA: Benedict Cumberbatch\, Olivia Colman\, Allison Janney \nSeanse filmowe w Klubie Delta poprzedza spotkanie z Krzysztofem Spórem – dziennikarzem filmowym\, który wprowadza w temat prezentowanego filmu\, specjalnie na tę okoliczność przygotowaną prelekcją.
URL:https://mok.szczecin.pl/wydarzenie/panstwo-rose-kino-w-klubie-delta/
LOCATION:Klub Delta\, ul. Racławicka 10\, Szczecin\, 70-811\, Poland
CATEGORIES:Wydarzenia
ATTACH;FMTTYPE=image/jpeg:https://mok.szczecin.pl/wp-content/uploads/2025/12/rose-1-e1766143468817.jpg
END:VEVENT
END:VCALENDAR