BEGIN:VCALENDAR
VERSION:2.0
PRODID:-//Miejski Ośrodek Kultury w Szczecinie - ECPv6.15.20//NONSGML v1.0//EN
CALSCALE:GREGORIAN
METHOD:PUBLISH
X-ORIGINAL-URL:https://mok.szczecin.pl
X-WR-CALDESC:Wydarzenia dla Miejski Ośrodek Kultury w Szczecinie
REFRESH-INTERVAL;VALUE=DURATION:PT1H
X-Robots-Tag:noindex
X-PUBLISHED-TTL:PT1H
BEGIN:VTIMEZONE
TZID:Europe/Warsaw
BEGIN:DAYLIGHT
TZOFFSETFROM:+0100
TZOFFSETTO:+0200
TZNAME:CEST
DTSTART:20240331T010000
END:DAYLIGHT
BEGIN:STANDARD
TZOFFSETFROM:+0200
TZOFFSETTO:+0100
TZNAME:CET
DTSTART:20241027T010000
END:STANDARD
BEGIN:DAYLIGHT
TZOFFSETFROM:+0100
TZOFFSETTO:+0200
TZNAME:CEST
DTSTART:20250330T010000
END:DAYLIGHT
BEGIN:STANDARD
TZOFFSETFROM:+0200
TZOFFSETTO:+0100
TZNAME:CET
DTSTART:20251026T010000
END:STANDARD
BEGIN:DAYLIGHT
TZOFFSETFROM:+0100
TZOFFSETTO:+0200
TZNAME:CEST
DTSTART:20260329T010000
END:DAYLIGHT
BEGIN:STANDARD
TZOFFSETFROM:+0200
TZOFFSETTO:+0100
TZNAME:CET
DTSTART:20261025T010000
END:STANDARD
END:VTIMEZONE
BEGIN:VEVENT
DTSTART;TZID=Europe/Warsaw:20251220T110000
DTEND;TZID=Europe/Warsaw:20251220T133000
DTSTAMP:20260421T165945
CREATED:20251218T111556Z
LAST-MODIFIED:20251218T111923Z
UID:10000038-1766228400-1766237400@mok.szczecin.pl
SUMMARY:Zabawa Mikołajkowa dla dzieci z Radą Osiedla Dąbie
DESCRIPTION:Czy wierzycie w św. Mikołaja? My tak i dlatego wraz z Radą Osiedla Dąbie serdecznie zapraszamy na Zabawę Mikołajkową\, która odbędzie się u nas w sobotę\, w godz. 11:00-13:15. \nObiecujemy świąteczne tańce i zabawy z elfami\, słodki poczęstunek\, zdjęcie z prawdziwym Mikołajem\, brokatowe tatuaże\noraz wiele innych atrakcji. \n20 grudnia (sobota)\n11.00–13.15\nKlub Delta\, ul. Racławicka 10 \nPoczujmy razem magię zbliżających się Świąt.\nDo zobaczenia! \nFot. Grażyna Iłowiecka
URL:https://mok.szczecin.pl/wydarzenie/zabawa-mikolajkowa-dla-dzieci-z-rada-osiedla-dabie/
CATEGORIES:Wydarzenia
ATTACH;FMTTYPE=image/jpeg:https://mok.szczecin.pl/wp-content/uploads/2025/12/2024-11-13_MOK-Kasia-Brzozowska©Grazyna-Ilowiecka-26-scaled.jpg
END:VEVENT
END:VCALENDAR