BEGIN:VCALENDAR
VERSION:2.0
PRODID:-//Miejski Ośrodek Kultury w Szczecinie - ECPv6.15.20//NONSGML v1.0//EN
CALSCALE:GREGORIAN
METHOD:PUBLISH
X-WR-CALNAME:Miejski Ośrodek Kultury w Szczecinie
X-ORIGINAL-URL:https://mok.szczecin.pl
X-WR-CALDESC:Wydarzenia dla Miejski Ośrodek Kultury w Szczecinie
REFRESH-INTERVAL;VALUE=DURATION:PT1H
X-Robots-Tag:noindex
X-PUBLISHED-TTL:PT1H
BEGIN:VTIMEZONE
TZID:Europe/Warsaw
BEGIN:DAYLIGHT
TZOFFSETFROM:+0100
TZOFFSETTO:+0200
TZNAME:CEST
DTSTART:20240331T010000
END:DAYLIGHT
BEGIN:STANDARD
TZOFFSETFROM:+0200
TZOFFSETTO:+0100
TZNAME:CET
DTSTART:20241027T010000
END:STANDARD
BEGIN:DAYLIGHT
TZOFFSETFROM:+0100
TZOFFSETTO:+0200
TZNAME:CEST
DTSTART:20250330T010000
END:DAYLIGHT
BEGIN:STANDARD
TZOFFSETFROM:+0200
TZOFFSETTO:+0100
TZNAME:CET
DTSTART:20251026T010000
END:STANDARD
BEGIN:DAYLIGHT
TZOFFSETFROM:+0100
TZOFFSETTO:+0200
TZNAME:CEST
DTSTART:20260329T010000
END:DAYLIGHT
BEGIN:STANDARD
TZOFFSETFROM:+0200
TZOFFSETTO:+0100
TZNAME:CET
DTSTART:20261025T010000
END:STANDARD
END:VTIMEZONE
BEGIN:VEVENT
DTSTART;TZID=Europe/Warsaw:20251211T180000
DTEND;TZID=Europe/Warsaw:20251211T180000
DTSTAMP:20260421T171611
CREATED:20251126T203906Z
LAST-MODIFIED:20251126T205111Z
UID:10000033-1765476000-1765476000@mok.szczecin.pl
SUMMARY:Shorashim | Pokaz filmu i spotkanie z twórcami
DESCRIPTION:Shorashim czyli korzenie – to tytuł filmu dokumentalnego szczecińskich twórców Kingi Konieczny i Pawła Sroki\, który zagości na naszym ekranie. Seansowi towarzyszyć będzie rozmowa z twórcami filmu. Wstęp wolny! \nTo dokument o nieobecnej w świadomości współczesnych mieszkańców Szczecina zagładzie społeczności żydowskiej miasta\, która dokonała się w mroźną lutową noc 1940 r. Była to deportacja szczególna – Hanna Arendt w swojej książce „Eichmann w Jerozolimie” nazwała ją wprawką. Wprawką do zagłady. Wywieziono wówczas ponad 1100 osób z terenu rejencji szczecińskiej. Zniknęli w jedną noc. Bezszelestnie. \nW tym transporcie byli też Max i Rosa Nelke\, szczecińscy mieszczanie\, dziadkowie Petera\, którego historię opowiada film. Peter stara się o uczczenie pamięci swoich dziadków przez wmurowanie Kamieni Pamięci – Stolpersteinów w szczeciński bruk\, przed kamienicą\, w której mieszkali i skąd ich wywieziono na śmierć. Kamera towarzyszy mu w odkrywaniu śladów jego dziadków. \n„Czy ci\, którzy zostali w Szczecinie zadawali sobie pytanie\, co się stało z naszymi sąsiadami? Zniknęli. Zostały po nich mieszkania. Ani w Szczecinie\, ani w Lublinie za bardzo nie dostrzeżono tego wydarzenia”.\nprof. Adam Kopciowski \nKontekst współczesny: mechanizm zagłady znany z II wojny światowej wciąż się powtarza\, niezależnie od szerokości geograficznej\, także dziś\, jakbyśmy się niczego jako ludzkość nie uczyli. Dziś\, w czasie wojny\, która trwa tuż za naszą granicą\, a także w Gazie\, ma to szczególny wydźwięk. Wiemy\, czym skończył się ów eksperyment zapoczątkowany mroźną lutową nocą 1940 r. w Szczecinie. Holokaust nie spadł z nieba\, co podkreśla Marian Turski\, więzień Auschwitz\, przestrzegając\, aby nie być obojętnym\, bo potwór – jak zauważa z kolei prof. Eryk Krasucki – znów podnosi głowę. \n Twórcy filmu \nReżyseria i scenariusz filmu: Kinga Konieczny i Paweł Sroka. Oboje są szczecinianami. \nKinga Konieczny – reporterka\, autorka\, szczecinianka z urodzenia i wyboru. Autorka niezliczonych artykułów o Szczecinie i jego mieszkańcach oraz publikacji dotyczących tożsamości miasta a także niemieckich mieszkańców przedwojennego Szczecina. Przez wiele lat związana ze szczecińską redakcją Gazety Wyborczej. Jej reportaże znalazły się m.in. w zbiorze „Z Archiwum Sz. Śladem szczecińskich historii niezwykłych”\, jest współautorką przewodników „Plażownik Zachodni” oraz „50 cudów Pomorza Zachodniego”. Ze Stowarzyszeniem Czas Przestrzeń Tożsamość wydała dwie reporterskie książki\, realizowane razem z fotografikiem Andrzejem Łazowskim: przywołującą historie szczecińskich autochtonów „A ty zostaniesz ze mną” (umieszczona przez Książnicę Pomorską wśród 75 najważniejszych szczecińskich publikacji) oraz „Matki Solidarności” o kobietach szczecińskiego podziemia. Jest też autorką książek dla dzieci. Zaangażowana społecznie w pomoc osobom z chorobami otępiennymi oraz ich bliskim w ramach fundacji „Co z mamą?”\, którą prowadzi. \nPaweł Sroka – germanista z wykształcenia\, operator kamery\, fotograf\, montażysta. Absolwent Masterclass Acting&Film Production Lubuskiej Szkoły Telewizji i Filmu. Od wielu lat związany z filmem i fotografią\, założyciel marki Green Box zajmującej się od 2011 produkcją filmową. Autor\, producent lub koproducent licznych filmów reklamowych\, spotów telewizyjnych i filmów krótkometrażowych. Autor zdjęć do wielu teledysków\, m.in. takich artystów\, jak: Łona&Webber\, Bubliczki\, Chango\, Catz&Dog. Zaangażowany w produkcję dwóch pełnometrażowych filmów dokumentalnych: „Pragnienie Piękna” w reż. M. Gaudencio oraz „Happy Olo” w reż. M. Macuka i P. Bogocza. \nSpotkanie poprowadzi Krzysztof Spór – dziennikarz filmowy\, publicysta i bloger\, członek polskiej komisji oscarowej. \nWydarzenie odbywa się w ramach projektu „80 lat kultury na obrzeżach”. Dofinansowano ze środków Gminy Miasto Szczecin.
URL:https://mok.szczecin.pl/wydarzenie/shorashim-pokaz-filmu-i-spotkanie-z-tworcami/
LOCATION:Klub Delta\, ul. Racławicka 10\, Szczecin\, 70-811\, Poland
CATEGORIES:Wydarzenia
ATTACH;FMTTYPE=image/jpeg:https://mok.szczecin.pl/wp-content/uploads/2025/11/2025-12-11-Shorashim-e1764189496355.jpg
ORGANIZER;CN="Miejski O%C5%9Brodek Kultury w Szczecinie":MAILTO:sekretariat@mok.szczecin.pl
END:VEVENT
END:VCALENDAR