BEGIN:VCALENDAR
VERSION:2.0
PRODID:-//Miejski Ośrodek Kultury w Szczecinie - ECPv6.15.20//NONSGML v1.0//EN
CALSCALE:GREGORIAN
METHOD:PUBLISH
X-ORIGINAL-URL:https://mok.szczecin.pl
X-WR-CALDESC:Wydarzenia dla Miejski Ośrodek Kultury w Szczecinie
REFRESH-INTERVAL;VALUE=DURATION:PT1H
X-Robots-Tag:noindex
X-PUBLISHED-TTL:PT1H
BEGIN:VTIMEZONE
TZID:Europe/Warsaw
BEGIN:DAYLIGHT
TZOFFSETFROM:+0100
TZOFFSETTO:+0200
TZNAME:CEST
DTSTART:20240331T010000
END:DAYLIGHT
BEGIN:STANDARD
TZOFFSETFROM:+0200
TZOFFSETTO:+0100
TZNAME:CET
DTSTART:20241027T010000
END:STANDARD
BEGIN:DAYLIGHT
TZOFFSETFROM:+0100
TZOFFSETTO:+0200
TZNAME:CEST
DTSTART:20250330T010000
END:DAYLIGHT
BEGIN:STANDARD
TZOFFSETFROM:+0200
TZOFFSETTO:+0100
TZNAME:CET
DTSTART:20251026T010000
END:STANDARD
BEGIN:DAYLIGHT
TZOFFSETFROM:+0100
TZOFFSETTO:+0200
TZNAME:CEST
DTSTART:20260329T010000
END:DAYLIGHT
BEGIN:STANDARD
TZOFFSETFROM:+0200
TZOFFSETTO:+0100
TZNAME:CET
DTSTART:20261025T010000
END:STANDARD
END:VTIMEZONE
BEGIN:VEVENT
DTSTART;TZID=Europe/Warsaw:20251208T180000
DTEND;TZID=Europe/Warsaw:20251208T180000
DTSTAMP:20260421T165947
CREATED:20251126T202405Z
LAST-MODIFIED:20251126T202405Z
UID:10000032-1765216800-1765216800@mok.szczecin.pl
SUMMARY:Adam Zadworny: Heweliusz - tajemnica katastrofy na Bałtyku
DESCRIPTION:Zapraszamy na spotkanie o mrocznej historii z naszego regionu. Gościem będzie Adam Zadworny – dziennikarz\, autor książki „Heweliusz. Tajemnica katastrofy na Bałtyku”. Wstęp wolny! \n„Mayday\, mayday! Jan Heweliusz” – kapitan nadaje komunikat\, który na całym świecie oznacza wezwanie pomocy na morzu. Jest 14 stycznia 1993 roku\, godzina 4.36. Prom coraz bardziej pogrąża się w wodzie i staje się jasne\, że to ostatnie chwile na ucieczkę. \nAdam Zadworny opowiada historię największej katastrofy morskiej w powojennej Polsce: z ponad sześćdziesięciu osób\, które były na promie\, przeżyło zaledwie dziewięć – wyłącznie załoga. Próbując ustalić\, co się stało\, przegląda stare akta\, szuka ocalałych marynarzy\, rozmawia z rodzinami ofiar i ekspertami\, dociera nawet do ówczesnych decydentów. Interesuje go nie tylko przebieg katastrofy\, którą odtwarza niemal minuta po minucie\, ale także mozolne śledztwo w tej sprawie i skrywana historia promu. \nAdam Zadworny (ur. 1967) – dziennikarz\, reporter\, od 1990 roku związany z „Gazetą Wyborczą”\, wcześniej współpracownik pism drugiego obiegu. Autor książek „Heweliusz. Tajemnica katastrofy na Bałtyku”\, „Bałuka jestem…”\, „Szpiedzy w Szczecinie” i „Psy z Karbali. Dziesięć razy Irak” (wraz z Marcinem Górką)\, współautor alternatywnego przewodnika „Zrób to w Szczecinie”. Jego reportaże znalazły się w zbiorach „Z Archiwum Sz. Śladem szczecińskich historii niezwykłych XX wieku”\, „Morze i ziemia. Antologia reportaży z Pomorza”. \nRozmowę poprowadzi Krzysztof Lichtblau (Pan od książek). \n  \nWydarzenie odbywa się w ramach projektu „80 lat kultury na obrzeżach”. Dofinansowano ze środków Gminy Miasto Szczecin.
URL:https://mok.szczecin.pl/wydarzenie/adam-zadworny-heweliusz-tajemnica-katastrofy-na-baltyku/
LOCATION:Klub Delta\, ul. Racławicka 10\, Szczecin\, 70-811\, Poland
CATEGORIES:Wydarzenia
ATTACH;FMTTYPE=image/jpeg:https://mok.szczecin.pl/wp-content/uploads/2025/11/486352756_1055708909938236_139221364097431627_n-e1764188603288.jpg
ORGANIZER;CN="Miejski O%C5%9Brodek Kultury w Szczecinie":MAILTO:sekretariat@mok.szczecin.pl
END:VEVENT
END:VCALENDAR