BEGIN:VCALENDAR
VERSION:2.0
PRODID:-//Miejski Ośrodek Kultury w Szczecinie - ECPv6.15.20//NONSGML v1.0//EN
CALSCALE:GREGORIAN
METHOD:PUBLISH
X-WR-CALNAME:Miejski Ośrodek Kultury w Szczecinie
X-ORIGINAL-URL:https://mok.szczecin.pl
X-WR-CALDESC:Wydarzenia dla Miejski Ośrodek Kultury w Szczecinie
REFRESH-INTERVAL;VALUE=DURATION:PT1H
X-Robots-Tag:noindex
X-PUBLISHED-TTL:PT1H
BEGIN:VTIMEZONE
TZID:Europe/Warsaw
BEGIN:DAYLIGHT
TZOFFSETFROM:+0100
TZOFFSETTO:+0200
TZNAME:CEST
DTSTART:20240331T010000
END:DAYLIGHT
BEGIN:STANDARD
TZOFFSETFROM:+0200
TZOFFSETTO:+0100
TZNAME:CET
DTSTART:20241027T010000
END:STANDARD
BEGIN:DAYLIGHT
TZOFFSETFROM:+0100
TZOFFSETTO:+0200
TZNAME:CEST
DTSTART:20250330T010000
END:DAYLIGHT
BEGIN:STANDARD
TZOFFSETFROM:+0200
TZOFFSETTO:+0100
TZNAME:CET
DTSTART:20251026T010000
END:STANDARD
BEGIN:DAYLIGHT
TZOFFSETFROM:+0100
TZOFFSETTO:+0200
TZNAME:CEST
DTSTART:20260329T010000
END:DAYLIGHT
BEGIN:STANDARD
TZOFFSETFROM:+0200
TZOFFSETTO:+0100
TZNAME:CET
DTSTART:20261025T010000
END:STANDARD
END:VTIMEZONE
BEGIN:VEVENT
DTSTART;TZID=Europe/Warsaw:20251201T180000
DTEND;TZID=Europe/Warsaw:20251201T180000
DTSTAMP:20260421T165841
CREATED:20251126T134933Z
LAST-MODIFIED:20251126T141343Z
UID:10000027-1764612000-1764612000@mok.szczecin.pl
SUMMARY:Pokaz filmów Atelier filmowe 60 plus
DESCRIPTION:Finałowe wydarzenie zamykające projekt: „Atelier filmowe 60 plus – warsztaty twórcze”\, zrealizowany przez Annę Wiśniewską. Wstęp wolny! \nZobaczymy następujące filmy: \n\n Scena filmowa zrealizowana przez seniorki i seniorów – uczestniczących w warsztatach twórczych Atelier filmowe 60 plus.\n Film dokumentalny „Plusy i minusy na emeryturze”\, reż. Anna Wiśniewska\, Krzysztof Kuźnicki (30 minut)\n\nPo projekcji odbędzie się rozmowa z twórcami filmów. \n  \nWydarzenie współfinansowane ze środków Miasta Szczecin\, w ramach programu „Partnerstwo dla kultury”.
URL:https://mok.szczecin.pl/wydarzenie/pokaz-filmow-atelier-filmowe-60-plus/
LOCATION:Klub Delta\, ul. Racławicka 10\, Szczecin\, 70-811\, Poland
CATEGORIES:Wydarzenia
ATTACH;FMTTYPE=image/jpeg:https://mok.szczecin.pl/wp-content/uploads/2025/11/2025-12-01-pokaz-filmu-Atelier-60-plus.jpg
ORGANIZER;CN="Miejski O%C5%9Brodek Kultury w Szczecinie":MAILTO:sekretariat@mok.szczecin.pl
END:VEVENT
END:VCALENDAR