BEGIN:VCALENDAR
VERSION:2.0
PRODID:-//Miejski Ośrodek Kultury w Szczecinie - ECPv6.15.20//NONSGML v1.0//EN
CALSCALE:GREGORIAN
METHOD:PUBLISH
X-WR-CALNAME:Miejski Ośrodek Kultury w Szczecinie
X-ORIGINAL-URL:https://mok.szczecin.pl
X-WR-CALDESC:Wydarzenia dla Miejski Ośrodek Kultury w Szczecinie
REFRESH-INTERVAL;VALUE=DURATION:PT1H
X-Robots-Tag:noindex
X-PUBLISHED-TTL:PT1H
BEGIN:VTIMEZONE
TZID:Europe/Warsaw
BEGIN:DAYLIGHT
TZOFFSETFROM:+0100
TZOFFSETTO:+0200
TZNAME:CEST
DTSTART:20240331T010000
END:DAYLIGHT
BEGIN:STANDARD
TZOFFSETFROM:+0200
TZOFFSETTO:+0100
TZNAME:CET
DTSTART:20241027T010000
END:STANDARD
BEGIN:DAYLIGHT
TZOFFSETFROM:+0100
TZOFFSETTO:+0200
TZNAME:CEST
DTSTART:20250330T010000
END:DAYLIGHT
BEGIN:STANDARD
TZOFFSETFROM:+0200
TZOFFSETTO:+0100
TZNAME:CET
DTSTART:20251026T010000
END:STANDARD
BEGIN:DAYLIGHT
TZOFFSETFROM:+0100
TZOFFSETTO:+0200
TZNAME:CEST
DTSTART:20260329T010000
END:DAYLIGHT
BEGIN:STANDARD
TZOFFSETFROM:+0200
TZOFFSETTO:+0100
TZNAME:CET
DTSTART:20261025T010000
END:STANDARD
END:VTIMEZONE
BEGIN:VEVENT
DTSTART;TZID=Europe/Warsaw:20251129T180000
DTEND;TZID=Europe/Warsaw:20251129T180000
DTSTAMP:20260421T183808
CREATED:20251121T204128Z
LAST-MODIFIED:20251126T203440Z
UID:10000022-1764439200-1764439200@mok.szczecin.pl
SUMMARY:Andrzejki w Delcie | Eva Sand
DESCRIPTION:Zapraszamy na andrzejkową potańcówkę w Delcie z muzyką na żywo! Zaśpiewa i poprowadzi zabawy andrzejkowe znakomita szczecińska wokalista Eva Sand. Jeśli jeszcze nie znacie tej artystki o porywającej energii i mocnym głosie\, to nasza zabawa będzie znakomitą okazją do nadrobienia zaległości. Wstęp wolny! \nSzykujcie wygodne buty\, bo nie zabraknie okazji do tańca. Usłyszymy największe przeboje takich artystów jak Krystyna Prońko\, Anna Jantar\, Eugeniusz Bodo\, Karin Stanek czy Maryla Rodowicz. \nWystąpią:\nEva Sand – prowadzenie\, wokal\nRadosław Winczewski – instrumenty klawiszowe \n  \n\nEva Sand do charyzmatyczna wokalistka i songwriterka wspierana przez Marszałka Województwa Zachodniopomorskiego. W tym roku z partnerstwem Pomorza Zachodniego wydała debiutancką płytę. Album zasłynął z singla „Morza”- który szeroko odbił się w województwie. Występowała u boku takich artystów jak Marek Dyjak\, Michał Grobelny\, Kasia Buja-Kazuba\, Olek Różanek czy Grzegorz Wilk. \n\nRadosław Winczewski – pianista\, perkusista\, konferansjer. Ponad 20 lat na szczecińskiej scenie muzycznej. Współpracował min z Teatrem Polskim\, Teatrem Lalek Pleciuga\, SAA\, wieloma szczecińskimi zespołami i wokalistami. Ostatnimi czasy perkusista Keitha Tynes’a z zespołu The Platters. \nWydarzenie odbywa się w ramach projektu „80 lat kultury na obrzeżach”. Dofinansowano ze środków Gminy Miasto Szczecin. \n 
URL:https://mok.szczecin.pl/wydarzenie/andrzejki-w-delcie-eva-sand/
LOCATION:Klub Delta\, ul. Racławicka 10\, Szczecin\, 70-811\, Poland
CATEGORIES:Wydarzenia
ATTACH;FMTTYPE=image/jpeg:https://mok.szczecin.pl/wp-content/uploads/2025/11/DSC_4051.jpeg
ORGANIZER;CN="Miejski O%C5%9Brodek Kultury w Szczecinie":MAILTO:sekretariat@mok.szczecin.pl
END:VEVENT
END:VCALENDAR